BEGIN:VCALENDAR
VERSION:2.0
PRODID:-//Käerjeng - ECPv6.15.17.1//NONSGML v1.0//EN
CALSCALE:GREGORIAN
METHOD:PUBLISH
X-WR-CALNAME:Käerjeng
X-ORIGINAL-URL:https://www.kaerjeng.lu
X-WR-CALDESC:Évènements pour Käerjeng
REFRESH-INTERVAL;VALUE=DURATION:PT1H
X-Robots-Tag:noindex
X-PUBLISHED-TTL:PT1H
BEGIN:VTIMEZONE
TZID:Europe/Luxembourg
BEGIN:DAYLIGHT
TZOFFSETFROM:+0100
TZOFFSETTO:+0200
TZNAME:CEST
DTSTART:20190331T010000
END:DAYLIGHT
BEGIN:STANDARD
TZOFFSETFROM:+0200
TZOFFSETTO:+0100
TZNAME:CET
DTSTART:20191027T010000
END:STANDARD
BEGIN:DAYLIGHT
TZOFFSETFROM:+0100
TZOFFSETTO:+0200
TZNAME:CEST
DTSTART:20200329T010000
END:DAYLIGHT
BEGIN:STANDARD
TZOFFSETFROM:+0200
TZOFFSETTO:+0100
TZNAME:CET
DTSTART:20201025T010000
END:STANDARD
BEGIN:DAYLIGHT
TZOFFSETFROM:+0100
TZOFFSETTO:+0200
TZNAME:CEST
DTSTART:20210328T010000
END:DAYLIGHT
BEGIN:STANDARD
TZOFFSETFROM:+0200
TZOFFSETTO:+0100
TZNAME:CET
DTSTART:20211031T010000
END:STANDARD
END:VTIMEZONE
BEGIN:VEVENT
DTSTART;TZID=Europe/Luxembourg:20200626T190000
DTEND;TZID=Europe/Luxembourg:20200626T220000
DTSTAMP:20260422T082417
CREATED:20200211T081906Z
LAST-MODIFIED:20200211T081906Z
UID:10000635-1593198000-1593208800@www.kaerjeng.lu
SUMMARY:Assemblée générale - U.N. Käerjeng' 97
DESCRIPTION:
URL:https://www.kaerjeng.lu/evenement/assemblee-generale-19/
LOCATION:Bascharage – Um Dribbel
ATTACH;FMTTYPE=image/png:https://www.kaerjeng.lu/wp-content/uploads/2020/05/event.png
END:VEVENT
BEGIN:VEVENT
DTSTART;VALUE=DATE:20200509
DTEND;VALUE=DATE:20200510
DTSTAMP:20260422T082417
CREATED:20200207T144117Z
LAST-MODIFIED:20200207T144117Z
UID:10000666-1588982400-1589068799@www.kaerjeng.lu
SUMMARY:Family Day - U.N. Käerjeng'97
DESCRIPTION:Fussball Family Day
URL:https://www.kaerjeng.lu/evenement/family-day/
LOCATION:Bascharage – Um Dribbel
ATTACH;FMTTYPE=image/png:https://www.kaerjeng.lu/wp-content/uploads/2020/05/event.png
END:VEVENT
BEGIN:VEVENT
DTSTART;VALUE=DATE:20200222
DTEND;VALUE=DATE:20200224
DTSTAMP:20260422T082417
CREATED:20200207T093153Z
LAST-MODIFIED:20200207T093153Z
UID:10000630-1582329600-1582502399@www.kaerjeng.lu
SUMMARY:Club Cup
DESCRIPTION:
URL:https://www.kaerjeng.lu/evenement/club-cup/
ATTACH;FMTTYPE=image/png:https://www.kaerjeng.lu/wp-content/uploads/2020/05/event.png
END:VEVENT
END:VCALENDAR