BEGIN:VCALENDAR
VERSION:2.0
PRODID:-//Käerjeng - ECPv6.15.17.1//NONSGML v1.0//EN
CALSCALE:GREGORIAN
METHOD:PUBLISH
X-WR-CALNAME:Käerjeng
X-ORIGINAL-URL:https://www.kaerjeng.lu
X-WR-CALDESC:Évènements pour Käerjeng
REFRESH-INTERVAL;VALUE=DURATION:PT1H
X-Robots-Tag:noindex
X-PUBLISHED-TTL:PT1H
BEGIN:VTIMEZONE
TZID:Europe/Luxembourg
BEGIN:DAYLIGHT
TZOFFSETFROM:+0100
TZOFFSETTO:+0200
TZNAME:CEST
DTSTART:20190331T010000
END:DAYLIGHT
BEGIN:STANDARD
TZOFFSETFROM:+0200
TZOFFSETTO:+0100
TZNAME:CET
DTSTART:20191027T010000
END:STANDARD
BEGIN:DAYLIGHT
TZOFFSETFROM:+0100
TZOFFSETTO:+0200
TZNAME:CEST
DTSTART:20200329T010000
END:DAYLIGHT
BEGIN:STANDARD
TZOFFSETFROM:+0200
TZOFFSETTO:+0100
TZNAME:CET
DTSTART:20201025T010000
END:STANDARD
BEGIN:DAYLIGHT
TZOFFSETFROM:+0100
TZOFFSETTO:+0200
TZNAME:CEST
DTSTART:20210328T010000
END:DAYLIGHT
BEGIN:STANDARD
TZOFFSETFROM:+0200
TZOFFSETTO:+0100
TZNAME:CET
DTSTART:20211031T010000
END:STANDARD
BEGIN:DAYLIGHT
TZOFFSETFROM:+0100
TZOFFSETTO:+0200
TZNAME:CEST
DTSTART:20220327T010000
END:DAYLIGHT
BEGIN:STANDARD
TZOFFSETFROM:+0200
TZOFFSETTO:+0100
TZNAME:CET
DTSTART:20221030T010000
END:STANDARD
BEGIN:DAYLIGHT
TZOFFSETFROM:+0100
TZOFFSETTO:+0200
TZNAME:CEST
DTSTART:20230326T010000
END:DAYLIGHT
BEGIN:STANDARD
TZOFFSETFROM:+0200
TZOFFSETTO:+0100
TZNAME:CET
DTSTART:20231029T010000
END:STANDARD
BEGIN:DAYLIGHT
TZOFFSETFROM:+0100
TZOFFSETTO:+0200
TZNAME:CEST
DTSTART:20240331T010000
END:DAYLIGHT
BEGIN:STANDARD
TZOFFSETFROM:+0200
TZOFFSETTO:+0100
TZNAME:CET
DTSTART:20241027T010000
END:STANDARD
BEGIN:DAYLIGHT
TZOFFSETFROM:+0100
TZOFFSETTO:+0200
TZNAME:CEST
DTSTART:20250330T010000
END:DAYLIGHT
BEGIN:STANDARD
TZOFFSETFROM:+0200
TZOFFSETTO:+0100
TZNAME:CET
DTSTART:20251026T010000
END:STANDARD
BEGIN:DAYLIGHT
TZOFFSETFROM:+0100
TZOFFSETTO:+0200
TZNAME:CEST
DTSTART:20260329T010000
END:DAYLIGHT
BEGIN:STANDARD
TZOFFSETFROM:+0200
TZOFFSETTO:+0100
TZNAME:CET
DTSTART:20261025T010000
END:STANDARD
END:VTIMEZONE
BEGIN:VEVENT
DTSTART;VALUE=DATE:20250905
DTEND;VALUE=DATE:20250908
DTSTAMP:20260424T160222
CREATED:20250115T102941Z
LAST-MODIFIED:20250716T070220Z
UID:10001493-1757030400-1757289599@www.kaerjeng.lu
SUMMARY:Jugend-Cup - UN Käerjeng'97
DESCRIPTION:
URL:https://www.kaerjeng.lu/evenement/jugend-cup-un-kaerjeng97-3/
LOCATION:Bascharage – Um Dribbel
CATEGORIES:Agenda
ATTACH;FMTTYPE=image/jpeg:https://www.kaerjeng.lu/wp-content/uploads/2025/01/Jugend-Cup-2025.jpg
END:VEVENT
BEGIN:VEVENT
DTSTART;TZID=Europe/Luxembourg:20250712T100000
DTEND;TZID=Europe/Luxembourg:20250712T170000
DTSTAMP:20260424T160222
CREATED:20250702T095109Z
LAST-MODIFIED:20250702T095109Z
UID:10001559-1752314400-1752339600@www.kaerjeng.lu
SUMMARY:Funky League - U.N. Käerjeng'97
DESCRIPTION:
URL:https://www.kaerjeng.lu/evenement/funky-league-u-n-kaerjeng97/
LOCATION:Bascharage – Um Dribbel
CATEGORIES:Agenda
ATTACH;FMTTYPE=image/jpeg:https://www.kaerjeng.lu/wp-content/uploads/2025/07/Affiche-Funky-League.jpeg
END:VEVENT
BEGIN:VEVENT
DTSTART;TZID=Europe/Luxembourg:20250705T100000
DTEND;TZID=Europe/Luxembourg:20250705T120000
DTSTAMP:20260424T160222
CREATED:20250115T084709Z
LAST-MODIFIED:20250115T084709Z
UID:10001473-1751709600-1751716800@www.kaerjeng.lu
SUMMARY:Assemblée générale - UN Käerjeng'97
DESCRIPTION:
URL:https://www.kaerjeng.lu/evenement/assemblee-generale-un-kaerjeng97-2/
LOCATION:Bascharage – Um Dribbel
CATEGORIES:Agenda
ATTACH;FMTTYPE=image/jpeg:https://www.kaerjeng.lu/wp-content/uploads/2021/08/AG.jpg
END:VEVENT
BEGIN:VEVENT
DTSTART;TZID=Europe/Luxembourg:20250201T150000
DTEND;TZID=Europe/Luxembourg:20250201T220000
DTSTAMP:20260424T160222
CREATED:20241217T133104Z
LAST-MODIFIED:20250128T124600Z
UID:10001390-1738422000-1738447200@www.kaerjeng.lu
SUMMARY:Après-Ski Party - U.N. Käerjeng'97
DESCRIPTION:
URL:https://www.kaerjeng.lu/evenement/apres-ski-party-u-n-kaerjeng97/
LOCATION:Bascharage – Um Dribbel
CATEGORIES:Agenda
ATTACH;FMTTYPE=image/jpeg:https://www.kaerjeng.lu/wp-content/uploads/2025/01/IMG-20250128-WA0000.jpg
END:VEVENT
BEGIN:VEVENT
DTSTART;TZID=Europe/Luxembourg:20250111T090000
DTEND;TZID=Europe/Luxembourg:20250112T190000
DTSTAMP:20260424T160222
CREATED:20241217T125951Z
LAST-MODIFIED:20250107T105841Z
UID:10001376-1736586000-1736708400@www.kaerjeng.lu
SUMMARY:Club-Cup - UN Käerjeng'97
DESCRIPTION:
URL:https://www.kaerjeng.lu/evenement/club-cup-un-kaerjeng97-2/
LOCATION:Bascharage – Um Dribbel
CATEGORIES:Agenda
END:VEVENT
BEGIN:VEVENT
DTSTART;VALUE=DATE:20220909
DTEND;VALUE=DATE:20220912
DTSTAMP:20260424T160222
CREATED:20220718T074250Z
LAST-MODIFIED:20220829T092707Z
UID:10001008-1662681600-1662940799@www.kaerjeng.lu
SUMMARY:Jugend-Cup - UN Käerjeng'97
DESCRIPTION:
URL:https://www.kaerjeng.lu/evenement/jugend-cup-un-kaerjeng97/
LOCATION:Bascharage – Um Dribbel
CATEGORIES:Agenda
ATTACH;FMTTYPE=image/jpeg:https://www.kaerjeng.lu/wp-content/uploads/2022/08/Jugend-Cup-2022.jpg
END:VEVENT
BEGIN:VEVENT
DTSTART;TZID=Europe/Luxembourg:20220717T140000
DTEND;TZID=Europe/Luxembourg:20220717T220000
DTSTAMP:20260424T160222
CREATED:20220614T093011Z
LAST-MODIFIED:20220614T093011Z
UID:10000989-1658066400-1658095200@www.kaerjeng.lu
SUMMARY:Mémorial Jos. Bloes / Jean Justen - UN Käerjeng'97
DESCRIPTION:
URL:https://www.kaerjeng.lu/evenement/memorial-jos-bloes-jean-justen-un-kaerjeng97/
LOCATION:Bascharage – Um Dribbel
CATEGORIES:Agenda
ATTACH;FMTTYPE=image/jpeg:https://www.kaerjeng.lu/wp-content/uploads/2020/10/event.jpg
END:VEVENT
BEGIN:VEVENT
DTSTART;TZID=Europe/Luxembourg:20220716T183000
DTEND;TZID=Europe/Luxembourg:20220716T230000
DTSTAMP:20260424T160222
CREATED:20220614T092332Z
LAST-MODIFIED:20220614T092332Z
UID:10000987-1657996200-1658012400@www.kaerjeng.lu
SUMMARY:25 Joer UN Käerjeng'97 - UN Käerjeng'97
DESCRIPTION:
URL:https://www.kaerjeng.lu/evenement/25-joer-un-kaerjeng97-un-kaerjeng97/
LOCATION:Käerjenger Treff\, 54c\, avenue de Luxembourg\, Bascharage\, Luxembourg
CATEGORIES:Agenda
ATTACH;FMTTYPE=image/jpeg:https://www.kaerjeng.lu/wp-content/uploads/2020/10/event.jpg
END:VEVENT
BEGIN:VEVENT
DTSTART;VALUE=DATE:20220509
DTEND;VALUE=DATE:20220510
DTSTAMP:20260424T160222
CREATED:20220314T132054Z
LAST-MODIFIED:20220314T132054Z
UID:10000944-1652054400-1652140799@www.kaerjeng.lu
SUMMARY:Family Day - UN Käerjeng'97
DESCRIPTION:
URL:https://www.kaerjeng.lu/evenement/family-day-un-kaerjeng97/
LOCATION:Bascharage – Um Dribbel
CATEGORIES:Agenda
ATTACH;FMTTYPE=image/jpeg:https://www.kaerjeng.lu/wp-content/uploads/2020/10/event.jpg
END:VEVENT
BEGIN:VEVENT
DTSTART;TZID=Europe/Luxembourg:20220418T090000
DTEND;TZID=Europe/Luxembourg:20220418T170000
DTSTAMP:20260424T160222
CREATED:20220415T134139Z
LAST-MODIFIED:20220415T134139Z
UID:10000951-1650272400-1650301200@www.kaerjeng.lu
SUMMARY:OuschterCup - U.N. Käerjeng'97
DESCRIPTION:
URL:https://www.kaerjeng.lu/evenement/ouschtercup-u-n-kaerjeng97/
LOCATION:Bascharage – Um Dribbel
CATEGORIES:Agenda
ATTACH;FMTTYPE=image/jpeg:https://www.kaerjeng.lu/wp-content/uploads/2020/10/event.jpg
END:VEVENT
BEGIN:VEVENT
DTSTART;TZID=Europe/Luxembourg:20210930T180000
DTEND;TZID=Europe/Luxembourg:20210930T210000
DTSTAMP:20260424T160222
CREATED:20210813T151149Z
LAST-MODIFIED:20210813T151149Z
UID:10000842-1633024800-1633035600@www.kaerjeng.lu
SUMMARY:Fussball U17 Luxembourg - Kosovo
DESCRIPTION:
URL:https://www.kaerjeng.lu/evenement/fussball-u17-luxembourg-kosovo/
LOCATION:Bascharage – Um Dribbel
CATEGORIES:Agenda
ATTACH;FMTTYPE=image/jpeg:https://www.kaerjeng.lu/wp-content/uploads/2020/10/event.jpg
END:VEVENT
BEGIN:VEVENT
DTSTART;TZID=Europe/Luxembourg:20210927T180000
DTEND;TZID=Europe/Luxembourg:20210927T210000
DTSTAMP:20260424T160222
CREATED:20210813T151055Z
LAST-MODIFIED:20210813T151620Z
UID:10000840-1632765600-1632776400@www.kaerjeng.lu
SUMMARY:Fussball U17 Luxembourg - Georgie
DESCRIPTION:
URL:https://www.kaerjeng.lu/evenement/fussball-u17-luxembourg-georgie/
LOCATION:Bascharage – Um Dribbel
CATEGORIES:Agenda
ATTACH;FMTTYPE=image/jpeg:https://www.kaerjeng.lu/wp-content/uploads/2020/10/event.jpg
END:VEVENT
BEGIN:VEVENT
DTSTART;TZID=Europe/Luxembourg:20210924T180000
DTEND;TZID=Europe/Luxembourg:20210924T220000
DTSTAMP:20260424T160222
CREATED:20210813T150950Z
LAST-MODIFIED:20210813T150950Z
UID:10000838-1632506400-1632520800@www.kaerjeng.lu
SUMMARY:Fussball U17 Kosovo - Georgie
DESCRIPTION:
URL:https://www.kaerjeng.lu/evenement/fussball-u17-kosovo-georgie/
LOCATION:Bascharage – Um Dribbel
CATEGORIES:Agenda
ATTACH;FMTTYPE=image/jpeg:https://www.kaerjeng.lu/wp-content/uploads/2020/10/event.jpg
END:VEVENT
BEGIN:VEVENT
DTSTART;TZID=Europe/Luxembourg:20210912T100000
DTEND;TZID=Europe/Luxembourg:20210912T220000
DTSTAMP:20260424T160222
CREATED:20210812T131730Z
LAST-MODIFIED:20210818T125808Z
UID:10000824-1631440800-1631484000@www.kaerjeng.lu
SUMMARY:Jugend-Cup - U.N. Käerjeng'97
DESCRIPTION:
URL:https://www.kaerjeng.lu/evenement/jugend-cup-u-n-kaerjeng97-4/
LOCATION:Bascharage – Um Dribbel
CATEGORIES:Agenda
ATTACH;FMTTYPE=image/jpeg:https://www.kaerjeng.lu/wp-content/uploads/2021/08/Jugendcup.jpg
END:VEVENT
BEGIN:VEVENT
DTSTART;TZID=Europe/Luxembourg:20210911T100000
DTEND;TZID=Europe/Luxembourg:20210911T210000
DTSTAMP:20260424T160222
CREATED:20210813T141952Z
LAST-MODIFIED:20210818T125743Z
UID:10000829-1631354400-1631394000@www.kaerjeng.lu
SUMMARY:Jugend-Cup – U.N. Käerjeng’97
DESCRIPTION:
URL:https://www.kaerjeng.lu/evenement/jugend-cup-u-n-kaerjeng97-3/
LOCATION:Bascharage – Um Dribbel
CATEGORIES:Agenda
ATTACH;FMTTYPE=image/jpeg:https://www.kaerjeng.lu/wp-content/uploads/2021/08/Jugendcup.jpg
END:VEVENT
BEGIN:VEVENT
DTSTART;TZID=Europe/Luxembourg:20210910T183000
DTEND;TZID=Europe/Luxembourg:20210910T193000
DTSTAMP:20260424T160222
CREATED:20210812T130819Z
LAST-MODIFIED:20210818T123715Z
UID:10000823-1631298600-1631302200@www.kaerjeng.lu
SUMMARY:Assemblée générale - U.N. Käerjeng'97
DESCRIPTION:
URL:https://www.kaerjeng.lu/evenement/assemblee-generale-u-n-kaerjeng97/
LOCATION:Bascharage – Um Dribbel
CATEGORIES:Agenda
ATTACH;FMTTYPE=image/jpeg:https://www.kaerjeng.lu/wp-content/uploads/2021/08/AG.jpg
END:VEVENT
BEGIN:VEVENT
DTSTART;VALUE=DATE:20210702
DTEND;VALUE=DATE:20210706
DTSTAMP:20260424T160222
CREATED:20210615T081644Z
LAST-MODIFIED:20210630T062100Z
UID:10000791-1625184000-1625446799@www.kaerjeng.lu
SUMMARY:Bëschfest - U.N. Käerjeng'97
DESCRIPTION:
URL:https://www.kaerjeng.lu/evenement/beschfest-u-n-kaerjeng97/
LOCATION:Käerjenger Treff\, 54c\, avenue de Luxembourg\, Bascharage\, Luxembourg
CATEGORIES:Agenda
ATTACH;FMTTYPE=image/jpeg:https://www.kaerjeng.lu/wp-content/uploads/2020/10/event.jpg
END:VEVENT
BEGIN:VEVENT
DTSTART;TZID=Europe/Luxembourg:20200719T160000
DTEND;TZID=Europe/Luxembourg:20200719T190000
DTSTAMP:20260424T160222
CREATED:20200211T084327Z
LAST-MODIFIED:20200211T084327Z
UID:10000710-1595174400-1595185200@www.kaerjeng.lu
SUMMARY:Mémorial Jean Justen a Jos Bloes
DESCRIPTION:
URL:https://www.kaerjeng.lu/evenement/memorial-jean-justen-a-jos-bloes-2/
LOCATION:Bascharage – Um Dribbel
ATTACH;FMTTYPE=image/png:https://www.kaerjeng.lu/wp-content/uploads/2020/05/event.png
END:VEVENT
BEGIN:VEVENT
DTSTART;TZID=Europe/Luxembourg:20200715T193000
DTEND;TZID=Europe/Luxembourg:20200716T220000
DTSTAMP:20260424T160222
CREATED:20200211T083937Z
LAST-MODIFIED:20200211T083937Z
UID:10000707-1594841400-1594936800@www.kaerjeng.lu
SUMMARY:Mémorial Jean Justen a Jos Bloes
DESCRIPTION:
URL:https://www.kaerjeng.lu/evenement/memorial-jean-justen-a-jos-bloes/
LOCATION:Bascharage – Um Dribbel
ATTACH;FMTTYPE=image/png:https://www.kaerjeng.lu/wp-content/uploads/2020/05/event.png
END:VEVENT
END:VCALENDAR