BEGIN:VCALENDAR
VERSION:2.0
PRODID:-//Käerjeng - ECPv6.15.17.1//NONSGML v1.0//EN
CALSCALE:GREGORIAN
METHOD:PUBLISH
X-ORIGINAL-URL:https://www.kaerjeng.lu
X-WR-CALDESC:Évènements pour Käerjeng
REFRESH-INTERVAL;VALUE=DURATION:PT1H
X-Robots-Tag:noindex
X-PUBLISHED-TTL:PT1H
BEGIN:VTIMEZONE
TZID:Europe/Luxembourg
BEGIN:DAYLIGHT
TZOFFSETFROM:+0100
TZOFFSETTO:+0200
TZNAME:CEST
DTSTART:20190331T010000
END:DAYLIGHT
BEGIN:STANDARD
TZOFFSETFROM:+0200
TZOFFSETTO:+0100
TZNAME:CET
DTSTART:20191027T010000
END:STANDARD
BEGIN:DAYLIGHT
TZOFFSETFROM:+0100
TZOFFSETTO:+0200
TZNAME:CEST
DTSTART:20200329T010000
END:DAYLIGHT
BEGIN:STANDARD
TZOFFSETFROM:+0200
TZOFFSETTO:+0100
TZNAME:CET
DTSTART:20201025T010000
END:STANDARD
BEGIN:DAYLIGHT
TZOFFSETFROM:+0100
TZOFFSETTO:+0200
TZNAME:CEST
DTSTART:20210328T010000
END:DAYLIGHT
BEGIN:STANDARD
TZOFFSETFROM:+0200
TZOFFSETTO:+0100
TZNAME:CET
DTSTART:20211031T010000
END:STANDARD
BEGIN:DAYLIGHT
TZOFFSETFROM:+0100
TZOFFSETTO:+0200
TZNAME:CEST
DTSTART:20220327T010000
END:DAYLIGHT
BEGIN:STANDARD
TZOFFSETFROM:+0200
TZOFFSETTO:+0100
TZNAME:CET
DTSTART:20221030T010000
END:STANDARD
BEGIN:DAYLIGHT
TZOFFSETFROM:+0100
TZOFFSETTO:+0200
TZNAME:CEST
DTSTART:20230326T010000
END:DAYLIGHT
BEGIN:STANDARD
TZOFFSETFROM:+0200
TZOFFSETTO:+0100
TZNAME:CET
DTSTART:20231029T010000
END:STANDARD
BEGIN:DAYLIGHT
TZOFFSETFROM:+0100
TZOFFSETTO:+0200
TZNAME:CEST
DTSTART:20240331T010000
END:DAYLIGHT
BEGIN:STANDARD
TZOFFSETFROM:+0200
TZOFFSETTO:+0100
TZNAME:CET
DTSTART:20241027T010000
END:STANDARD
BEGIN:DAYLIGHT
TZOFFSETFROM:+0100
TZOFFSETTO:+0200
TZNAME:CEST
DTSTART:20250330T010000
END:DAYLIGHT
BEGIN:STANDARD
TZOFFSETFROM:+0200
TZOFFSETTO:+0100
TZNAME:CET
DTSTART:20251026T010000
END:STANDARD
BEGIN:DAYLIGHT
TZOFFSETFROM:+0100
TZOFFSETTO:+0200
TZNAME:CEST
DTSTART:20260329T010000
END:DAYLIGHT
BEGIN:STANDARD
TZOFFSETFROM:+0200
TZOFFSETTO:+0100
TZNAME:CET
DTSTART:20261025T010000
END:STANDARD
END:VTIMEZONE
BEGIN:VEVENT
DTSTART;TZID=Europe/Luxembourg:20251212T180000
DTEND;TZID=Europe/Luxembourg:20251213T230000
DTSTAMP:20260422T103908
CREATED:20250129T102303Z
LAST-MODIFIED:20251119T133509Z
UID:10001525-1765562400-1765666800@www.kaerjeng.lu
SUMMARY:Krimi Dinner - Käerjenger Theater
DESCRIPTION:
URL:https://www.kaerjeng.lu/evenement/chreschttheater-kaerjenger-theater/
LOCATION:Käerjenger Treff\, 54c\, avenue de Luxembourg\, Bascharage\, Luxembourg
CATEGORIES:Agenda
ATTACH;FMTTYPE=image/jpeg:https://www.kaerjeng.lu/wp-content/uploads/2025/11/Krimi-Dinner-2025.jpg
END:VEVENT
BEGIN:VEVENT
DTSTART;TZID=Europe/Luxembourg:20250125T103000
DTEND;TZID=Europe/Luxembourg:20250125T120000
DTSTAMP:20260422T103908
CREATED:20241217T131341Z
LAST-MODIFIED:20241217T131341Z
UID:10001385-1737801000-1737806400@www.kaerjeng.lu
SUMMARY:Assemblée générale - Käerjenger Theater
DESCRIPTION:
URL:https://www.kaerjeng.lu/evenement/assemblee-generale-kaerjenger-theater-5/
LOCATION:Käerjenger Treff\, 54c\, avenue de Luxembourg\, Bascharage\, Luxembourg
CATEGORIES:Agenda
ATTACH;FMTTYPE=image/jpeg:https://www.kaerjeng.lu/wp-content/uploads/2021/08/AG.jpg
END:VEVENT
BEGIN:VEVENT
DTSTART;TZID=Europe/Luxembourg:20240317T150000
DTEND;TZID=Europe/Luxembourg:20240317T190000
DTSTAMP:20260422T103908
CREATED:20231109T103615Z
LAST-MODIFIED:20240115T101410Z
UID:10001195-1710687600-1710702000@www.kaerjeng.lu
SUMMARY:Theater Matinée - Käerjenger Theater
DESCRIPTION:
URL:https://www.kaerjeng.lu/evenement/theater-matinee-kaerjenger-theater/
LOCATION:Käerjenger Treff\, 54c\, avenue de Luxembourg\, Bascharage\, Luxembourg
CATEGORIES:Agenda
ATTACH;FMTTYPE=image/jpeg:https://www.kaerjeng.lu/wp-content/uploads/2024/01/Theater-Owend-KT-2024.jpg
END:VEVENT
BEGIN:VEVENT
DTSTART;TZID=Europe/Luxembourg:20240315T200000
DTEND;TZID=Europe/Luxembourg:20240316T230000
DTSTAMP:20260422T103908
CREATED:20231109T103231Z
LAST-MODIFIED:20240115T101338Z
UID:10001193-1710532800-1710630000@www.kaerjeng.lu
SUMMARY:Theater Owend - Käerjenger Theater
DESCRIPTION:
URL:https://www.kaerjeng.lu/evenement/theater-owend-kaerjenger-theater/
LOCATION:Käerjenger Treff\, 54c\, avenue de Luxembourg\, Bascharage\, Luxembourg
CATEGORIES:Agenda
ATTACH;FMTTYPE=image/jpeg:https://www.kaerjeng.lu/wp-content/uploads/2024/01/Theater-Owend-KT-2024.jpg
END:VEVENT
BEGIN:VEVENT
DTSTART;TZID=Europe/Luxembourg:20220507T103000
DTEND;TZID=Europe/Luxembourg:20220507T120000
DTSTAMP:20260422T103908
CREATED:20220314T131007Z
LAST-MODIFIED:20220314T131007Z
UID:10000942-1651919400-1651924800@www.kaerjeng.lu
SUMMARY:Assemblée générale - Käerjenger Theater
DESCRIPTION:
URL:https://www.kaerjeng.lu/evenement/assemblee-generale-kaerjenger-theater-2/
LOCATION:Käerjenger Treff\, 54c\, avenue de Luxembourg\, Bascharage\, Luxembourg
CATEGORIES:Agenda
ATTACH;FMTTYPE=image/jpeg:https://www.kaerjeng.lu/wp-content/uploads/2021/08/AG.jpg
END:VEVENT
BEGIN:VEVENT
DTSTART;TZID=Europe/Luxembourg:20220212T170000
DTEND;TZID=Europe/Luxembourg:20220212T230000
DTSTAMP:20260422T103908
CREATED:20220107T130854Z
LAST-MODIFIED:20220125T100125Z
UID:10000902-1644685200-1644706800@www.kaerjeng.lu
SUMMARY:Krimi Dinner - Käerjenger Theater
DESCRIPTION:
URL:https://www.kaerjeng.lu/evenement/krimi-dinner-kaerjenger-theater/
LOCATION:Käerjenger Treff\, 54c\, avenue de Luxembourg\, Bascharage\, Luxembourg
CATEGORIES:Agenda
ATTACH;FMTTYPE=image/jpeg:https://www.kaerjeng.lu/wp-content/uploads/2022/01/Krimi-Dinner-2022.jpg
END:VEVENT
BEGIN:VEVENT
DTSTART;TZID=Europe/Luxembourg:20211217T200000
DTEND;TZID=Europe/Luxembourg:20211217T230000
DTSTAMP:20260422T103908
CREATED:20211110T140611Z
LAST-MODIFIED:20211206T114412Z
UID:10000877-1639771200-1639782000@www.kaerjeng.lu
SUMMARY:Theaterowend - Käerjenger Theater
DESCRIPTION:
URL:https://www.kaerjeng.lu/evenement/theaterowend-kaerjenger-theater-2/
LOCATION:Käerjenger Treff\, 54c\, avenue de Luxembourg\, Bascharage\, Luxembourg
CATEGORIES:Agenda
ATTACH;FMTTYPE=image/jpeg:https://www.kaerjeng.lu/wp-content/uploads/2021/12/AFFICHE-2021-theater.jpg
END:VEVENT
BEGIN:VEVENT
DTSTART;TZID=Europe/Luxembourg:20211216T200000
DTEND;TZID=Europe/Luxembourg:20211216T230000
DTSTAMP:20260422T103908
CREATED:20211110T140524Z
LAST-MODIFIED:20211206T114335Z
UID:10000875-1639684800-1639695600@www.kaerjeng.lu
SUMMARY:Theaterowend - Käerjenger Theater
DESCRIPTION:
URL:https://www.kaerjeng.lu/evenement/theaterowend-kaerjenger-theater/
LOCATION:Käerjenger Treff\, 54c\, avenue de Luxembourg\, Bascharage\, Luxembourg
CATEGORIES:Agenda
ATTACH;FMTTYPE=image/jpeg:https://www.kaerjeng.lu/wp-content/uploads/2021/12/AFFICHE-2021-theater.jpg
END:VEVENT
BEGIN:VEVENT
DTSTART;TZID=Europe/Luxembourg:20211123T190000
DTEND;TZID=Europe/Luxembourg:20211123T210000
DTSTAMP:20260422T103908
CREATED:20211105T082630Z
LAST-MODIFIED:20211105T082630Z
UID:10000860-1637694000-1637701200@www.kaerjeng.lu
SUMMARY:Assemblée générale - Käerjenger Theater
DESCRIPTION:
URL:https://www.kaerjeng.lu/evenement/assemblee-generale-kaerjenger-theater/
LOCATION:Käerjenger Treff\, 54c\, avenue de Luxembourg\, Bascharage\, Luxembourg
CATEGORIES:Agenda
ATTACH;FMTTYPE=image/jpeg:https://www.kaerjeng.lu/wp-content/uploads/2020/10/event.jpg
END:VEVENT
BEGIN:VEVENT
DTSTART;TZID=Europe/Luxembourg:20211118T193000
DTEND;TZID=Europe/Luxembourg:20211118T230000
DTSTAMP:20260422T103908
CREATED:20211019T122626Z
LAST-MODIFIED:20211116T125352Z
UID:10000758-1637263800-1637276400@www.kaerjeng.lu
SUMMARY:Déckkäpp on Tour - Käerjenger Theater
DESCRIPTION:
URL:https://www.kaerjeng.lu/evenement/deckkapp-on-tour-kaerjenger-theater/
LOCATION:Käerjenger Treff\, 54c\, avenue de Luxembourg\, Bascharage\, Luxembourg
CATEGORIES:Agenda
END:VEVENT
BEGIN:VEVENT
DTSTART;VALUE=DATE:20210723
DTEND;VALUE=DATE:20210727
DTSTAMP:20260422T103908
CREATED:20210615T100101Z
LAST-MODIFIED:20210812T093325Z
UID:10000811-1626998400-1627261199@www.kaerjeng.lu
SUMMARY:Summerfest - Käerjenger Theater
DESCRIPTION:
URL:https://www.kaerjeng.lu/evenement/beschfest-kaerjenger-theater/
LOCATION:Käerjenger Treff\, 54c\, avenue de Luxembourg\, Bascharage\, Luxembourg
CATEGORIES:Agenda
ATTACH;FMTTYPE=image/jpeg:https://www.kaerjeng.lu/wp-content/uploads/2020/10/event.jpg
END:VEVENT
BEGIN:VEVENT
DTSTART;TZID=Europe/Luxembourg:20201119T190000
DTEND;TZID=Europe/Luxembourg:20201119T230000
DTSTAMP:20260422T103908
CREATED:20201009T090253Z
LAST-MODIFIED:20201029T080419Z
UID:10000744-1605812400-1605826800@www.kaerjeng.lu
SUMMARY:ANNULE RTL Déckkäpp
DESCRIPTION:
URL:https://www.kaerjeng.lu/evenement/rtl-deckkapp-2/
LOCATION:Käerjenger Treff\, 54c\, avenue de Luxembourg\, Bascharage\, Luxembourg
ATTACH;FMTTYPE=image/png:https://www.kaerjeng.lu/wp-content/uploads/2020/05/event.png
END:VEVENT
END:VCALENDAR