BEGIN:VCALENDAR
VERSION:2.0
PRODID:-//Käerjeng - ECPv6.15.17.1//NONSGML v1.0//EN
CALSCALE:GREGORIAN
METHOD:PUBLISH
X-ORIGINAL-URL:https://www.kaerjeng.lu
X-WR-CALDESC:Évènements pour Käerjeng
REFRESH-INTERVAL;VALUE=DURATION:PT1H
X-Robots-Tag:noindex
X-PUBLISHED-TTL:PT1H
BEGIN:VTIMEZONE
TZID:Europe/Luxembourg
BEGIN:DAYLIGHT
TZOFFSETFROM:+0100
TZOFFSETTO:+0200
TZNAME:CEST
DTSTART:20200329T010000
END:DAYLIGHT
BEGIN:STANDARD
TZOFFSETFROM:+0200
TZOFFSETTO:+0100
TZNAME:CET
DTSTART:20201025T010000
END:STANDARD
BEGIN:DAYLIGHT
TZOFFSETFROM:+0100
TZOFFSETTO:+0200
TZNAME:CEST
DTSTART:20210328T010000
END:DAYLIGHT
BEGIN:STANDARD
TZOFFSETFROM:+0200
TZOFFSETTO:+0100
TZNAME:CET
DTSTART:20211031T010000
END:STANDARD
BEGIN:DAYLIGHT
TZOFFSETFROM:+0100
TZOFFSETTO:+0200
TZNAME:CEST
DTSTART:20220327T010000
END:DAYLIGHT
BEGIN:STANDARD
TZOFFSETFROM:+0200
TZOFFSETTO:+0100
TZNAME:CET
DTSTART:20221030T010000
END:STANDARD
BEGIN:DAYLIGHT
TZOFFSETFROM:+0100
TZOFFSETTO:+0200
TZNAME:CEST
DTSTART:20230326T010000
END:DAYLIGHT
BEGIN:STANDARD
TZOFFSETFROM:+0200
TZOFFSETTO:+0100
TZNAME:CET
DTSTART:20231029T010000
END:STANDARD
BEGIN:DAYLIGHT
TZOFFSETFROM:+0100
TZOFFSETTO:+0200
TZNAME:CEST
DTSTART:20240331T010000
END:DAYLIGHT
BEGIN:STANDARD
TZOFFSETFROM:+0200
TZOFFSETTO:+0100
TZNAME:CET
DTSTART:20241027T010000
END:STANDARD
BEGIN:DAYLIGHT
TZOFFSETFROM:+0100
TZOFFSETTO:+0200
TZNAME:CEST
DTSTART:20250330T010000
END:DAYLIGHT
BEGIN:STANDARD
TZOFFSETFROM:+0200
TZOFFSETTO:+0100
TZNAME:CET
DTSTART:20251026T010000
END:STANDARD
BEGIN:DAYLIGHT
TZOFFSETFROM:+0100
TZOFFSETTO:+0200
TZNAME:CEST
DTSTART:20260329T010000
END:DAYLIGHT
BEGIN:STANDARD
TZOFFSETFROM:+0200
TZOFFSETTO:+0100
TZNAME:CET
DTSTART:20261025T010000
END:STANDARD
END:VTIMEZONE
BEGIN:VEVENT
DTSTART;TZID=Europe/Luxembourg:20251101T110000
DTEND;TZID=Europe/Luxembourg:20251101T210000
DTSTAMP:20260424T131304
CREATED:20250128T150351Z
LAST-MODIFIED:20251020T075129Z
UID:10001511-1761994800-1762030800@www.kaerjeng.lu
SUMMARY:Minigolf in the dark - JugendTreff Käerjeng
DESCRIPTION:
URL:https://www.kaerjeng.lu/evenement/minigolf-in-the-dark-jugendtreff-kaerjeng-2/
LOCATION:Käerjenger Treff\, 54c\, avenue de Luxembourg\, Bascharage\, Luxembourg
CATEGORIES:Agenda
ATTACH;FMTTYPE=image/jpeg:https://www.kaerjeng.lu/wp-content/uploads/2025/10/Mini-Golf-JugendTreff-2025.jpg
END:VEVENT
BEGIN:VEVENT
DTSTART;TZID=Europe/Luxembourg:20250804T140000
DTEND;TZID=Europe/Luxembourg:20250816T173000
DTSTAMP:20260424T131304
CREATED:20250115T095711Z
LAST-MODIFIED:20250627T083017Z
UID:10001482-1754316000-1755365400@www.kaerjeng.lu
SUMMARY:Car Clean - JugendTreff Käerjeng
DESCRIPTION:
URL:https://www.kaerjeng.lu/evenement/car-clean-jugendtreff-kaerjeng/
LOCATION:Bascharage – Op Acker
CATEGORIES:Agenda
ATTACH;FMTTYPE=image/jpeg:https://www.kaerjeng.lu/wp-content/uploads/2020/10/event.jpg
END:VEVENT
BEGIN:VEVENT
DTSTART;TZID=Europe/Luxembourg:20250202T170000
DTEND;TZID=Europe/Luxembourg:20250202T210000
DTSTAMP:20260424T131304
CREATED:20241217T133348Z
LAST-MODIFIED:20250117T103532Z
UID:10001392-1738515600-1738530000@www.kaerjeng.lu
SUMMARY:Mir gi liichten - JugendTreff Käerjeng
DESCRIPTION:
URL:https://www.kaerjeng.lu/evenement/mir-gi-liichten-jugendtreff-kaerjeng/
LOCATION:Käerjenger Treff\, 54c\, avenue de Luxembourg\, Bascharage\, Luxembourg
CATEGORIES:Agenda
ATTACH;FMTTYPE=image/jpeg:https://www.kaerjeng.lu/wp-content/uploads/2025/01/Mir-gi-liichten-2025-JugendTreff.jpg
END:VEVENT
BEGIN:VEVENT
DTSTART;TZID=Europe/Luxembourg:20240202T180000
DTEND;TZID=Europe/Luxembourg:20240202T210000
DTSTAMP:20260424T131304
CREATED:20231109T093536Z
LAST-MODIFIED:20240117T092603Z
UID:10001179-1706896800-1706907600@www.kaerjeng.lu
SUMMARY:Liichtmessdag	- Jugendtreff Käerjeng
DESCRIPTION:
URL:https://www.kaerjeng.lu/evenement/liichtmessdag-jugendtreff-kaerjeng-2/
LOCATION:Käerjenger Treff\, 54c\, avenue de Luxembourg\, Bascharage\, Luxembourg
CATEGORIES:Agenda
ATTACH;FMTTYPE=image/jpeg:https://www.kaerjeng.lu/wp-content/uploads/2024/01/Liichtmessdag-JugendTreff-2024.jpg
END:VEVENT
BEGIN:VEVENT
DTSTART;TZID=Europe/Luxembourg:20211127T170000
DTEND;TZID=Europe/Luxembourg:20211127T210000
DTSTAMP:20260424T131304
CREATED:20211110T132812Z
LAST-MODIFIED:20211110T132812Z
UID:10000873-1638032400-1638046800@www.kaerjeng.lu
SUMMARY:25 Joer Saba - Jugendtreff Käerjeng
DESCRIPTION:
URL:https://www.kaerjeng.lu/evenement/25-joer-saba-jugendtreff-kaerjeng/
LOCATION:Bascharage Jugendtreff
CATEGORIES:Agenda
ATTACH;FMTTYPE=image/jpeg:https://www.kaerjeng.lu/wp-content/uploads/2020/10/event.jpg
END:VEVENT
BEGIN:VEVENT
DTSTART;TZID=Europe/Luxembourg:20210202T163000
DTEND;TZID=Europe/Luxembourg:20210202T190000
DTSTAMP:20260424T131304
CREATED:20210128T112826Z
LAST-MODIFIED:20210128T130405Z
UID:10000763-1612283400-1612292400@www.kaerjeng.lu
SUMMARY:Liichtmessdag - Jugendtreff Käerjeng
DESCRIPTION:
URL:https://www.kaerjeng.lu/evenement/liichtmessdag-jugendtreff-kaerjeng/
LOCATION:Bascharage Jugendtreff
ATTACH;FMTTYPE=image/jpeg:https://www.kaerjeng.lu/wp-content/uploads/2020/10/event.jpg
END:VEVENT
END:VCALENDAR