BEGIN:VCALENDAR
VERSION:2.0
PRODID:-//Käerjeng - ECPv6.15.17.1//NONSGML v1.0//EN
CALSCALE:GREGORIAN
METHOD:PUBLISH
X-ORIGINAL-URL:https://www.kaerjeng.lu
X-WR-CALDESC:Évènements pour Käerjeng
REFRESH-INTERVAL;VALUE=DURATION:PT1H
X-Robots-Tag:noindex
X-PUBLISHED-TTL:PT1H
BEGIN:VTIMEZONE
TZID:Europe/Luxembourg
BEGIN:DAYLIGHT
TZOFFSETFROM:+0100
TZOFFSETTO:+0200
TZNAME:CEST
DTSTART:20200329T010000
END:DAYLIGHT
BEGIN:STANDARD
TZOFFSETFROM:+0200
TZOFFSETTO:+0100
TZNAME:CET
DTSTART:20201025T010000
END:STANDARD
BEGIN:DAYLIGHT
TZOFFSETFROM:+0100
TZOFFSETTO:+0200
TZNAME:CEST
DTSTART:20210328T010000
END:DAYLIGHT
BEGIN:STANDARD
TZOFFSETFROM:+0200
TZOFFSETTO:+0100
TZNAME:CET
DTSTART:20211031T010000
END:STANDARD
BEGIN:DAYLIGHT
TZOFFSETFROM:+0100
TZOFFSETTO:+0200
TZNAME:CEST
DTSTART:20220327T010000
END:DAYLIGHT
BEGIN:STANDARD
TZOFFSETFROM:+0200
TZOFFSETTO:+0100
TZNAME:CET
DTSTART:20221030T010000
END:STANDARD
BEGIN:DAYLIGHT
TZOFFSETFROM:+0100
TZOFFSETTO:+0200
TZNAME:CEST
DTSTART:20230326T010000
END:DAYLIGHT
BEGIN:STANDARD
TZOFFSETFROM:+0200
TZOFFSETTO:+0100
TZNAME:CET
DTSTART:20231029T010000
END:STANDARD
BEGIN:DAYLIGHT
TZOFFSETFROM:+0100
TZOFFSETTO:+0200
TZNAME:CEST
DTSTART:20240331T010000
END:DAYLIGHT
BEGIN:STANDARD
TZOFFSETFROM:+0200
TZOFFSETTO:+0100
TZNAME:CET
DTSTART:20241027T010000
END:STANDARD
BEGIN:DAYLIGHT
TZOFFSETFROM:+0100
TZOFFSETTO:+0200
TZNAME:CEST
DTSTART:20250330T010000
END:DAYLIGHT
BEGIN:STANDARD
TZOFFSETFROM:+0200
TZOFFSETTO:+0100
TZNAME:CET
DTSTART:20251026T010000
END:STANDARD
BEGIN:DAYLIGHT
TZOFFSETFROM:+0100
TZOFFSETTO:+0200
TZNAME:CEST
DTSTART:20260329T010000
END:DAYLIGHT
BEGIN:STANDARD
TZOFFSETFROM:+0200
TZOFFSETTO:+0100
TZNAME:CET
DTSTART:20261025T010000
END:STANDARD
END:VTIMEZONE
BEGIN:VEVENT
DTSTART;TZID=Europe/Luxembourg:20250928T090000
DTEND;TZID=Europe/Luxembourg:20250928T180000
DTSTAMP:20260422T012052
CREATED:20250115T103125Z
LAST-MODIFIED:20250918T072207Z
UID:10001495-1759050000-1759082400@www.kaerjeng.lu
SUMMARY:Sammler- a Floumaart - HMB Supporters
DESCRIPTION:
URL:https://www.kaerjeng.lu/evenement/sammler-a-floumaart-hmb-supporters-4/
LOCATION:Käerjenger Treff\, 54c\, avenue de Luxembourg\, Bascharage\, Luxembourg
CATEGORIES:Agenda
ATTACH;FMTTYPE=image/jpeg:https://www.kaerjeng.lu/wp-content/uploads/2025/09/Sammler-Bourse-HMB-Sup-2025.jpg
END:VEVENT
BEGIN:VEVENT
DTSTART;TZID=Europe/Luxembourg:20250126T090000
DTEND;TZID=Europe/Luxembourg:20250126T170000
DTSTAMP:20260422T012052
CREATED:20241217T131634Z
LAST-MODIFIED:20241217T131634Z
UID:10001386-1737882000-1737910800@www.kaerjeng.lu
SUMMARY:Sammler- a Floumaart - HMB Supporters
DESCRIPTION:
URL:https://www.kaerjeng.lu/evenement/sammler-a-floumaart-hmb-supporters-3/
LOCATION:Käerjenger Treff\, 54c\, avenue de Luxembourg\, Bascharage\, Luxembourg
CATEGORIES:Agenda
ATTACH;FMTTYPE=image/jpeg:https://www.kaerjeng.lu/wp-content/uploads/2020/10/event.jpg
END:VEVENT
BEGIN:VEVENT
DTSTART;TZID=Europe/Luxembourg:20240128T090000
DTEND;TZID=Europe/Luxembourg:20240128T180000
DTSTAMP:20260422T012052
CREATED:20231109T093133Z
LAST-MODIFIED:20240123T093517Z
UID:10001177-1706432400-1706464800@www.kaerjeng.lu
SUMMARY:Sammler- a Floumaart - HMB Supporters
DESCRIPTION:
URL:https://www.kaerjeng.lu/evenement/sammler-a-floumaart-hmb-supporters/
LOCATION:Käerjenger Treff\, 54c\, avenue de Luxembourg\, Bascharage\, Luxembourg
CATEGORIES:Agenda
ATTACH;FMTTYPE=image/jpeg:https://www.kaerjeng.lu/wp-content/uploads/2024/01/Sammler-Bourse-HMB-Sup-2024.jpg
END:VEVENT
BEGIN:VEVENT
DTSTART;TZID=Europe/Luxembourg:20220918T090000
DTEND;TZID=Europe/Luxembourg:20220918T170000
DTSTAMP:20260422T012052
CREATED:20220718T074344Z
LAST-MODIFIED:20220727T140219Z
UID:10001009-1663491600-1663520400@www.kaerjeng.lu
SUMMARY:Flou- a Sammlertreff - HMB Supporters
DESCRIPTION:
URL:https://www.kaerjeng.lu/evenement/flou-a-sammlertreff-hmb-supporters-2/
LOCATION:Käerjenger Treff\, 54c\, avenue de Luxembourg\, Bascharage\, Luxembourg
CATEGORIES:Agenda
ATTACH;FMTTYPE=image/jpeg:https://www.kaerjeng.lu/wp-content/uploads/2022/07/Floumaart-HMB.jpg
END:VEVENT
BEGIN:VEVENT
DTSTART;TZID=Europe/Luxembourg:20220128T210000
DTEND;TZID=Europe/Luxembourg:20220128T220000
DTSTAMP:20260422T012052
CREATED:20220125T091646Z
LAST-MODIFIED:20220125T091646Z
UID:10000903-1643403600-1643407200@www.kaerjeng.lu
SUMMARY:Assemblée générale - HMB Supporters
DESCRIPTION:
URL:https://www.kaerjeng.lu/evenement/assemblee-generale-hmb-supporters/
LOCATION:Bascharage – Musekschoul
CATEGORIES:Agenda
ATTACH;FMTTYPE=image/jpeg:https://www.kaerjeng.lu/wp-content/uploads/2021/08/AG.jpg
END:VEVENT
BEGIN:VEVENT
DTSTART;TZID=Europe/Luxembourg:20210919T090000
DTEND;TZID=Europe/Luxembourg:20210919T170000
DTSTAMP:20260422T012052
CREATED:20210713T132514Z
LAST-MODIFIED:20210913T085025Z
UID:10000735-1632042000-1632070800@www.kaerjeng.lu
SUMMARY:Flou- a Sammlertreff - HMB Supporters
DESCRIPTION:
URL:https://www.kaerjeng.lu/evenement/flou-a-sammlertreff-hmb-supporters/
LOCATION:Käerjenger Treff\, 54c\, avenue de Luxembourg\, Bascharage\, Luxembourg
CATEGORIES:Agenda
END:VEVENT
END:VCALENDAR