BEGIN:VCALENDAR
VERSION:2.0
PRODID:-//Käerjeng - ECPv6.15.17.1//NONSGML v1.0//EN
CALSCALE:GREGORIAN
METHOD:PUBLISH
X-ORIGINAL-URL:https://www.kaerjeng.lu
X-WR-CALDESC:Évènements pour Käerjeng
REFRESH-INTERVAL;VALUE=DURATION:PT1H
X-Robots-Tag:noindex
X-PUBLISHED-TTL:PT1H
BEGIN:VTIMEZONE
TZID:Europe/Luxembourg
BEGIN:DAYLIGHT
TZOFFSETFROM:+0100
TZOFFSETTO:+0200
TZNAME:CEST
DTSTART:20190331T010000
END:DAYLIGHT
BEGIN:STANDARD
TZOFFSETFROM:+0200
TZOFFSETTO:+0100
TZNAME:CET
DTSTART:20191027T010000
END:STANDARD
BEGIN:DAYLIGHT
TZOFFSETFROM:+0100
TZOFFSETTO:+0200
TZNAME:CEST
DTSTART:20200329T010000
END:DAYLIGHT
BEGIN:STANDARD
TZOFFSETFROM:+0200
TZOFFSETTO:+0100
TZNAME:CET
DTSTART:20201025T010000
END:STANDARD
BEGIN:DAYLIGHT
TZOFFSETFROM:+0100
TZOFFSETTO:+0200
TZNAME:CEST
DTSTART:20210328T010000
END:DAYLIGHT
BEGIN:STANDARD
TZOFFSETFROM:+0200
TZOFFSETTO:+0100
TZNAME:CET
DTSTART:20211031T010000
END:STANDARD
BEGIN:DAYLIGHT
TZOFFSETFROM:+0100
TZOFFSETTO:+0200
TZNAME:CEST
DTSTART:20220327T010000
END:DAYLIGHT
BEGIN:STANDARD
TZOFFSETFROM:+0200
TZOFFSETTO:+0100
TZNAME:CET
DTSTART:20221030T010000
END:STANDARD
BEGIN:DAYLIGHT
TZOFFSETFROM:+0100
TZOFFSETTO:+0200
TZNAME:CEST
DTSTART:20230326T010000
END:DAYLIGHT
BEGIN:STANDARD
TZOFFSETFROM:+0200
TZOFFSETTO:+0100
TZNAME:CET
DTSTART:20231029T010000
END:STANDARD
BEGIN:DAYLIGHT
TZOFFSETFROM:+0100
TZOFFSETTO:+0200
TZNAME:CEST
DTSTART:20240331T010000
END:DAYLIGHT
BEGIN:STANDARD
TZOFFSETFROM:+0200
TZOFFSETTO:+0100
TZNAME:CET
DTSTART:20241027T010000
END:STANDARD
BEGIN:DAYLIGHT
TZOFFSETFROM:+0100
TZOFFSETTO:+0200
TZNAME:CEST
DTSTART:20250330T010000
END:DAYLIGHT
BEGIN:STANDARD
TZOFFSETFROM:+0200
TZOFFSETTO:+0100
TZNAME:CET
DTSTART:20251026T010000
END:STANDARD
BEGIN:DAYLIGHT
TZOFFSETFROM:+0100
TZOFFSETTO:+0200
TZNAME:CEST
DTSTART:20260329T010000
END:DAYLIGHT
BEGIN:STANDARD
TZOFFSETFROM:+0200
TZOFFSETTO:+0100
TZNAME:CET
DTSTART:20261025T010000
END:STANDARD
END:VTIMEZONE
BEGIN:VEVENT
DTSTART;TZID=Europe/Luxembourg:20251129T190000
DTEND;TZID=Europe/Luxembourg:20251129T230000
DTSTAMP:20260422T065423
CREATED:20250129T101903Z
LAST-MODIFIED:20251110T075739Z
UID:10001522-1764442800-1764457200@www.kaerjeng.lu
SUMMARY:Wanterconcert - Harmonie Hautcharage
DESCRIPTION:
URL:https://www.kaerjeng.lu/evenement/wanterconcert-harmonie-hautcharage-5/
LOCATION:Hautcharage – Eglise
CATEGORIES:Agenda
ATTACH;FMTTYPE=image/jpeg:https://www.kaerjeng.lu/wp-content/uploads/2025/11/Wanterconcert-Harmonei-Hautcharage-2025.jpg
END:VEVENT
BEGIN:VEVENT
DTSTART;TZID=Europe/Luxembourg:20251019T113000
DTEND;TZID=Europe/Luxembourg:20251019T180000
DTSTAMP:20260422T065423
CREATED:20250115T104454Z
LAST-MODIFIED:20250924T150637Z
UID:10001506-1760873400-1760896800@www.kaerjeng.lu
SUMMARY:'T ass Kiermes am Duerf - Harmonie Hautcharage
DESCRIPTION:
URL:https://www.kaerjeng.lu/evenement/kiermesconcert-harmonie-hautcharage-2/
LOCATION:Hautcharage – Centre Polyvalent
CATEGORIES:Agenda
ATTACH;FMTTYPE=image/jpeg:https://www.kaerjeng.lu/wp-content/uploads/2025/09/Flyer_Kiermes_A5-Harmonie-Hautcharage-2025_Page_1.jpg
END:VEVENT
BEGIN:VEVENT
DTSTART;TZID=Europe/Luxembourg:20250430T200000
DTEND;TZID=Europe/Luxembourg:20250430T230000
DTSTAMP:20260422T065423
CREATED:20250115T074713Z
LAST-MODIFIED:20250414T080026Z
UID:10001439-1746043200-1746054000@www.kaerjeng.lu
SUMMARY:Gala Concert - Harmonie Hautcharage
DESCRIPTION:
URL:https://www.kaerjeng.lu/evenement/gala-concert-harmonie-hautcharage-2/
LOCATION:Käerjenger Treff\, 54c\, avenue de Luxembourg\, Bascharage\, Luxembourg
CATEGORIES:Agenda
ATTACH;FMTTYPE=image/jpeg:https://www.kaerjeng.lu/wp-content/uploads/2025/04/PosterHH-Gala-2025.jpg
END:VEVENT
BEGIN:VEVENT
DTSTART;TZID=Europe/Luxembourg:20250202T100000
DTEND;TZID=Europe/Luxembourg:20250202T120000
DTSTAMP:20260422T065423
CREATED:20241217T133527Z
LAST-MODIFIED:20241217T133527Z
UID:10001393-1738490400-1738497600@www.kaerjeng.lu
SUMMARY:Assemblée générale - Harmonie Hautcharage
DESCRIPTION:
URL:https://www.kaerjeng.lu/evenement/assemblee-generale-harmonie-hautcharage-4/
LOCATION:Hautcharage – Centre Polyvalent
CATEGORIES:Agenda
ATTACH;FMTTYPE=image/jpeg:https://www.kaerjeng.lu/wp-content/uploads/2021/08/AG.jpg
END:VEVENT
BEGIN:VEVENT
DTSTART;TZID=Europe/Luxembourg:20240225T100000
DTEND;TZID=Europe/Luxembourg:20240225T120000
DTSTAMP:20260422T065423
CREATED:20231109T095408Z
LAST-MODIFIED:20231109T095408Z
UID:10001186-1708855200-1708862400@www.kaerjeng.lu
SUMMARY:Assemblée générale - Harmonie Hautcharage
DESCRIPTION:
URL:https://www.kaerjeng.lu/evenement/assemblee-generale-harmonie-hautcharage-3/
LOCATION:Hautcharage – Centre Polyvalent
CATEGORIES:Agenda
ATTACH;FMTTYPE=image/jpeg:https://www.kaerjeng.lu/wp-content/uploads/2021/08/AG.jpg
END:VEVENT
BEGIN:VEVENT
DTSTART;TZID=Europe/Luxembourg:20240127T200000
DTEND;TZID=Europe/Luxembourg:20240127T230000
DTSTAMP:20260422T065423
CREATED:20231109T092028Z
LAST-MODIFIED:20240123T083548Z
UID:10001175-1706385600-1706396400@www.kaerjeng.lu
SUMMARY:Wanterconcert - Harmonie Hautcharage
DESCRIPTION:
URL:https://www.kaerjeng.lu/evenement/wanterconcert-harmonie-hautcharage-3/
LOCATION:Hautcharage – Centre Polyvalent
CATEGORIES:Agenda
ATTACH;FMTTYPE=image/jpeg:https://www.kaerjeng.lu/wp-content/uploads/2024/01/Flyer-Harmonie-Hautcharage-Wanterconcert.jpg
END:VEVENT
BEGIN:VEVENT
DTSTART;TZID=Europe/Luxembourg:20220430T200000
DTEND;TZID=Europe/Luxembourg:20220430T230000
DTSTAMP:20260422T065423
CREATED:20220314T130457Z
LAST-MODIFIED:20220426T082421Z
UID:10000940-1651348800-1651359600@www.kaerjeng.lu
SUMMARY:Gala Concert - Harmonie Hautcharage
DESCRIPTION:
URL:https://www.kaerjeng.lu/evenement/gala-concert-harmonie-hautcharage/
LOCATION:Käerjenger Treff\, 54c\, avenue de Luxembourg\, Bascharage\, Luxembourg
CATEGORIES:Agenda
ATTACH;FMTTYPE=image/jpeg:https://www.kaerjeng.lu/wp-content/uploads/2022/04/Harmonie-Hautcharage-Gala-Concert-2022.jpg
END:VEVENT
BEGIN:VEVENT
DTSTART;TZID=Europe/Luxembourg:20220206T100000
DTEND;TZID=Europe/Luxembourg:20220206T120000
DTSTAMP:20260422T065423
CREATED:20220107T130613Z
LAST-MODIFIED:20220111T074218Z
UID:10000900-1644141600-1644148800@www.kaerjeng.lu
SUMMARY:Assemblée générale - Harmonie Hautcharage
DESCRIPTION:
URL:https://www.kaerjeng.lu/evenement/assemblee-generale-harmonie-hautcharage-2/
LOCATION:Hautcharage – Centre Polyvalent
CATEGORIES:Agenda
ATTACH;FMTTYPE=image/jpeg:https://www.kaerjeng.lu/wp-content/uploads/2021/08/AG.jpg
END:VEVENT
BEGIN:VEVENT
DTSTART;TZID=Europe/Luxembourg:20211127T200000
DTEND;TZID=Europe/Luxembourg:20211127T230000
DTSTAMP:20260422T065423
CREATED:20211105T082912Z
LAST-MODIFIED:20211115T155913Z
UID:10000862-1638043200-1638054000@www.kaerjeng.lu
SUMMARY:Wanterconcert - Harmonie Hautcharage
DESCRIPTION:
URL:https://www.kaerjeng.lu/evenement/wanterconcert-harmonie-hautcharage/
LOCATION:Käerjenger Treff\, 54c\, avenue de Luxembourg\, Bascharage\, Luxembourg
CATEGORIES:Agenda
END:VEVENT
BEGIN:VEVENT
DTSTART;TZID=Europe/Luxembourg:20211024T113000
DTEND;TZID=Europe/Luxembourg:20211024T130000
DTSTAMP:20260422T065423
CREATED:20211021T070235Z
LAST-MODIFIED:20211021T070235Z
UID:10000760-1635075000-1635080400@www.kaerjeng.lu
SUMMARY:Kiermesconcert mat Apéro - Harmonie Hautcharage
DESCRIPTION:
URL:https://www.kaerjeng.lu/evenement/kiermesconcert-mat-apero-harmonie-hautcharage/
LOCATION:Hautcharage – Centre Polyvalent
CATEGORIES:Agenda
ATTACH;FMTTYPE=image/jpeg:https://www.kaerjeng.lu/wp-content/uploads/2020/10/event.jpg
END:VEVENT
BEGIN:VEVENT
DTSTART;VALUE=DATE:20210709
DTEND;VALUE=DATE:20210713
DTSTAMP:20260422T065423
CREATED:20210615T092439Z
LAST-MODIFIED:20210630T062222Z
UID:10000806-1625788800-1626051599@www.kaerjeng.lu
SUMMARY:Bëschfest - Harmonie Hautcharage
DESCRIPTION:
URL:https://www.kaerjeng.lu/evenement/beschfest-harmonie-hautcharage/
LOCATION:Käerjenger Treff\, 54c\, avenue de Luxembourg\, Bascharage\, Luxembourg
CATEGORIES:Agenda
ATTACH;FMTTYPE=image/jpeg:https://www.kaerjeng.lu/wp-content/uploads/2020/10/event.jpg
END:VEVENT
BEGIN:VEVENT
DTSTART;TZID=Europe/Luxembourg:20210611T200000
DTEND;TZID=Europe/Luxembourg:20210611T220000
DTSTAMP:20260422T065423
CREATED:20210510T141004Z
LAST-MODIFIED:20210510T141004Z
UID:10000781-1623441600-1623448800@www.kaerjeng.lu
SUMMARY:Assemblée générale - Harmonie Hautcharage
DESCRIPTION:
URL:https://www.kaerjeng.lu/evenement/assemblee-generale-harmonie-hautcharage/
LOCATION:2\, rue de l’Ecole – Hautcharage
CATEGORIES:Agenda
ATTACH;FMTTYPE=image/jpeg:https://www.kaerjeng.lu/wp-content/uploads/2020/10/event.jpg
END:VEVENT
BEGIN:VEVENT
DTSTART;TZID=Europe/Luxembourg:20201128T200000
DTEND;TZID=Europe/Luxembourg:20201128T230000
DTSTAMP:20260422T065423
CREATED:20201009T090549Z
LAST-MODIFIED:20201029T094147Z
UID:10000751-1606593600-1606604400@www.kaerjeng.lu
SUMMARY:ANNULE Wanterconcert
DESCRIPTION:
URL:https://www.kaerjeng.lu/evenement/wanterconcert-2/
LOCATION:Käerjenger Treff\, 54c\, avenue de Luxembourg\, Bascharage\, Luxembourg
ATTACH;FMTTYPE=image/png:https://www.kaerjeng.lu/wp-content/uploads/2020/05/event.png
END:VEVENT
END:VCALENDAR