BEGIN:VCALENDAR
VERSION:2.0
PRODID:-//Käerjeng - ECPv6.15.17.1//NONSGML v1.0//EN
CALSCALE:GREGORIAN
METHOD:PUBLISH
X-WR-CALNAME:Käerjeng
X-ORIGINAL-URL:https://www.kaerjeng.lu
X-WR-CALDESC:Évènements pour Käerjeng
REFRESH-INTERVAL;VALUE=DURATION:PT1H
X-Robots-Tag:noindex
X-PUBLISHED-TTL:PT1H
BEGIN:VTIMEZONE
TZID:Europe/Luxembourg
BEGIN:DAYLIGHT
TZOFFSETFROM:+0100
TZOFFSETTO:+0200
TZNAME:CEST
DTSTART:20190331T010000
END:DAYLIGHT
BEGIN:STANDARD
TZOFFSETFROM:+0200
TZOFFSETTO:+0100
TZNAME:CET
DTSTART:20191027T010000
END:STANDARD
BEGIN:DAYLIGHT
TZOFFSETFROM:+0100
TZOFFSETTO:+0200
TZNAME:CEST
DTSTART:20200329T010000
END:DAYLIGHT
BEGIN:STANDARD
TZOFFSETFROM:+0200
TZOFFSETTO:+0100
TZNAME:CET
DTSTART:20201025T010000
END:STANDARD
BEGIN:DAYLIGHT
TZOFFSETFROM:+0100
TZOFFSETTO:+0200
TZNAME:CEST
DTSTART:20210328T010000
END:DAYLIGHT
BEGIN:STANDARD
TZOFFSETFROM:+0200
TZOFFSETTO:+0100
TZNAME:CET
DTSTART:20211031T010000
END:STANDARD
BEGIN:DAYLIGHT
TZOFFSETFROM:+0100
TZOFFSETTO:+0200
TZNAME:CEST
DTSTART:20220327T010000
END:DAYLIGHT
BEGIN:STANDARD
TZOFFSETFROM:+0200
TZOFFSETTO:+0100
TZNAME:CET
DTSTART:20221030T010000
END:STANDARD
BEGIN:DAYLIGHT
TZOFFSETFROM:+0100
TZOFFSETTO:+0200
TZNAME:CEST
DTSTART:20230326T010000
END:DAYLIGHT
BEGIN:STANDARD
TZOFFSETFROM:+0200
TZOFFSETTO:+0100
TZNAME:CET
DTSTART:20231029T010000
END:STANDARD
BEGIN:DAYLIGHT
TZOFFSETFROM:+0100
TZOFFSETTO:+0200
TZNAME:CEST
DTSTART:20240331T010000
END:DAYLIGHT
BEGIN:STANDARD
TZOFFSETFROM:+0200
TZOFFSETTO:+0100
TZNAME:CET
DTSTART:20241027T010000
END:STANDARD
BEGIN:DAYLIGHT
TZOFFSETFROM:+0100
TZOFFSETTO:+0200
TZNAME:CEST
DTSTART:20250330T010000
END:DAYLIGHT
BEGIN:STANDARD
TZOFFSETFROM:+0200
TZOFFSETTO:+0100
TZNAME:CET
DTSTART:20251026T010000
END:STANDARD
BEGIN:DAYLIGHT
TZOFFSETFROM:+0100
TZOFFSETTO:+0200
TZNAME:CEST
DTSTART:20260329T010000
END:DAYLIGHT
BEGIN:STANDARD
TZOFFSETFROM:+0200
TZOFFSETTO:+0100
TZNAME:CET
DTSTART:20261025T010000
END:STANDARD
END:VTIMEZONE
BEGIN:VEVENT
DTSTART;TZID=Europe/Luxembourg:20251018T100000
DTEND;TZID=Europe/Luxembourg:20251018T170000
DTSTAMP:20260422T051329
CREATED:20250115T103933Z
LAST-MODIFIED:20250909T100844Z
UID:10001502-1760781600-1760806800@www.kaerjeng.lu
SUMMARY:Vizfest - Gaart an Heem Uewerkäerjeng
DESCRIPTION:
URL:https://www.kaerjeng.lu/evenement/vizfest-gaart-an-heem-uewerkaerjeng-3/
LOCATION:Hautcharage
CATEGORIES:Agenda
ATTACH;FMTTYPE=image/jpeg:https://www.kaerjeng.lu/wp-content/uploads/2025/09/GanH-Vizfest-251018-Flyer.jpg
END:VEVENT
BEGIN:VEVENT
DTSTART;TZID=Europe/Luxembourg:20251012T090000
DTEND;TZID=Europe/Luxembourg:20251012T170000
DTSTAMP:20260422T051329
CREATED:20250115T103726Z
LAST-MODIFIED:20250909T100947Z
UID:10001500-1760259600-1760288400@www.kaerjeng.lu
SUMMARY:Wëll-Kraiderwanderung - Gaart an Heem Uewerkäerjeng
DESCRIPTION:
URL:https://www.kaerjeng.lu/evenement/hierscht-kraiderwanderung-gaart-an-heem-uewerkaerjeng/
LOCATION:Hautcharage – Centre Polyvalent
CATEGORIES:Agenda
ATTACH;FMTTYPE=image/jpeg:https://www.kaerjeng.lu/wp-content/uploads/2025/09/GanH-Kraiderwanderung-251012-Flyer.jpg
END:VEVENT
BEGIN:VEVENT
DTSTART;TZID=Europe/Luxembourg:20250524T090000
DTEND;TZID=Europe/Luxembourg:20250524T170000
DTSTAMP:20260422T051329
CREATED:20250115T080116Z
LAST-MODIFIED:20250115T080116Z
UID:10001450-1748077200-1748106000@www.kaerjeng.lu
SUMMARY:Fréjoers-Kraiderwanderung - Gaart an Heem Uewerkäerjeng
DESCRIPTION:
URL:https://www.kaerjeng.lu/evenement/frejoers-kraiderwanderung-gaart-an-heem-uewerkaerjeng/
LOCATION:Hautcharage – Centre Polyvalent
CATEGORIES:Agenda
ATTACH;FMTTYPE=image/jpeg:https://www.kaerjeng.lu/wp-content/uploads/2020/10/event.jpg
END:VEVENT
BEGIN:VEVENT
DTSTART;TZID=Europe/Luxembourg:20250322T090000
DTEND;TZID=Europe/Luxembourg:20250322T120000
DTSTAMP:20260422T051329
CREATED:20241217T144603Z
LAST-MODIFIED:20250314T154532Z
UID:10001419-1742634000-1742644800@www.kaerjeng.lu
SUMMARY:Rouseschnëttcours - Gaart an Heem Uewerkäerjeng
DESCRIPTION:
URL:https://www.kaerjeng.lu/evenement/rouseschnettcours-gaart-an-heem-uewerkaerjeng-2/
LOCATION:Hautcharage – Centre Polyvalent
CATEGORIES:Agenda
ATTACH;FMTTYPE=image/jpeg:https://www.kaerjeng.lu/wp-content/uploads/2025/03/GanH@250322-Rouseschnettcours-Flyer-e.jpg
END:VEVENT
BEGIN:VEVENT
DTSTART;VALUE=DATE:20250315
DTEND;VALUE=DATE:20250316
DTSTAMP:20260422T051329
CREATED:20241216T154408Z
LAST-MODIFIED:20241216T161600Z
UID:10001374-1741996800-1742083199@www.kaerjeng.lu
SUMMARY:Praffcours - Gaart an Heem Uewerkäerjeng
DESCRIPTION:
URL:https://www.kaerjeng.lu/evenement/praffcours-gaart-an-heem-uewerkaerjeng/
LOCATION:Hautcharage
CATEGORIES:Agenda
ATTACH;FMTTYPE=image/jpeg:https://www.kaerjeng.lu/wp-content/uploads/2024/12/Praffcours-Gaart-an-Heem-Uewerkaerjeng-2025.jpg
END:VEVENT
BEGIN:VEVENT
DTSTART;TZID=Europe/Luxembourg:20250302T160000
DTEND;TZID=Europe/Luxembourg:20250302T180000
DTSTAMP:20260422T051329
CREATED:20241217T142640Z
LAST-MODIFIED:20241217T142640Z
UID:10001404-1740931200-1740938400@www.kaerjeng.lu
SUMMARY:Assemblée générale - Gaart an Heem Uewerkäerjeng
DESCRIPTION:
URL:https://www.kaerjeng.lu/evenement/assemblee-generale-gaart-an-heem-uewerkaerjeng-4/
LOCATION:Hautcharage – Centre Polyvalent
CATEGORIES:Agenda
ATTACH;FMTTYPE=image/jpeg:https://www.kaerjeng.lu/wp-content/uploads/2021/08/AG.jpg
END:VEVENT
BEGIN:VEVENT
DTSTART;TZID=Europe/Luxembourg:20240310T160000
DTEND;TZID=Europe/Luxembourg:20240310T180000
DTSTAMP:20260422T051329
CREATED:20231109T103123Z
LAST-MODIFIED:20240229T100256Z
UID:10001192-1710086400-1710093600@www.kaerjeng.lu
SUMMARY:Assemblée générale - Gaart an Heem Uewerkäerjeng
DESCRIPTION:
URL:https://www.kaerjeng.lu/evenement/assemblee-generale-gaart-an-heem-uewerkaerjeng-3/
LOCATION:Hautcharage – Centre Polyvalent
CATEGORIES:Agenda
ATTACH;FMTTYPE=image/jpeg:https://www.kaerjeng.lu/wp-content/uploads/2024/02/GanH-Invit-Affel_-AG.jpg
END:VEVENT
BEGIN:VEVENT
DTSTART;TZID=Europe/Luxembourg:20220327T160000
DTEND;TZID=Europe/Luxembourg:20220327T180000
DTSTAMP:20260422T051329
CREATED:20220317T153759Z
LAST-MODIFIED:20220317T153759Z
UID:10000945-1648396800-1648404000@www.kaerjeng.lu
SUMMARY:Assemblée générale - Gaart an Heem Uewerkäerjeng
DESCRIPTION:
URL:https://www.kaerjeng.lu/evenement/assemblee-generale-gaart-an-heem-uewerkaerjeng/
LOCATION:Käerjenger Treff\, 54c\, avenue de Luxembourg\, Bascharage\, Luxembourg
CATEGORIES:Agenda
ATTACH;FMTTYPE=image/jpeg:https://www.kaerjeng.lu/wp-content/uploads/2021/08/AG.jpg
END:VEVENT
BEGIN:VEVENT
DTSTART;TZID=Europe/Luxembourg:20220327T090000
DTEND;TZID=Europe/Luxembourg:20220327T170000
DTSTAMP:20260422T051329
CREATED:20220202T123725Z
LAST-MODIFIED:20220307T081832Z
UID:10000929-1648371600-1648400400@www.kaerjeng.lu
SUMMARY:Nationalkongress - Gaart an Heem Uewerkäerjeng
DESCRIPTION:
URL:https://www.kaerjeng.lu/evenement/nationalkongress-gaart-an-heem-uewerkaerjeng/
LOCATION:Käerjenger Treff\, 54c\, avenue de Luxembourg\, Bascharage\, Luxembourg
CATEGORIES:Agenda
ATTACH;FMTTYPE=image/jpeg:https://www.kaerjeng.lu/wp-content/uploads/2022/03/GAH-Nationalkongress.jpg
END:VEVENT
BEGIN:VEVENT
DTSTART;VALUE=DATE:20211203
DTEND;VALUE=DATE:20211205
DTSTAMP:20260422T051329
CREATED:20211115T103716Z
LAST-MODIFIED:20211115T103716Z
UID:10000887-1638489600-1638662399@www.kaerjeng.lu
SUMMARY:Gaart an Heem Uewerkäerjeng - Äre Beemchen op Bestellung Heem geliwwert
DESCRIPTION:
URL:https://www.kaerjeng.lu/evenement/gaart-an-heem-uewerkaerjeng-are-beemchen-op-bestellung-heem-geliwwert/
CATEGORIES:Agenda
END:VEVENT
BEGIN:VEVENT
DTSTART;VALUE=DATE:20211002
DTEND;VALUE=DATE:20211003
DTSTAMP:20260422T051329
CREATED:20210922T063548Z
LAST-MODIFIED:20210922T102414Z
UID:10000851-1633132800-1633219199@www.kaerjeng.lu
SUMMARY:Vizefest
DESCRIPTION:
URL:https://www.kaerjeng.lu/evenement/vizefest/
LOCATION:2\, rue de l’Ecole – Hautcharage
END:VEVENT
BEGIN:VEVENT
DTSTART;TZID=Europe/Luxembourg:20210815T110000
DTEND;TZID=Europe/Luxembourg:20210815T210000
DTSTAMP:20260422T051329
CREATED:20210615T100941Z
LAST-MODIFIED:20210812T113541Z
UID:10000816-1629025200-1629061200@www.kaerjeng.lu
SUMMARY:Summerfest virum Treff - Gaart an Heem Uewerkäerjeng
DESCRIPTION:
URL:https://www.kaerjeng.lu/evenement/beschfest-gaart-an-heem-uewerkaerjeng/2021-08-15/
LOCATION:Käerjenger Treff\, 54c\, avenue de Luxembourg\, Bascharage\, Luxembourg
CATEGORIES:Agenda
END:VEVENT
BEGIN:VEVENT
DTSTART;TZID=Europe/Luxembourg:20210814T170000
DTEND;TZID=Europe/Luxembourg:20210814T220000
DTSTAMP:20260422T051329
CREATED:20210615T100941Z
LAST-MODIFIED:20210812T113541Z
UID:10000815-1628960400-1628978400@www.kaerjeng.lu
SUMMARY:Summerfest virum Treff - Gaart an Heem Uewerkäerjeng
DESCRIPTION:
URL:https://www.kaerjeng.lu/evenement/beschfest-gaart-an-heem-uewerkaerjeng/2021-08-14/
LOCATION:Käerjenger Treff\, 54c\, avenue de Luxembourg\, Bascharage\, Luxembourg
CATEGORIES:Agenda
END:VEVENT
BEGIN:VEVENT
DTSTART;TZID=Europe/Luxembourg:20210813T170000
DTEND;TZID=Europe/Luxembourg:20210813T220000
DTSTAMP:20260422T051329
CREATED:20210615T100941Z
LAST-MODIFIED:20210812T113541Z
UID:10000814-1628874000-1628892000@www.kaerjeng.lu
SUMMARY:Summerfest virum Treff - Gaart an Heem Uewerkäerjeng
DESCRIPTION:
URL:https://www.kaerjeng.lu/evenement/beschfest-gaart-an-heem-uewerkaerjeng/2021-08-13/
LOCATION:Käerjenger Treff\, 54c\, avenue de Luxembourg\, Bascharage\, Luxembourg
CATEGORIES:Agenda
END:VEVENT
BEGIN:VEVENT
DTSTART;TZID=Europe/Luxembourg:20201129T153000
DTEND;TZID=Europe/Luxembourg:20201129T170000
DTSTAMP:20260422T051329
CREATED:20200211T093703Z
LAST-MODIFIED:20201109T152422Z
UID:10000731-1606663800-1606669200@www.kaerjeng.lu
SUMMARY:ANNULE: Niklosfeier
DESCRIPTION:
URL:https://www.kaerjeng.lu/evenement/niklosfeier/
LOCATION:2\, rue de l’Ecole – Hautcharage
ATTACH;FMTTYPE=image/png:https://www.kaerjeng.lu/wp-content/uploads/2020/05/event.png
END:VEVENT
BEGIN:VEVENT
DTSTART;TZID=Europe/Luxembourg:20200621T110000
DTEND;TZID=Europe/Luxembourg:20200621T160000
DTSTAMP:20260422T051329
CREATED:20200211T081238Z
LAST-MODIFIED:20200211T081238Z
UID:10000698-1592737200-1592755200@www.kaerjeng.lu
SUMMARY:Mammendagsfeier - Gaart an Heem Uewerkäerjeng
DESCRIPTION:
URL:https://www.kaerjeng.lu/evenement/mammendagsfeier-2/
LOCATION:2\, rue de l’Ecole – Hautcharage
ATTACH;FMTTYPE=image/png:https://www.kaerjeng.lu/wp-content/uploads/2020/05/event.png
END:VEVENT
END:VCALENDAR