BEGIN:VCALENDAR
VERSION:2.0
PRODID:-//Käerjeng - ECPv6.15.17.1//NONSGML v1.0//EN
CALSCALE:GREGORIAN
METHOD:PUBLISH
X-ORIGINAL-URL:https://www.kaerjeng.lu
X-WR-CALDESC:Évènements pour Käerjeng
REFRESH-INTERVAL;VALUE=DURATION:PT1H
X-Robots-Tag:noindex
X-PUBLISHED-TTL:PT1H
BEGIN:VTIMEZONE
TZID:Europe/Luxembourg
BEGIN:DAYLIGHT
TZOFFSETFROM:+0100
TZOFFSETTO:+0200
TZNAME:CEST
DTSTART:20200329T010000
END:DAYLIGHT
BEGIN:STANDARD
TZOFFSETFROM:+0200
TZOFFSETTO:+0100
TZNAME:CET
DTSTART:20201025T010000
END:STANDARD
BEGIN:DAYLIGHT
TZOFFSETFROM:+0100
TZOFFSETTO:+0200
TZNAME:CEST
DTSTART:20210328T010000
END:DAYLIGHT
BEGIN:STANDARD
TZOFFSETFROM:+0200
TZOFFSETTO:+0100
TZNAME:CET
DTSTART:20211031T010000
END:STANDARD
BEGIN:DAYLIGHT
TZOFFSETFROM:+0100
TZOFFSETTO:+0200
TZNAME:CEST
DTSTART:20220327T010000
END:DAYLIGHT
BEGIN:STANDARD
TZOFFSETFROM:+0200
TZOFFSETTO:+0100
TZNAME:CET
DTSTART:20221030T010000
END:STANDARD
BEGIN:DAYLIGHT
TZOFFSETFROM:+0100
TZOFFSETTO:+0200
TZNAME:CEST
DTSTART:20230326T010000
END:DAYLIGHT
BEGIN:STANDARD
TZOFFSETFROM:+0200
TZOFFSETTO:+0100
TZNAME:CET
DTSTART:20231029T010000
END:STANDARD
BEGIN:DAYLIGHT
TZOFFSETFROM:+0100
TZOFFSETTO:+0200
TZNAME:CEST
DTSTART:20240331T010000
END:DAYLIGHT
BEGIN:STANDARD
TZOFFSETFROM:+0200
TZOFFSETTO:+0100
TZNAME:CET
DTSTART:20241027T010000
END:STANDARD
BEGIN:DAYLIGHT
TZOFFSETFROM:+0100
TZOFFSETTO:+0200
TZNAME:CEST
DTSTART:20250330T010000
END:DAYLIGHT
BEGIN:STANDARD
TZOFFSETFROM:+0200
TZOFFSETTO:+0100
TZNAME:CET
DTSTART:20251026T010000
END:STANDARD
BEGIN:DAYLIGHT
TZOFFSETFROM:+0100
TZOFFSETTO:+0200
TZNAME:CEST
DTSTART:20260329T010000
END:DAYLIGHT
BEGIN:STANDARD
TZOFFSETFROM:+0200
TZOFFSETTO:+0100
TZNAME:CET
DTSTART:20261025T010000
END:STANDARD
END:VTIMEZONE
BEGIN:VEVENT
DTSTART;TZID=Europe/Luxembourg:20250628T200000
DTEND;TZID=Europe/Luxembourg:20250628T230000
DTSTAMP:20260421T221022
CREATED:20250115T084201Z
LAST-MODIFIED:20250520T134236Z
UID:10001469-1751140800-1751151600@www.kaerjeng.lu
SUMMARY:Concert Bridge of songs	- Ensemble Vocal Vivace
DESCRIPTION:
URL:https://www.kaerjeng.lu/evenement/concert-bridge-of-songs-ensemble-vocal-vivace/
LOCATION:Clemency – Salle des Fêtes
CATEGORIES:Agenda
ATTACH;FMTTYPE=image/jpeg:https://www.kaerjeng.lu/wp-content/uploads/2025/01/Bridge-of-songs-2025.jpg
END:VEVENT
BEGIN:VEVENT
DTSTART;TZID=Europe/Luxembourg:20250124T193000
DTEND;TZID=Europe/Luxembourg:20250124T210000
DTSTAMP:20260421T221022
CREATED:20241217T130959Z
LAST-MODIFIED:20241217T130959Z
UID:10001382-1737747000-1737752400@www.kaerjeng.lu
SUMMARY:Assemblée générale - Ensemble Vocal Vivace
DESCRIPTION:
URL:https://www.kaerjeng.lu/evenement/assemblee-generale-ensemble-vocal-vivace-5/
LOCATION:Käerjenger Treff\, 54c\, avenue de Luxembourg\, Bascharage\, Luxembourg
CATEGORIES:Agenda
ATTACH;FMTTYPE=image/jpeg:https://www.kaerjeng.lu/wp-content/uploads/2021/08/AG.jpg
END:VEVENT
BEGIN:VEVENT
DTSTART;TZID=Europe/Luxembourg:20240126T193000
DTEND;TZID=Europe/Luxembourg:20240126T213000
DTSTAMP:20260421T221022
CREATED:20231109T091833Z
LAST-MODIFIED:20231109T091833Z
UID:10001032-1706297400-1706304600@www.kaerjeng.lu
SUMMARY:Assemblée générale - Ensemble Vocal Vivace
DESCRIPTION:
URL:https://www.kaerjeng.lu/evenement/assemblee-generale-ensemble-vocal-vivace-4/
LOCATION:Käerjenger Treff\, 54c\, avenue de Luxembourg\, Bascharage\, Luxembourg
CATEGORIES:Agenda
ATTACH;FMTTYPE=image/jpeg:https://www.kaerjeng.lu/wp-content/uploads/2021/08/AG.jpg
END:VEVENT
BEGIN:VEVENT
DTSTART;TZID=Europe/Luxembourg:20220128T200000
DTEND;TZID=Europe/Luxembourg:20220128T220000
DTSTAMP:20260421T221022
CREATED:20211215T102254Z
LAST-MODIFIED:20220111T074339Z
UID:10000894-1643400000-1643407200@www.kaerjeng.lu
SUMMARY:Assemblée générale - Ensemble vocal Vivace
DESCRIPTION:
URL:https://www.kaerjeng.lu/evenement/assemblee-generale-ensemble-vocal-vivace-2/
LOCATION:Käerjenger Treff\, 54c\, avenue de Luxembourg\, Bascharage\, Luxembourg
CATEGORIES:Agenda
ATTACH;FMTTYPE=image/jpeg:https://www.kaerjeng.lu/wp-content/uploads/2021/08/AG.jpg
END:VEVENT
BEGIN:VEVENT
DTSTART;TZID=Europe/Luxembourg:20211204T200000
DTEND;TZID=Europe/Luxembourg:20211204T230000
DTSTAMP:20260421T221022
CREATED:20211105T083218Z
LAST-MODIFIED:20211116T104105Z
UID:10000864-1638648000-1638658800@www.kaerjeng.lu
SUMMARY:Songs for Charity - Ensemble vocal Vivace
DESCRIPTION:
URL:https://www.kaerjeng.lu/evenement/songs-for-charity-ensemble-vocal-vivace/
LOCATION:Bascharage – Eglise
CATEGORIES:Agenda
END:VEVENT
BEGIN:VEVENT
DTSTART;TZID=Europe/Luxembourg:20210611T190000
DTEND;TZID=Europe/Luxembourg:20210611T210000
DTSTAMP:20260421T221022
CREATED:20210510T140652Z
LAST-MODIFIED:20210510T140659Z
UID:10000780-1623438000-1623445200@www.kaerjeng.lu
SUMMARY:Assemblée générale - Ensemble vocal Vivace
DESCRIPTION:
URL:https://www.kaerjeng.lu/evenement/assemblee-generale-ensemble-vocal-vivace/
LOCATION:Käerjenger Treff\, 54c\, avenue de Luxembourg\, Bascharage\, Luxembourg
CATEGORIES:Agenda
ATTACH;FMTTYPE=image/jpeg:https://www.kaerjeng.lu/wp-content/uploads/2020/10/event.jpg
END:VEVENT
END:VCALENDAR