BEGIN:VCALENDAR
VERSION:2.0
PRODID:-//Käerjeng - ECPv6.15.17.1//NONSGML v1.0//EN
CALSCALE:GREGORIAN
METHOD:PUBLISH
X-WR-CALNAME:Käerjeng
X-ORIGINAL-URL:https://www.kaerjeng.lu
X-WR-CALDESC:Évènements pour Käerjeng
REFRESH-INTERVAL;VALUE=DURATION:PT1H
X-Robots-Tag:noindex
X-PUBLISHED-TTL:PT1H
BEGIN:VTIMEZONE
TZID:Europe/Luxembourg
BEGIN:DAYLIGHT
TZOFFSETFROM:+0100
TZOFFSETTO:+0200
TZNAME:CEST
DTSTART:20190331T010000
END:DAYLIGHT
BEGIN:STANDARD
TZOFFSETFROM:+0200
TZOFFSETTO:+0100
TZNAME:CET
DTSTART:20191027T010000
END:STANDARD
BEGIN:DAYLIGHT
TZOFFSETFROM:+0100
TZOFFSETTO:+0200
TZNAME:CEST
DTSTART:20200329T010000
END:DAYLIGHT
BEGIN:STANDARD
TZOFFSETFROM:+0200
TZOFFSETTO:+0100
TZNAME:CET
DTSTART:20201025T010000
END:STANDARD
BEGIN:DAYLIGHT
TZOFFSETFROM:+0100
TZOFFSETTO:+0200
TZNAME:CEST
DTSTART:20210328T010000
END:DAYLIGHT
BEGIN:STANDARD
TZOFFSETFROM:+0200
TZOFFSETTO:+0100
TZNAME:CET
DTSTART:20211031T010000
END:STANDARD
BEGIN:DAYLIGHT
TZOFFSETFROM:+0100
TZOFFSETTO:+0200
TZNAME:CEST
DTSTART:20220327T010000
END:DAYLIGHT
BEGIN:STANDARD
TZOFFSETFROM:+0200
TZOFFSETTO:+0100
TZNAME:CET
DTSTART:20221030T010000
END:STANDARD
END:VTIMEZONE
BEGIN:VEVENT
DTSTART;VALUE=DATE:20210918
DTEND;VALUE=DATE:20210919
DTSTAMP:20260422T132013
CREATED:20210713T132107Z
LAST-MODIFIED:20210813T143744Z
UID:10000732-1631923200-1632009599@www.kaerjeng.lu
SUMMARY:Trëppeltour - Ëmweltkommissioun
DESCRIPTION:
URL:https://www.kaerjeng.lu/evenement/treppeltour-3-alterskommissioun/
LOCATION:Fingig – Salle des Fêtes
CATEGORIES:Agenda
ATTACH;FMTTYPE=image/jpeg:https://www.kaerjeng.lu/wp-content/uploads/2020/10/event.jpg
END:VEVENT
BEGIN:VEVENT
DTSTART;VALUE=DATE:20210508
DTEND;VALUE=DATE:20210510
DTSTAMP:20260422T132013
CREATED:20210407T121851Z
LAST-MODIFIED:20210407T121851Z
UID:10000767-1620432000-1620521999@www.kaerjeng.lu
SUMMARY:Dag an der Natur - Ëmweltkommissioun
DESCRIPTION:
URL:https://www.kaerjeng.lu/evenement/dag-an-der-natur-emweltkommissioun/
LOCATION:an der Entrée vu Grass\, rue Principale\, Luxembourg
CATEGORIES:Agenda,MOIS,Semaine
ATTACH;FMTTYPE=image/jpeg:https://www.kaerjeng.lu/wp-content/uploads/2020/10/event.jpg
END:VEVENT
BEGIN:VEVENT
DTSTART;VALUE=DATE:20210327
DTEND;VALUE=DATE:20210329
DTSTAMP:20260422T132013
CREATED:20210106T141524Z
LAST-MODIFIED:20210106T141524Z
UID:10000682-1616803200-1616893199@www.kaerjeng.lu
SUMMARY:Grouss Botz - Ëmweltkommissioun
DESCRIPTION:
URL:https://www.kaerjeng.lu/evenement/grouss-botz-emweltkommissioun/
LOCATION:Bascharage – Um Dribbel
ATTACH;FMTTYPE=image/jpeg:https://www.kaerjeng.lu/wp-content/uploads/2020/10/event.jpg
END:VEVENT
BEGIN:VEVENT
DTSTART;TZID=Europe/Luxembourg:20201108T113000
DTEND;TZID=Europe/Luxembourg:20201108T130000
DTSTAMP:20260422T132013
CREATED:20200211T093017Z
LAST-MODIFIED:20201102T074241Z
UID:10000723-1604835000-1604840400@www.kaerjeng.lu
SUMMARY:Dag vum Bam
DESCRIPTION:
URL:https://www.kaerjeng.lu/evenement/dag-vum-bam/
LOCATION:Käerjenger Treff\, 54c\, avenue de Luxembourg\, Bascharage\, Luxembourg
ATTACH;FMTTYPE=image/jpeg:https://www.kaerjeng.lu/wp-content/uploads/2020/02/grouss-botz.jpg
END:VEVENT
BEGIN:VEVENT
DTSTART;TZID=Europe/Luxembourg:20200517T090000
DTEND;TZID=Europe/Luxembourg:20200517T110000
DTSTAMP:20260422T132013
CREATED:20200207T145151Z
LAST-MODIFIED:20200207T145151Z
UID:10000671-1589706000-1589713200@www.kaerjeng.lu
SUMMARY:Dag an der Natur - Ëmweltkommissioun
DESCRIPTION:
URL:https://www.kaerjeng.lu/evenement/dag-an-der-natur/
LOCATION:Grass – Schobrishaus
ATTACH;FMTTYPE=image/png:https://www.kaerjeng.lu/wp-content/uploads/2020/05/event.png
END:VEVENT
BEGIN:VEVENT
DTSTART;TZID=Europe/Luxembourg:20200207T080000
DTEND;TZID=Europe/Luxembourg:20200207T170000
DTSTAMP:20260422T132013
CREATED:20200207T100209Z
LAST-MODIFIED:20200207T100209Z
UID:10000648-1581062400-1581094800@www.kaerjeng.lu
SUMMARY:Infoversammlung Ëmweltcharte fir Bierger
DESCRIPTION:
URL:https://www.kaerjeng.lu/evenement/infoversammlung-emweltcharte-fir-bierger/
LOCATION:Käerjenger Treff\, 54c\, avenue de Luxembourg\, Bascharage\, Luxembourg
ATTACH;FMTTYPE=image/png:https://www.kaerjeng.lu/wp-content/uploads/2020/05/event.png
END:VEVENT
END:VCALENDAR