BEGIN:VCALENDAR
VERSION:2.0
PRODID:-//Käerjeng - ECPv6.15.17.1//NONSGML v1.0//EN
CALSCALE:GREGORIAN
METHOD:PUBLISH
X-ORIGINAL-URL:https://www.kaerjeng.lu
X-WR-CALDESC:Évènements pour Käerjeng
REFRESH-INTERVAL;VALUE=DURATION:PT1H
X-Robots-Tag:noindex
X-PUBLISHED-TTL:PT1H
BEGIN:VTIMEZONE
TZID:Europe/Luxembourg
BEGIN:DAYLIGHT
TZOFFSETFROM:+0100
TZOFFSETTO:+0200
TZNAME:CEST
DTSTART:20190331T010000
END:DAYLIGHT
BEGIN:STANDARD
TZOFFSETFROM:+0200
TZOFFSETTO:+0100
TZNAME:CET
DTSTART:20191027T010000
END:STANDARD
BEGIN:DAYLIGHT
TZOFFSETFROM:+0100
TZOFFSETTO:+0200
TZNAME:CEST
DTSTART:20200329T010000
END:DAYLIGHT
BEGIN:STANDARD
TZOFFSETFROM:+0200
TZOFFSETTO:+0100
TZNAME:CET
DTSTART:20201025T010000
END:STANDARD
BEGIN:DAYLIGHT
TZOFFSETFROM:+0100
TZOFFSETTO:+0200
TZNAME:CEST
DTSTART:20210328T010000
END:DAYLIGHT
BEGIN:STANDARD
TZOFFSETFROM:+0200
TZOFFSETTO:+0100
TZNAME:CET
DTSTART:20211031T010000
END:STANDARD
BEGIN:DAYLIGHT
TZOFFSETFROM:+0100
TZOFFSETTO:+0200
TZNAME:CEST
DTSTART:20220327T010000
END:DAYLIGHT
BEGIN:STANDARD
TZOFFSETFROM:+0200
TZOFFSETTO:+0100
TZNAME:CET
DTSTART:20221030T010000
END:STANDARD
BEGIN:DAYLIGHT
TZOFFSETFROM:+0100
TZOFFSETTO:+0200
TZNAME:CEST
DTSTART:20230326T010000
END:DAYLIGHT
BEGIN:STANDARD
TZOFFSETFROM:+0200
TZOFFSETTO:+0100
TZNAME:CET
DTSTART:20231029T010000
END:STANDARD
BEGIN:DAYLIGHT
TZOFFSETFROM:+0100
TZOFFSETTO:+0200
TZNAME:CEST
DTSTART:20240331T010000
END:DAYLIGHT
BEGIN:STANDARD
TZOFFSETFROM:+0200
TZOFFSETTO:+0100
TZNAME:CET
DTSTART:20241027T010000
END:STANDARD
BEGIN:DAYLIGHT
TZOFFSETFROM:+0100
TZOFFSETTO:+0200
TZNAME:CEST
DTSTART:20250330T010000
END:DAYLIGHT
BEGIN:STANDARD
TZOFFSETFROM:+0200
TZOFFSETTO:+0100
TZNAME:CET
DTSTART:20251026T010000
END:STANDARD
BEGIN:DAYLIGHT
TZOFFSETFROM:+0100
TZOFFSETTO:+0200
TZNAME:CEST
DTSTART:20260329T010000
END:DAYLIGHT
BEGIN:STANDARD
TZOFFSETFROM:+0200
TZOFFSETTO:+0100
TZNAME:CET
DTSTART:20261025T010000
END:STANDARD
END:VTIMEZONE
BEGIN:VEVENT
DTSTART;TZID=Europe/Luxembourg:20251130T080000
DTEND;TZID=Europe/Luxembourg:20251130T170000
DTSTAMP:20260422T012118
CREATED:20250129T102155Z
LAST-MODIFIED:20251014T085628Z
UID:10001524-1764489600-1764522000@www.kaerjeng.lu
SUMMARY:Tournoi Challenge Nicole Rischard	- DT Nidderkäerjeng
DESCRIPTION:
URL:https://www.kaerjeng.lu/evenement/tournoi-challenge-nicole-rischard-dt-nidderkaerjeng-5/
LOCATION:Bascharage – Op Acker
CATEGORIES:Agenda
ATTACH;FMTTYPE=image/jpeg:https://www.kaerjeng.lu/wp-content/uploads/2020/10/event.jpg
END:VEVENT
BEGIN:VEVENT
DTSTART;TZID=Europe/Luxembourg:20250516T190000
DTEND;TZID=Europe/Luxembourg:20250516T200000
DTSTAMP:20260422T012118
CREATED:20250115T075630Z
LAST-MODIFIED:20250512T095218Z
UID:10001446-1747422000-1747425600@www.kaerjeng.lu
SUMMARY:Assemblée générale - DT Nidderkäerjeng
DESCRIPTION:
URL:https://www.kaerjeng.lu/evenement/assemblee-generale-dt-nidderkaerjeng-7/
LOCATION:Hautcharage – Centre Polyvalent
CATEGORIES:Agenda
ATTACH;FMTTYPE=image/jpeg:https://www.kaerjeng.lu/wp-content/uploads/2021/08/AG.jpg
END:VEVENT
BEGIN:VEVENT
DTSTART;VALUE=DATE:20250425
DTEND;VALUE=DATE:20250428
DTSTAMP:20260422T012118
CREATED:20250115T074343Z
LAST-MODIFIED:20250131T151555Z
UID:10001436-1745539200-1745798399@www.kaerjeng.lu
SUMMARY:Salon des Vins	- DT Nidderkäerjeng
DESCRIPTION:
URL:https://www.kaerjeng.lu/evenement/salon-des-vins-dt-nidderkaerjeng-2/
LOCATION:Käerjenger Treff\, 54c\, avenue de Luxembourg\, Bascharage\, Luxembourg
CATEGORIES:Agenda
ATTACH;FMTTYPE=image/jpeg:https://www.kaerjeng.lu/wp-content/uploads/2025/01/affiche-A4-salon-DTN-2025.jpg
END:VEVENT
BEGIN:VEVENT
DTSTART;TZID=Europe/Luxembourg:20220527T190000
DTEND;TZID=Europe/Luxembourg:20220527T210000
DTSTAMP:20260422T012118
CREATED:20220420T135013Z
LAST-MODIFIED:20220420T135013Z
UID:10000830-1653678000-1653685200@www.kaerjeng.lu
SUMMARY:Assemblée générale - DT Nidderkäerjeng
DESCRIPTION:
URL:https://www.kaerjeng.lu/evenement/assemblee-generale-dt-nidderkaerjeng-4/
LOCATION:Bascharage – Acker
CATEGORIES:Agenda
ATTACH;FMTTYPE=image/jpeg:https://www.kaerjeng.lu/wp-content/uploads/2021/08/AG.jpg
END:VEVENT
BEGIN:VEVENT
DTSTART;VALUE=DATE:20220422
DTEND;VALUE=DATE:20220425
DTSTAMP:20260422T012118
CREATED:20220202T124523Z
LAST-MODIFIED:20220419T151508Z
UID:10000933-1650585600-1650844799@www.kaerjeng.lu
SUMMARY:Salon des vins d'Occitanie 2022 - DT Nidderkäerjeng
DESCRIPTION:
URL:https://www.kaerjeng.lu/evenement/salon-des-vins-doccitanie-2022-dt-nidderkaerjeng/
LOCATION:Käerjenger Treff\, 54c\, avenue de Luxembourg\, Bascharage\, Luxembourg
CATEGORIES:Agenda
ATTACH;FMTTYPE=image/jpeg:https://www.kaerjeng.lu/wp-content/uploads/2022/04/Salon-des-vins-2022.jpg
END:VEVENT
BEGIN:VEVENT
DTSTART;TZID=Europe/Luxembourg:20220206T090000
DTEND;TZID=Europe/Luxembourg:20220206T160000
DTSTAMP:20260422T012119
CREATED:20220202T103131Z
LAST-MODIFIED:20220202T103131Z
UID:10000796-1644138000-1644163200@www.kaerjeng.lu
SUMMARY:Girls and Boys Day TT - DT Nidderkäerjeng
DESCRIPTION:
URL:https://www.kaerjeng.lu/evenement/girls-and-boys-day-tt-dt-nidderkaerjeng/
LOCATION:Bascharage – Acker
CATEGORIES:Agenda
ATTACH;FMTTYPE=image/jpeg:https://www.kaerjeng.lu/wp-content/uploads/2020/10/event.jpg
END:VEVENT
BEGIN:VEVENT
DTSTART;TZID=Europe/Luxembourg:20220110T190000
DTEND;TZID=Europe/Luxembourg:20220110T210000
DTSTAMP:20260422T012119
CREATED:20211215T100100Z
LAST-MODIFIED:20211215T100100Z
UID:10000889-1641841200-1641848400@www.kaerjeng.lu
SUMMARY:Neijoerspatt - DT Nidderkäerjeng
DESCRIPTION:
URL:https://www.kaerjeng.lu/evenement/neijoerspatt-dt-nidderkaerjeng/
LOCATION:Bascharage – Acker
CATEGORIES:Agenda
ATTACH;FMTTYPE=image/jpeg:https://www.kaerjeng.lu/wp-content/uploads/2020/10/event.jpg
END:VEVENT
BEGIN:VEVENT
DTSTART;TZID=Europe/Luxembourg:20211205T080000
DTEND;TZID=Europe/Luxembourg:20211205T170000
DTSTAMP:20260422T012119
CREATED:20211105T084225Z
LAST-MODIFIED:20211105T084225Z
UID:10000866-1638691200-1638723600@www.kaerjeng.lu
SUMMARY:Tournoi Challenge Nicole Rischard - DT Nidderkäerjeng
DESCRIPTION:
URL:https://www.kaerjeng.lu/evenement/tournoi-challenge-nicole-rischard-dt-nidderkaerjeng/
LOCATION:Bascharage – Op Acker
CATEGORIES:Agenda
ATTACH;FMTTYPE=image/jpeg:https://www.kaerjeng.lu/wp-content/uploads/2020/10/event.jpg
END:VEVENT
BEGIN:VEVENT
DTSTART;TZID=Europe/Luxembourg:20210920T190000
DTEND;TZID=Europe/Luxembourg:20210920T210000
DTSTAMP:20260422T012119
CREATED:20210813T150822Z
LAST-MODIFIED:20210818T123647Z
UID:10000836-1632164400-1632171600@www.kaerjeng.lu
SUMMARY:Assemblée générale - DT Nidderkäerjeng
DESCRIPTION:
URL:https://www.kaerjeng.lu/evenement/assemblee-generale-dt-nidderkaerjeng-3/
LOCATION:Bascharage – Op Acker
CATEGORIES:Agenda
ATTACH;FMTTYPE=image/jpeg:https://www.kaerjeng.lu/wp-content/uploads/2021/08/AG.jpg
END:VEVENT
BEGIN:VEVENT
DTSTART;VALUE=DATE:20210611
DTEND;VALUE=DATE:20210615
DTSTAMP:20260422T012119
CREATED:20210601T101134Z
LAST-MODIFIED:20210601T101134Z
UID:10000782-1623369600-1623632399@www.kaerjeng.lu
SUMMARY:Bëschfest - DT Nidderkäerjeng
DESCRIPTION:
URL:https://www.kaerjeng.lu/evenement/beschfest-dt-nidderkaerjeng/
LOCATION:Bascharage – Bommertbësch
CATEGORIES:Agenda
ATTACH;FMTTYPE=image/jpeg:https://www.kaerjeng.lu/wp-content/uploads/2020/10/event.jpg
END:VEVENT
BEGIN:VEVENT
DTSTART;TZID=Europe/Luxembourg:20210604T190000
DTEND;TZID=Europe/Luxembourg:20210604T210000
DTSTAMP:20260422T012119
CREATED:20210407T130415Z
LAST-MODIFIED:20210407T130415Z
UID:10000773-1622833200-1622840400@www.kaerjeng.lu
SUMMARY:Assemblée générale - DT Nidderkäerjeng
DESCRIPTION:
URL:https://www.kaerjeng.lu/evenement/assemblee-generale-dt-nidderkaerjeng/
CATEGORIES:Agenda
ATTACH;FMTTYPE=image/jpeg:https://www.kaerjeng.lu/wp-content/uploads/2020/10/event.jpg
END:VEVENT
BEGIN:VEVENT
DTSTART;VALUE=DATE:20210529
DTEND;VALUE=DATE:20210601
DTSTAMP:20260422T012119
CREATED:20210510T123840Z
LAST-MODIFIED:20210520T064318Z
UID:10000777-1622246400-1622422799@www.kaerjeng.lu
SUMMARY:Salon du vin d'Occitanie - DT Nidderkäerjeng
DESCRIPTION:
URL:https://www.kaerjeng.lu/evenement/salon-du-vin-doccitanie-dt-nidderkaerjeng/
LOCATION:Käerjenger Treff\, 54c\, avenue de Luxembourg\, Bascharage\, Luxembourg
CATEGORIES:Agenda
ATTACH;FMTTYPE=image/jpeg:https://www.kaerjeng.lu/wp-content/uploads/2020/10/event.jpg
END:VEVENT
BEGIN:VEVENT
DTSTART;TZID=Europe/Luxembourg:20200517T190000
DTEND;TZID=Europe/Luxembourg:20200517T220000
DTSTAMP:20260422T012119
CREATED:20200207T145416Z
LAST-MODIFIED:20200207T145416Z
UID:10000673-1589742000-1589752800@www.kaerjeng.lu
SUMMARY:Séance académique 50 Joer DT Nidderkäerjeng
DESCRIPTION:
URL:https://www.kaerjeng.lu/evenement/seance-academique-50-joer-dt-nidderkaerjeng/
LOCATION:Käerjenger Treff\, 54c\, avenue de Luxembourg\, Bascharage\, Luxembourg
ATTACH;FMTTYPE=image/png:https://www.kaerjeng.lu/wp-content/uploads/2020/05/event.png
END:VEVENT
BEGIN:VEVENT
DTSTART;TZID=Europe/Luxembourg:20200404T090000
DTEND;TZID=Europe/Luxembourg:20200404T180000
DTSTAMP:20260422T012119
CREATED:20200207T104738Z
LAST-MODIFIED:20200207T104738Z
UID:10000658-1585990800-1586023200@www.kaerjeng.lu
SUMMARY:ANNULE Tournoi international - DT Nidderkäerjeng
DESCRIPTION:
URL:https://www.kaerjeng.lu/evenement/tournoi-international/
LOCATION:Bascharage – Acker
ATTACH;FMTTYPE=image/png:https://www.kaerjeng.lu/wp-content/uploads/2020/05/event.png
END:VEVENT
BEGIN:VEVENT
DTSTART;VALUE=DATE:20200223
DTEND;VALUE=DATE:20200224
DTSTAMP:20260422T012119
CREATED:20200207T093235Z
LAST-MODIFIED:20200207T093235Z
UID:10000632-1582416000-1582502399@www.kaerjeng.lu
SUMMARY:Fréijoers Jugend Tournéier
DESCRIPTION:
URL:https://www.kaerjeng.lu/evenement/freijoers-jugend-tourneier/
LOCATION:Bascharage – Op Acker
ATTACH;FMTTYPE=image/png:https://www.kaerjeng.lu/wp-content/uploads/2020/05/event.png
END:VEVENT
END:VCALENDAR