BEGIN:VCALENDAR
VERSION:2.0
PRODID:-//Käerjeng - ECPv6.15.17.1//NONSGML v1.0//EN
CALSCALE:GREGORIAN
METHOD:PUBLISH
X-ORIGINAL-URL:https://www.kaerjeng.lu
X-WR-CALDESC:Évènements pour Käerjeng
REFRESH-INTERVAL;VALUE=DURATION:PT1H
X-Robots-Tag:noindex
X-PUBLISHED-TTL:PT1H
BEGIN:VTIMEZONE
TZID:Europe/Luxembourg
BEGIN:DAYLIGHT
TZOFFSETFROM:+0100
TZOFFSETTO:+0200
TZNAME:CEST
DTSTART:20190331T010000
END:DAYLIGHT
BEGIN:STANDARD
TZOFFSETFROM:+0200
TZOFFSETTO:+0100
TZNAME:CET
DTSTART:20191027T010000
END:STANDARD
BEGIN:DAYLIGHT
TZOFFSETFROM:+0100
TZOFFSETTO:+0200
TZNAME:CEST
DTSTART:20200329T010000
END:DAYLIGHT
BEGIN:STANDARD
TZOFFSETFROM:+0200
TZOFFSETTO:+0100
TZNAME:CET
DTSTART:20201025T010000
END:STANDARD
BEGIN:DAYLIGHT
TZOFFSETFROM:+0100
TZOFFSETTO:+0200
TZNAME:CEST
DTSTART:20210328T010000
END:DAYLIGHT
BEGIN:STANDARD
TZOFFSETFROM:+0200
TZOFFSETTO:+0100
TZNAME:CET
DTSTART:20211031T010000
END:STANDARD
END:VTIMEZONE
BEGIN:VEVENT
DTSTART;VALUE=DATE:20200628
DTEND;VALUE=DATE:20200629
DTSTAMP:20260424T173727
CREATED:20200211T082051Z
LAST-MODIFIED:20200211T082051Z
UID:10000639-1593302400-1593388799@www.kaerjeng.lu
SUMMARY:Marche gourmande - DT Féngig
DESCRIPTION:
URL:https://www.kaerjeng.lu/evenement/marche-gourmande-2/
LOCATION:Fingig – Salle des Fêtes
ATTACH;FMTTYPE=image/png:https://www.kaerjeng.lu/wp-content/uploads/2020/05/event.png
END:VEVENT
BEGIN:VEVENT
DTSTART;TZID=Europe/Luxembourg:20200523T180000
DTEND;TZID=Europe/Luxembourg:20200523T200000
DTSTAMP:20260424T173727
CREATED:20200207T150626Z
LAST-MODIFIED:20200207T150626Z
UID:10000685-1590256800-1590264000@www.kaerjeng.lu
SUMMARY:Assemblée Générale - DT Féngig
DESCRIPTION:
URL:https://www.kaerjeng.lu/evenement/assemblee-generale-17/
LOCATION:Fingig – Salle des Fêtes
ATTACH;FMTTYPE=image/png:https://www.kaerjeng.lu/wp-content/uploads/2020/05/event.png
END:VEVENT
BEGIN:VEVENT
DTSTART;TZID=Europe/Luxembourg:20200521T160000
DTEND;TZID=Europe/Luxembourg:20200521T210000
DTSTAMP:20260424T173727
CREATED:20200207T145520Z
LAST-MODIFIED:20200207T145520Z
UID:10000675-1590076800-1590094800@www.kaerjeng.lu
SUMMARY:Tournoi de la bonne entente - DT Féngig
DESCRIPTION:
URL:https://www.kaerjeng.lu/evenement/tournoi-de-la-bonne-entente/
LOCATION:Clemency – Salle des Fêtes
ATTACH;FMTTYPE=image/png:https://www.kaerjeng.lu/wp-content/uploads/2020/05/event.png
END:VEVENT
BEGIN:VEVENT
DTSTART;TZID=Europe/Luxembourg:20200501T080000
DTEND;TZID=Europe/Luxembourg:20200501T170000
DTSTAMP:20260424T173727
CREATED:20200207T143235Z
LAST-MODIFIED:20200207T143235Z
UID:10000664-1588320000-1588352400@www.kaerjeng.lu
SUMMARY:1. Mee Feier - DT Féngig
DESCRIPTION:
URL:https://www.kaerjeng.lu/evenement/1-mee-feier/
LOCATION:Fingig – Salle des Fêtes
ATTACH;FMTTYPE=image/png:https://www.kaerjeng.lu/wp-content/uploads/2020/05/event.png
END:VEVENT
END:VCALENDAR