BEGIN:VCALENDAR
VERSION:2.0
PRODID:-//Käerjeng - ECPv6.15.17.1//NONSGML v1.0//EN
CALSCALE:GREGORIAN
METHOD:PUBLISH
X-ORIGINAL-URL:https://www.kaerjeng.lu
X-WR-CALDESC:Évènements pour Käerjeng
REFRESH-INTERVAL;VALUE=DURATION:PT1H
X-Robots-Tag:noindex
X-PUBLISHED-TTL:PT1H
BEGIN:VTIMEZONE
TZID:Europe/Luxembourg
BEGIN:DAYLIGHT
TZOFFSETFROM:+0100
TZOFFSETTO:+0200
TZNAME:CEST
DTSTART:20190331T010000
END:DAYLIGHT
BEGIN:STANDARD
TZOFFSETFROM:+0200
TZOFFSETTO:+0100
TZNAME:CET
DTSTART:20191027T010000
END:STANDARD
BEGIN:DAYLIGHT
TZOFFSETFROM:+0100
TZOFFSETTO:+0200
TZNAME:CEST
DTSTART:20200329T010000
END:DAYLIGHT
BEGIN:STANDARD
TZOFFSETFROM:+0200
TZOFFSETTO:+0100
TZNAME:CET
DTSTART:20201025T010000
END:STANDARD
BEGIN:DAYLIGHT
TZOFFSETFROM:+0100
TZOFFSETTO:+0200
TZNAME:CEST
DTSTART:20210328T010000
END:DAYLIGHT
BEGIN:STANDARD
TZOFFSETFROM:+0200
TZOFFSETTO:+0100
TZNAME:CET
DTSTART:20211031T010000
END:STANDARD
BEGIN:DAYLIGHT
TZOFFSETFROM:+0100
TZOFFSETTO:+0200
TZNAME:CEST
DTSTART:20220327T010000
END:DAYLIGHT
BEGIN:STANDARD
TZOFFSETFROM:+0200
TZOFFSETTO:+0100
TZNAME:CET
DTSTART:20221030T010000
END:STANDARD
BEGIN:DAYLIGHT
TZOFFSETFROM:+0100
TZOFFSETTO:+0200
TZNAME:CEST
DTSTART:20230326T010000
END:DAYLIGHT
BEGIN:STANDARD
TZOFFSETFROM:+0200
TZOFFSETTO:+0100
TZNAME:CET
DTSTART:20231029T010000
END:STANDARD
BEGIN:DAYLIGHT
TZOFFSETFROM:+0100
TZOFFSETTO:+0200
TZNAME:CEST
DTSTART:20240331T010000
END:DAYLIGHT
BEGIN:STANDARD
TZOFFSETFROM:+0200
TZOFFSETTO:+0100
TZNAME:CET
DTSTART:20241027T010000
END:STANDARD
BEGIN:DAYLIGHT
TZOFFSETFROM:+0100
TZOFFSETTO:+0200
TZNAME:CEST
DTSTART:20250330T010000
END:DAYLIGHT
BEGIN:STANDARD
TZOFFSETFROM:+0200
TZOFFSETTO:+0100
TZNAME:CET
DTSTART:20251026T010000
END:STANDARD
BEGIN:DAYLIGHT
TZOFFSETFROM:+0100
TZOFFSETTO:+0200
TZNAME:CEST
DTSTART:20260329T010000
END:DAYLIGHT
BEGIN:STANDARD
TZOFFSETFROM:+0200
TZOFFSETTO:+0100
TZNAME:CET
DTSTART:20261025T010000
END:STANDARD
END:VTIMEZONE
BEGIN:VEVENT
DTSTART;TZID=Europe/Luxembourg:20251224T110000
DTEND;TZID=Europe/Luxembourg:20251224T180000
DTSTAMP:20260424T131315
CREATED:20250129T102710Z
LAST-MODIFIED:20251127T082602Z
UID:10001528-1766574000-1766599200@www.kaerjeng.lu
SUMMARY:Mini Christmas Village - Kéinziger Fräschen
DESCRIPTION:
URL:https://www.kaerjeng.lu/evenement/helleg-owend-club-des-jeunes-clemency-2/
LOCATION:Clemency
CATEGORIES:Agenda
ATTACH;FMTTYPE=image/jpeg:https://www.kaerjeng.lu/wp-content/uploads/2025/11/Chrsitmasvillage-Fraschen-2025-1.jpg
END:VEVENT
BEGIN:VEVENT
DTSTART;TZID=Europe/Luxembourg:20250606T120000
DTEND;TZID=Europe/Luxembourg:20250609T230000
DTSTAMP:20260424T131315
CREATED:20250115T080618Z
LAST-MODIFIED:20250520T134547Z
UID:10001454-1749211200-1749510000@www.kaerjeng.lu
SUMMARY:Kéinziger Kiermes - Club des jeunes Clemency
DESCRIPTION:
URL:https://www.kaerjeng.lu/evenement/keinziger-kiermes-club-des-jeunes-clemency/
LOCATION:Clemency – Place de la Gare
CATEGORIES:Agenda
ATTACH;FMTTYPE=image/jpeg:https://www.kaerjeng.lu/wp-content/uploads/2025/01/Keinziger-Kiermes-2025.jpg
END:VEVENT
BEGIN:VEVENT
DTSTART;TZID=Europe/Luxembourg:20250411T180000
DTEND;TZID=Europe/Luxembourg:20250411T190000
DTSTAMP:20260424T131315
CREATED:20250114T160326Z
LAST-MODIFIED:20250408T072704Z
UID:10001433-1744394400-1744398000@www.kaerjeng.lu
SUMMARY:Assemblée générale - Club des jeunes Clemency
DESCRIPTION:
URL:https://www.kaerjeng.lu/evenement/assemblee-generale-club-des-jeunes-clemency-2/
LOCATION:Clemency – Restaurant Origini
CATEGORIES:Agenda
ATTACH;FMTTYPE=image/jpeg:https://www.kaerjeng.lu/wp-content/uploads/2021/08/AG.jpg
END:VEVENT
BEGIN:VEVENT
DTSTART;TZID=Europe/Luxembourg:20240322T183000
DTEND;TZID=Europe/Luxembourg:20240322T203000
DTSTAMP:20260424T131315
CREATED:20231109T103828Z
LAST-MODIFIED:20240215T091521Z
UID:10001197-1711132200-1711139400@www.kaerjeng.lu
SUMMARY:Assemblée générale - Club des Jeunes Clemency
DESCRIPTION:
URL:https://www.kaerjeng.lu/evenement/assemblee-generale-club-des-jeunes-clemency/
LOCATION:Clemency – Brasserie Op der Gare
CATEGORIES:Agenda
ATTACH;FMTTYPE=image/jpeg:https://www.kaerjeng.lu/wp-content/uploads/2021/08/AG.jpg
END:VEVENT
BEGIN:VEVENT
DTSTART;TZID=Europe/Luxembourg:20240217T190000
DTEND;TZID=Europe/Luxembourg:20240217T230000
DTSTAMP:20260424T131315
CREATED:20231109T093945Z
LAST-MODIFIED:20240129T094518Z
UID:10001182-1708196400-1708210800@www.kaerjeng.lu
SUMMARY:Buergbrennen - Club des Jeunes Clemency
DESCRIPTION:
URL:https://www.kaerjeng.lu/evenement/buergbrennen-club-des-jeunes-clemency/
LOCATION:Clemency – Waassertuerm
CATEGORIES:Agenda
ATTACH;FMTTYPE=image/jpeg:https://www.kaerjeng.lu/wp-content/uploads/2024/01/Buergbrennen-CDJ-2024.jpg
END:VEVENT
BEGIN:VEVENT
DTSTART;VALUE=DATE:20220603
DTEND;VALUE=DATE:20220607
DTSTAMP:20260424T131315
CREATED:20220420T135617Z
LAST-MODIFIED:20220420T135710Z
UID:10000839-1654214400-1654559999@www.kaerjeng.lu
SUMMARY:Kéinziger Kiermes - CDJ Kënzeg
DESCRIPTION:
URL:https://www.kaerjeng.lu/evenement/kenzeger-kiermes-cdj-kenzeg/
LOCATION:Clemency – Place de la Gare
CATEGORIES:Agenda
ATTACH;FMTTYPE=image/jpeg:https://www.kaerjeng.lu/wp-content/uploads/2022/04/Keinziger-Kiermes-2022.jpg
END:VEVENT
BEGIN:VEVENT
DTSTART;TZID=Europe/Luxembourg:20220326T193000
DTEND;TZID=Europe/Luxembourg:20220326T203000
DTSTAMP:20260424T131315
CREATED:20220202T123120Z
LAST-MODIFIED:20220202T124741Z
UID:10000927-1648323000-1648326600@www.kaerjeng.lu
SUMMARY:Assemblée générale - Club des jeunes Kënzeg
DESCRIPTION:
URL:https://www.kaerjeng.lu/evenement/assemblee-generale-club-des-jeunes-kenzeg/
LOCATION:Clemency – Brasserie Op der Gare
CATEGORIES:Agenda
ATTACH;FMTTYPE=image/jpeg:https://www.kaerjeng.lu/wp-content/uploads/2021/08/AG.jpg
END:VEVENT
BEGIN:VEVENT
DTSTART;TZID=Europe/Luxembourg:20210220T190000
DTEND;TZID=Europe/Luxembourg:20210220T220000
DTSTAMP:20260424T131315
CREATED:20210128T112538Z
LAST-MODIFIED:20210128T112538Z
UID:10000762-1613847600-1613858400@www.kaerjeng.lu
SUMMARY:Buergbrennen - Club des Jeunes Kéinzig
DESCRIPTION:
URL:https://www.kaerjeng.lu/evenement/buergbrennen-club-des-jeunes-keinzig/
LOCATION:Clemency – Waassertuerm
CATEGORIES:Agenda
ATTACH;FMTTYPE=image/jpeg:https://www.kaerjeng.lu/wp-content/uploads/2020/10/event.jpg
END:VEVENT
BEGIN:VEVENT
DTSTART;VALUE=DATE:20201224
DTEND;VALUE=DATE:20201226
DTSTAMP:20260424T131315
CREATED:20201216T114438Z
LAST-MODIFIED:20201223T135417Z
UID:10000674-1608768000-1608857999@www.kaerjeng.lu
SUMMARY:Glühwäin mam CDJ
DESCRIPTION:
URL:https://www.kaerjeng.lu/evenement/gluhwain-mam-cdj/
LOCATION:Clemency
ATTACH;FMTTYPE=image/png:https://www.kaerjeng.lu/wp-content/uploads/2020/12/Visuel-festif_2020-1.png63-004.png
END:VEVENT
BEGIN:VEVENT
DTSTART;TZID=Europe/Luxembourg:20200229T190000
DTEND;TZID=Europe/Luxembourg:20200229T220000
DTSTAMP:20260424T131315
CREATED:20200207T095414Z
LAST-MODIFIED:20200207T095414Z
UID:10000640-1583002800-1583013600@www.kaerjeng.lu
SUMMARY:Buergbrennen
DESCRIPTION:
URL:https://www.kaerjeng.lu/evenement/buergbrennen/
LOCATION:Clemency – Waassertuerm
ATTACH;FMTTYPE=image/png:https://www.kaerjeng.lu/wp-content/uploads/2020/05/event.png
END:VEVENT
END:VCALENDAR