BEGIN:VCALENDAR
VERSION:2.0
PRODID:-//Käerjeng - ECPv6.15.17.1//NONSGML v1.0//EN
CALSCALE:GREGORIAN
METHOD:PUBLISH
X-WR-CALNAME:Käerjeng
X-ORIGINAL-URL:https://www.kaerjeng.lu
X-WR-CALDESC:Évènements pour Käerjeng
REFRESH-INTERVAL;VALUE=DURATION:PT1H
X-Robots-Tag:noindex
X-PUBLISHED-TTL:PT1H
BEGIN:VTIMEZONE
TZID:Europe/Luxembourg
BEGIN:DAYLIGHT
TZOFFSETFROM:+0100
TZOFFSETTO:+0200
TZNAME:CEST
DTSTART:20190331T010000
END:DAYLIGHT
BEGIN:STANDARD
TZOFFSETFROM:+0200
TZOFFSETTO:+0100
TZNAME:CET
DTSTART:20191027T010000
END:STANDARD
BEGIN:DAYLIGHT
TZOFFSETFROM:+0100
TZOFFSETTO:+0200
TZNAME:CEST
DTSTART:20200329T010000
END:DAYLIGHT
BEGIN:STANDARD
TZOFFSETFROM:+0200
TZOFFSETTO:+0100
TZNAME:CET
DTSTART:20201025T010000
END:STANDARD
BEGIN:DAYLIGHT
TZOFFSETFROM:+0100
TZOFFSETTO:+0200
TZNAME:CEST
DTSTART:20210328T010000
END:DAYLIGHT
BEGIN:STANDARD
TZOFFSETFROM:+0200
TZOFFSETTO:+0100
TZNAME:CET
DTSTART:20211031T010000
END:STANDARD
BEGIN:DAYLIGHT
TZOFFSETFROM:+0100
TZOFFSETTO:+0200
TZNAME:CEST
DTSTART:20220327T010000
END:DAYLIGHT
BEGIN:STANDARD
TZOFFSETFROM:+0200
TZOFFSETTO:+0100
TZNAME:CET
DTSTART:20221030T010000
END:STANDARD
BEGIN:DAYLIGHT
TZOFFSETFROM:+0100
TZOFFSETTO:+0200
TZNAME:CEST
DTSTART:20230326T010000
END:DAYLIGHT
BEGIN:STANDARD
TZOFFSETFROM:+0200
TZOFFSETTO:+0100
TZNAME:CET
DTSTART:20231029T010000
END:STANDARD
BEGIN:DAYLIGHT
TZOFFSETFROM:+0100
TZOFFSETTO:+0200
TZNAME:CEST
DTSTART:20240331T010000
END:DAYLIGHT
BEGIN:STANDARD
TZOFFSETFROM:+0200
TZOFFSETTO:+0100
TZNAME:CET
DTSTART:20241027T010000
END:STANDARD
BEGIN:DAYLIGHT
TZOFFSETFROM:+0100
TZOFFSETTO:+0200
TZNAME:CEST
DTSTART:20250330T010000
END:DAYLIGHT
BEGIN:STANDARD
TZOFFSETFROM:+0200
TZOFFSETTO:+0100
TZNAME:CET
DTSTART:20251026T010000
END:STANDARD
BEGIN:DAYLIGHT
TZOFFSETFROM:+0100
TZOFFSETTO:+0200
TZNAME:CEST
DTSTART:20260329T010000
END:DAYLIGHT
BEGIN:STANDARD
TZOFFSETFROM:+0200
TZOFFSETTO:+0100
TZNAME:CET
DTSTART:20261025T010000
END:STANDARD
BEGIN:DAYLIGHT
TZOFFSETFROM:+0100
TZOFFSETTO:+0200
TZNAME:CEST
DTSTART:20270328T010000
END:DAYLIGHT
BEGIN:STANDARD
TZOFFSETFROM:+0200
TZOFFSETTO:+0100
TZNAME:CET
DTSTART:20271031T010000
END:STANDARD
END:VTIMEZONE
BEGIN:VEVENT
DTSTART;TZID=Europe/Luxembourg:20260218T100000
DTEND;TZID=Europe/Luxembourg:20260222T180000
DTSTAMP:20260424T154733
CREATED:20260126T072149Z
LAST-MODIFIED:20260126T072149Z
UID:10001638-1771408800-1771783200@www.kaerjeng.lu
SUMMARY:Lénger Sprangschlass - DT Lénger
DESCRIPTION:
URL:https://www.kaerjeng.lu/evenement/lenger-sprangschlass-dt-lenger/
LOCATION:Linger – Hall sportif
CATEGORIES:Agenda
ATTACH;FMTTYPE=image/jpeg:https://www.kaerjeng.lu/wp-content/uploads/2026/01/DT-Lenger-Sprangschlass-2026.jpg
END:VEVENT
BEGIN:VEVENT
DTSTART;TZID=Europe/Luxembourg:20251012T113000
DTEND;TZID=Europe/Luxembourg:20251012T230000
DTSTAMP:20260424T154733
CREATED:20250115T103821Z
LAST-MODIFIED:20250930T073612Z
UID:10001501-1760268600-1760310000@www.kaerjeng.lu
SUMMARY:Lénger Kiermes - DT Lénger
DESCRIPTION:
URL:https://www.kaerjeng.lu/evenement/lenger-kiermes-dt-lenger-5/
LOCATION:Linger – Hall sportif
CATEGORIES:Agenda
ATTACH;FMTTYPE=image/jpeg:https://www.kaerjeng.lu/wp-content/uploads/2025/09/Lenger-Kiermes-2025_Page_1.jpg
END:VEVENT
BEGIN:VEVENT
DTSTART;TZID=Europe/Luxembourg:20250706T110000
DTEND;TZID=Europe/Luxembourg:20250706T230000
DTSTAMP:20260424T154733
CREATED:20250115T085059Z
LAST-MODIFIED:20250612T072107Z
UID:10001475-1751799600-1751842800@www.kaerjeng.lu
SUMMARY:Duerffest Lénger - DT Lénger
DESCRIPTION:
URL:https://www.kaerjeng.lu/evenement/duerffest-lenger-dt-lenger/
LOCATION:Linger – Hall sportif
CATEGORIES:Agenda
ATTACH;FMTTYPE=image/jpeg:https://www.kaerjeng.lu/wp-content/uploads/2025/01/Lenger-Duerffest-2025.jpg
END:VEVENT
BEGIN:VEVENT
DTSTART;TZID=Europe/Luxembourg:20250620T193000
DTEND;TZID=Europe/Luxembourg:20250620T210000
DTSTAMP:20260424T154733
CREATED:20250514T124204Z
LAST-MODIFIED:20250514T124204Z
UID:10001554-1750447800-1750453200@www.kaerjeng.lu
SUMMARY:Assemblée générale  - DT Lénger
DESCRIPTION:
URL:https://www.kaerjeng.lu/evenement/assemblee-generale-dt-lenger-3/
LOCATION:Linger – Hall sportif
CATEGORIES:Agenda
ATTACH;FMTTYPE=image/jpeg:https://www.kaerjeng.lu/wp-content/uploads/2021/08/AG.jpg
END:VEVENT
BEGIN:VEVENT
DTSTART;TZID=Europe/Luxembourg:20250117T181500
DTEND;TZID=Europe/Luxembourg:20250117T200000
DTSTAMP:20260424T154733
CREATED:20241217T130150Z
LAST-MODIFIED:20241217T130150Z
UID:10001377-1737137700-1737144000@www.kaerjeng.lu
SUMMARY:Assemblée générale - Lénger Sängerbond
DESCRIPTION:
URL:https://www.kaerjeng.lu/evenement/assemblee-generale-lenger-sangerbond/
LOCATION:Linger – Hall sportif
CATEGORIES:Agenda
ATTACH;FMTTYPE=image/jpeg:https://www.kaerjeng.lu/wp-content/uploads/2021/08/AG.jpg
END:VEVENT
BEGIN:VEVENT
DTSTART;TZID=Europe/Luxembourg:20241013T110000
DTEND;TZID=Europe/Luxembourg:20241013T230000
DTSTAMP:20260424T154733
CREATED:20240104T155415Z
LAST-MODIFIED:20241003T100003Z
UID:10001263-1728817200-1728860400@www.kaerjeng.lu
SUMMARY:Lénger Kiermes - DT Lénger
DESCRIPTION:
URL:https://www.kaerjeng.lu/evenement/lenger-kiermes-dt-lenger-4/
LOCATION:Linger – Hall sportif
CATEGORIES:Agenda
ATTACH;FMTTYPE=image/jpeg:https://www.kaerjeng.lu/wp-content/uploads/2024/01/Lenger-Kiermes-2024.jpg
END:VEVENT
BEGIN:VEVENT
DTSTART;TZID=Europe/Luxembourg:20240804T110000
DTEND;TZID=Europe/Luxembourg:20240804T220000
DTSTAMP:20260424T154733
CREATED:20240104T154504Z
LAST-MODIFIED:20240725T142853Z
UID:10001252-1722769200-1722808800@www.kaerjeng.lu
SUMMARY:Duerffest - DT Lénger
DESCRIPTION:
URL:https://www.kaerjeng.lu/evenement/duerffest-dt-lenger-2/
LOCATION:Linger – Hall sportif
CATEGORIES:Agenda
ATTACH;FMTTYPE=image/jpeg:https://www.kaerjeng.lu/wp-content/uploads/2024/01/Duerfest-DT-Lenger-2024.jpg
END:VEVENT
BEGIN:VEVENT
DTSTART;TZID=Europe/Luxembourg:20240614T193000
DTEND;TZID=Europe/Luxembourg:20240614T213000
DTSTAMP:20260424T154733
CREATED:20240612T062825Z
LAST-MODIFIED:20240612T062825Z
UID:10001336-1718393400-1718400600@www.kaerjeng.lu
SUMMARY:Assemblée générale - DT Lénger
DESCRIPTION:
URL:https://www.kaerjeng.lu/evenement/assemblee-generale-dt-lenger-2/
LOCATION:Linger – Hall sportif
CATEGORIES:Agenda
ATTACH;FMTTYPE=image/jpeg:https://www.kaerjeng.lu/wp-content/uploads/2021/08/AG.jpg
END:VEVENT
BEGIN:VEVENT
DTSTART;TZID=Europe/Luxembourg:20240614T190000
DTEND;TZID=Europe/Luxembourg:20240614T210000
DTSTAMP:20260424T154733
CREATED:20240612T062916Z
LAST-MODIFIED:20240612T062916Z
UID:10001337-1718391600-1718398800@www.kaerjeng.lu
SUMMARY:Assemblée générale - Lénger Trapper
DESCRIPTION:
URL:https://www.kaerjeng.lu/evenement/assemblee-generale-lenger-trapper-4/
LOCATION:Linger – Hall sportif
CATEGORIES:Agenda
ATTACH;FMTTYPE=image/jpeg:https://www.kaerjeng.lu/wp-content/uploads/2021/08/AG.jpg
END:VEVENT
BEGIN:VEVENT
DTSTART;TZID=Europe/Luxembourg:20240414T090000
DTEND;TZID=Europe/Luxembourg:20240414T190000
DTSTAMP:20260424T154733
CREATED:20240403T135229Z
LAST-MODIFIED:20240403T135229Z
UID:10001318-1713085200-1713121200@www.kaerjeng.lu
SUMMARY:Jugend-Tournoi Marc + Martine Gilson Foyer Assurances - DT Lénger
DESCRIPTION:
URL:https://www.kaerjeng.lu/evenement/jugend-tournoi-marc-martine-gilson-foyer-assurances-dt-lenger/
LOCATION:Linger – Hall sportif
CATEGORIES:Agenda
ATTACH;FMTTYPE=image/jpeg:https://www.kaerjeng.lu/wp-content/uploads/2020/10/event.jpg
END:VEVENT
BEGIN:VEVENT
DTSTART;TZID=Europe/Luxembourg:20240223T190000
DTEND;TZID=Europe/Luxembourg:20240223T210000
DTSTAMP:20260424T154733
CREATED:20240104T141015Z
LAST-MODIFIED:20240104T141015Z
UID:10001219-1708714800-1708722000@www.kaerjeng.lu
SUMMARY:Assemblée générale - Lénger Trapper
DESCRIPTION:
URL:https://www.kaerjeng.lu/evenement/assemblee-generale-lenger-trapper-3/
LOCATION:Linger – Hall sportif
CATEGORIES:Agenda
ATTACH;FMTTYPE=image/jpeg:https://www.kaerjeng.lu/wp-content/uploads/2021/08/AG.jpg
END:VEVENT
BEGIN:VEVENT
DTSTART;TZID=Europe/Luxembourg:20231015T110000
DTEND;TZID=Europe/Luxembourg:20231015T230000
DTSTAMP:20260424T154733
CREATED:20230515T134957Z
LAST-MODIFIED:20231004T122358Z
UID:10000990-1697367600-1697410800@www.kaerjeng.lu
SUMMARY:Lénger Kiermes - DT Lénger
DESCRIPTION:
URL:https://www.kaerjeng.lu/evenement/lenger-kiermes-dt-lenger-3/
LOCATION:Linger – Hall sportif
CATEGORIES:Agenda
ATTACH;FMTTYPE=image/jpeg:https://www.kaerjeng.lu/wp-content/uploads/2023/10/1d8ed065-0833-4a51-b581-82ad1e3fad36.jpg
END:VEVENT
BEGIN:VEVENT
DTSTART;TZID=Europe/Luxembourg:20230806T110000
DTEND;TZID=Europe/Luxembourg:20230806T230000
DTSTAMP:20260424T154733
CREATED:20230515T134316Z
LAST-MODIFIED:20230804T074928Z
UID:10001145-1691319600-1691362800@www.kaerjeng.lu
SUMMARY:Duerffest - DT Lénger
DESCRIPTION:
URL:https://www.kaerjeng.lu/evenement/duerffest-dt-lenger/
LOCATION:Linger – Hall sportif
CATEGORIES:Agenda
ATTACH;FMTTYPE=image/jpeg:https://www.kaerjeng.lu/wp-content/uploads/2023/08/Duerffest-DT-Lenger.jpg
END:VEVENT
BEGIN:VEVENT
DTSTART;TZID=Europe/Luxembourg:20230616T193000
DTEND;TZID=Europe/Luxembourg:20230616T220000
DTSTAMP:20260424T154733
CREATED:20230602T092310Z
LAST-MODIFIED:20230602T092310Z
UID:10001156-1686943800-1686952800@www.kaerjeng.lu
SUMMARY:Assemblée générale - DT Lénger
DESCRIPTION:
URL:https://www.kaerjeng.lu/evenement/assemblee-generale-dt-lenger/
LOCATION:Linger – Hall sportif
CATEGORIES:Agenda
ATTACH;FMTTYPE=image/jpeg:https://www.kaerjeng.lu/wp-content/uploads/2021/08/AG.jpg
END:VEVENT
BEGIN:VEVENT
DTSTART;VALUE=DATE:20230412
DTEND;VALUE=DATE:20230415
DTSTAMP:20260424T154733
CREATED:20230405T145523Z
LAST-MODIFIED:20230405T145523Z
UID:10001128-1681257600-1681516799@www.kaerjeng.lu
SUMMARY:Dëschtennis Stage - DT Lénger
DESCRIPTION:
URL:https://www.kaerjeng.lu/evenement/deschtennis-stage-dt-lenger/
LOCATION:Linger – Hall sportif
CATEGORIES:Agenda
ATTACH;FMTTYPE=image/jpeg:https://www.kaerjeng.lu/wp-content/uploads/2020/10/event.jpg
END:VEVENT
BEGIN:VEVENT
DTSTART;TZID=Europe/Luxembourg:20230224T190000
DTEND;TZID=Europe/Luxembourg:20230224T210000
DTSTAMP:20260424T154733
CREATED:20230126T151103Z
LAST-MODIFIED:20230126T151121Z
UID:10001099-1677265200-1677272400@www.kaerjeng.lu
SUMMARY:Assemblée générale – Lénger Trapper
DESCRIPTION:
URL:https://www.kaerjeng.lu/evenement/assemblee-generale-lenger-trapper-2/
LOCATION:Linger – Hall sportif
CATEGORIES:Agenda
ATTACH;FMTTYPE=image/jpeg:https://www.kaerjeng.lu/wp-content/uploads/2021/08/AG.jpg
END:VEVENT
BEGIN:VEVENT
DTSTART;TZID=Europe/Luxembourg:20230223T193000
DTEND;TZID=Europe/Luxembourg:20230223T213000
DTSTAMP:20260424T154733
CREATED:20230222T103532Z
LAST-MODIFIED:20230222T103612Z
UID:10000948-1677180600-1677187800@www.kaerjeng.lu
SUMMARY:Assemblée générale - Chorale Lénger Sängerbond
DESCRIPTION:
URL:https://www.kaerjeng.lu/evenement/assemblee-generale-chorale-lenger-sangerbond/
LOCATION:Linger – Hall sportif
CATEGORIES:Agenda
ATTACH;FMTTYPE=image/jpeg:https://www.kaerjeng.lu/wp-content/uploads/2021/08/AG.jpg
END:VEVENT
BEGIN:VEVENT
DTSTART;TZID=Europe/Luxembourg:20221016T100000
DTEND;TZID=Europe/Luxembourg:20221016T220000
DTSTAMP:20260424T154733
CREATED:20220718T075146Z
LAST-MODIFIED:20220718T075146Z
UID:10001014-1665914400-1665957600@www.kaerjeng.lu
SUMMARY:Lénger Kiermes - DT Lénger
DESCRIPTION:
URL:https://www.kaerjeng.lu/evenement/lenger-kiermes-dt-lenger-2/
LOCATION:Linger – Hall sportif
CATEGORIES:Agenda
ATTACH;FMTTYPE=image/jpeg:https://www.kaerjeng.lu/wp-content/uploads/2020/10/event.jpg
END:VEVENT
BEGIN:VEVENT
DTSTART;VALUE=DATE:20220807
DTEND;VALUE=DATE:20220808
DTSTAMP:20260424T154733
CREATED:20220718T073226Z
LAST-MODIFIED:20220718T095032Z
UID:10000999-1659830400-1659916799@www.kaerjeng.lu
SUMMARY:Duerffest - DT Lénger
DESCRIPTION:
URL:https://www.kaerjeng.lu/evenement/summerfest-dt-lenger/
LOCATION:Linger – Hall sportif
CATEGORIES:Agenda
ATTACH;FMTTYPE=image/jpeg:https://www.kaerjeng.lu/wp-content/uploads/2022/07/Duerfest-DT-Lenger.jpg
END:VEVENT
BEGIN:VEVENT
DTSTART;TZID=Europe/Luxembourg:20220603T193000
DTEND;TZID=Europe/Luxembourg:20220603T213000
DTSTAMP:20260424T154733
CREATED:20220420T135448Z
LAST-MODIFIED:20220420T135448Z
UID:10000837-1654284600-1654291800@www.kaerjeng.lu
SUMMARY:Assemblée générale – DT Linger
DESCRIPTION:
URL:https://www.kaerjeng.lu/evenement/assemblee-generale-dt-linger/
LOCATION:Linger – Hall sportif
CATEGORIES:Agenda
ATTACH;FMTTYPE=image/jpeg:https://www.kaerjeng.lu/wp-content/uploads/2021/08/AG.jpg
END:VEVENT
BEGIN:VEVENT
DTSTART;TZID=Europe/Luxembourg:20220402T090000
DTEND;TZID=Europe/Luxembourg:20220402T170000
DTSTAMP:20260424T154733
CREATED:20220202T124310Z
LAST-MODIFIED:20220202T124310Z
UID:10000931-1648890000-1648918800@www.kaerjeng.lu
SUMMARY:Tournoi pour Jeunes - DT Lénger
DESCRIPTION:
URL:https://www.kaerjeng.lu/evenement/tournoi-pour-jeunes-dt-lenger/
LOCATION:Linger – Hall sportif
CATEGORIES:Agenda
ATTACH;FMTTYPE=image/jpeg:https://www.kaerjeng.lu/wp-content/uploads/2020/10/event.jpg
END:VEVENT
BEGIN:VEVENT
DTSTART;TZID=Europe/Luxembourg:20220219T190000
DTEND;TZID=Europe/Luxembourg:20220219T200000
DTSTAMP:20260424T154733
CREATED:20220125T100555Z
LAST-MODIFIED:20220125T100555Z
UID:10000905-1645297200-1645300800@www.kaerjeng.lu
SUMMARY:Assemblée générale - Lénger Trapper
DESCRIPTION:
URL:https://www.kaerjeng.lu/evenement/assemblee-generale-lenger-trapper/
LOCATION:Linger – Hall sportif
CATEGORIES:Agenda
ATTACH;FMTTYPE=image/jpeg:https://www.kaerjeng.lu/wp-content/uploads/2021/08/AG.jpg
END:VEVENT
BEGIN:VEVENT
DTSTART;TZID=Europe/Luxembourg:20211017T110000
DTEND;TZID=Europe/Luxembourg:20211017T210000
DTSTAMP:20260424T154733
CREATED:20210813T151933Z
LAST-MODIFIED:20211008T143505Z
UID:10000848-1634468400-1634504400@www.kaerjeng.lu
SUMMARY:Lénger Kiermes - DT Lénger
DESCRIPTION:
URL:https://www.kaerjeng.lu/evenement/lenger-kiermes-dt-lenger/
LOCATION:Linger – Hall sportif
CATEGORIES:Agenda
END:VEVENT
BEGIN:VEVENT
DTSTART;VALUE=DATE:20200619
DTEND;VALUE=DATE:20200620
DTSTAMP:20260424T154733
CREATED:20200211T081151Z
LAST-MODIFIED:20200211T081151Z
UID:10000697-1592524800-1592611199@www.kaerjeng.lu
SUMMARY:Assemblée générale - DT Lénger
DESCRIPTION:
URL:https://www.kaerjeng.lu/evenement/assemblee-generale-18/
LOCATION:Linger – Hall sportif
ATTACH;FMTTYPE=image/png:https://www.kaerjeng.lu/wp-content/uploads/2020/05/event.png
END:VEVENT
BEGIN:VEVENT
DTSTART;TZID=Europe/Luxembourg:20200222T193000
DTEND;TZID=Europe/Luxembourg:20200222T223000
DTSTAMP:20260424T154733
CREATED:20200207T093110Z
LAST-MODIFIED:20200207T093110Z
UID:10000628-1582399800-1582410600@www.kaerjeng.lu
SUMMARY:Assemblée générale
DESCRIPTION:
URL:https://www.kaerjeng.lu/evenement/assemblee-generale-2/
LOCATION:Linger – Hall sportif
ATTACH;FMTTYPE=image/png:https://www.kaerjeng.lu/wp-content/uploads/2020/05/event.png
END:VEVENT
END:VCALENDAR