BEGIN:VCALENDAR
VERSION:2.0
PRODID:-//Käerjeng - ECPv6.15.17.1//NONSGML v1.0//EN
CALSCALE:GREGORIAN
METHOD:PUBLISH
X-WR-CALNAME:Käerjeng
X-ORIGINAL-URL:https://www.kaerjeng.lu
X-WR-CALDESC:Évènements pour Käerjeng
REFRESH-INTERVAL;VALUE=DURATION:PT1H
X-Robots-Tag:noindex
X-PUBLISHED-TTL:PT1H
BEGIN:VTIMEZONE
TZID:Europe/Luxembourg
BEGIN:DAYLIGHT
TZOFFSETFROM:+0100
TZOFFSETTO:+0200
TZNAME:CEST
DTSTART:20190331T010000
END:DAYLIGHT
BEGIN:STANDARD
TZOFFSETFROM:+0200
TZOFFSETTO:+0100
TZNAME:CET
DTSTART:20191027T010000
END:STANDARD
BEGIN:DAYLIGHT
TZOFFSETFROM:+0100
TZOFFSETTO:+0200
TZNAME:CEST
DTSTART:20200329T010000
END:DAYLIGHT
BEGIN:STANDARD
TZOFFSETFROM:+0200
TZOFFSETTO:+0100
TZNAME:CET
DTSTART:20201025T010000
END:STANDARD
BEGIN:DAYLIGHT
TZOFFSETFROM:+0100
TZOFFSETTO:+0200
TZNAME:CEST
DTSTART:20210328T010000
END:DAYLIGHT
BEGIN:STANDARD
TZOFFSETFROM:+0200
TZOFFSETTO:+0100
TZNAME:CET
DTSTART:20211031T010000
END:STANDARD
BEGIN:DAYLIGHT
TZOFFSETFROM:+0100
TZOFFSETTO:+0200
TZNAME:CEST
DTSTART:20220327T010000
END:DAYLIGHT
BEGIN:STANDARD
TZOFFSETFROM:+0200
TZOFFSETTO:+0100
TZNAME:CET
DTSTART:20221030T010000
END:STANDARD
END:VTIMEZONE
BEGIN:VEVENT
DTSTART;TZID=Europe/Luxembourg:20210919T090000
DTEND;TZID=Europe/Luxembourg:20210919T170000
DTSTAMP:20260424T195302
CREATED:20210713T132514Z
LAST-MODIFIED:20210913T085025Z
UID:10000735-1632042000-1632070800@www.kaerjeng.lu
SUMMARY:Flou- a Sammlertreff - HMB Supporters
DESCRIPTION:
URL:https://www.kaerjeng.lu/evenement/flou-a-sammlertreff-hmb-supporters/
LOCATION:Käerjenger Treff\, 54c\, avenue de Luxembourg\, Bascharage\, Luxembourg
CATEGORIES:Agenda
END:VEVENT
BEGIN:VEVENT
DTSTART;VALUE=DATE:20210918
DTEND;VALUE=DATE:20210920
DTSTAMP:20260424T195302
CREATED:20210713T132252Z
LAST-MODIFIED:20210913T085059Z
UID:10000733-1631923200-1632095999@www.kaerjeng.lu
SUMMARY:Grillfest - Harmonie Municipale Bascharage
DESCRIPTION:
URL:https://www.kaerjeng.lu/evenement/grillfest-harmonie-municipale-bascharage/
LOCATION:Käerjenger Treff\, 54c\, avenue de Luxembourg\, Bascharage\, Luxembourg
CATEGORIES:Agenda
END:VEVENT
BEGIN:VEVENT
DTSTART;TZID=Europe/Luxembourg:20210822T110000
DTEND;TZID=Europe/Luxembourg:20210822T210000
DTSTAMP:20260424T195302
CREATED:20210615T101106Z
LAST-MODIFIED:20210818T121612Z
UID:10000819-1629630000-1629666000@www.kaerjeng.lu
SUMMARY:Summerfest - Guiden a Scouten Käerjeng
DESCRIPTION:
URL:https://www.kaerjeng.lu/evenement/beschfest-guiden-a-scouten-kaerjeng/2021-08-22/
LOCATION:Käerjenger Treff\, 54c\, avenue de Luxembourg\, Bascharage\, Luxembourg
CATEGORIES:Agenda
END:VEVENT
BEGIN:VEVENT
DTSTART;TZID=Europe/Luxembourg:20210821T160000
DTEND;TZID=Europe/Luxembourg:20210821T220000
DTSTAMP:20260424T195302
CREATED:20210615T101106Z
LAST-MODIFIED:20210818T121612Z
UID:10000818-1629561600-1629583200@www.kaerjeng.lu
SUMMARY:Summerfest - Guiden a Scouten Käerjeng
DESCRIPTION:
URL:https://www.kaerjeng.lu/evenement/beschfest-guiden-a-scouten-kaerjeng/2021-08-21/
LOCATION:Käerjenger Treff\, 54c\, avenue de Luxembourg\, Bascharage\, Luxembourg
CATEGORIES:Agenda
END:VEVENT
BEGIN:VEVENT
DTSTART;TZID=Europe/Luxembourg:20210820T180000
DTEND;TZID=Europe/Luxembourg:20210820T220000
DTSTAMP:20260424T195302
CREATED:20210615T101106Z
LAST-MODIFIED:20210818T121612Z
UID:10000817-1629482400-1629496800@www.kaerjeng.lu
SUMMARY:Summerfest - Guiden a Scouten Käerjeng
DESCRIPTION:
URL:https://www.kaerjeng.lu/evenement/beschfest-guiden-a-scouten-kaerjeng/2021-08-20/
LOCATION:Käerjenger Treff\, 54c\, avenue de Luxembourg\, Bascharage\, Luxembourg
CATEGORIES:Agenda
END:VEVENT
BEGIN:VEVENT
DTSTART;TZID=Europe/Luxembourg:20210815T110000
DTEND;TZID=Europe/Luxembourg:20210815T210000
DTSTAMP:20260424T195302
CREATED:20210615T100941Z
LAST-MODIFIED:20210812T113541Z
UID:10000816-1629025200-1629061200@www.kaerjeng.lu
SUMMARY:Summerfest virum Treff - Gaart an Heem Uewerkäerjeng
DESCRIPTION:
URL:https://www.kaerjeng.lu/evenement/beschfest-gaart-an-heem-uewerkaerjeng/2021-08-15/
LOCATION:Käerjenger Treff\, 54c\, avenue de Luxembourg\, Bascharage\, Luxembourg
CATEGORIES:Agenda
END:VEVENT
BEGIN:VEVENT
DTSTART;TZID=Europe/Luxembourg:20210814T170000
DTEND;TZID=Europe/Luxembourg:20210814T220000
DTSTAMP:20260424T195302
CREATED:20210615T100941Z
LAST-MODIFIED:20210812T113541Z
UID:10000815-1628960400-1628978400@www.kaerjeng.lu
SUMMARY:Summerfest virum Treff - Gaart an Heem Uewerkäerjeng
DESCRIPTION:
URL:https://www.kaerjeng.lu/evenement/beschfest-gaart-an-heem-uewerkaerjeng/2021-08-14/
LOCATION:Käerjenger Treff\, 54c\, avenue de Luxembourg\, Bascharage\, Luxembourg
CATEGORIES:Agenda
END:VEVENT
BEGIN:VEVENT
DTSTART;TZID=Europe/Luxembourg:20210813T170000
DTEND;TZID=Europe/Luxembourg:20210813T220000
DTSTAMP:20260424T195302
CREATED:20210615T100941Z
LAST-MODIFIED:20210812T113541Z
UID:10000814-1628874000-1628892000@www.kaerjeng.lu
SUMMARY:Summerfest virum Treff - Gaart an Heem Uewerkäerjeng
DESCRIPTION:
URL:https://www.kaerjeng.lu/evenement/beschfest-gaart-an-heem-uewerkaerjeng/2021-08-13/
LOCATION:Käerjenger Treff\, 54c\, avenue de Luxembourg\, Bascharage\, Luxembourg
CATEGORIES:Agenda
END:VEVENT
BEGIN:VEVENT
DTSTART;VALUE=DATE:20210806
DTEND;VALUE=DATE:20210810
DTSTAMP:20260424T195302
CREATED:20210615T100259Z
LAST-MODIFIED:20210630T061929Z
UID:10000813-1628208000-1628470799@www.kaerjeng.lu
SUMMARY:Bëschfest - DT Lénger
DESCRIPTION:
URL:https://www.kaerjeng.lu/evenement/beschfest-dt-lenger/
LOCATION:Käerjenger Treff\, 54c\, avenue de Luxembourg\, Bascharage\, Luxembourg
CATEGORIES:Agenda
ATTACH;FMTTYPE=image/jpeg:https://www.kaerjeng.lu/wp-content/uploads/2020/10/event.jpg
END:VEVENT
BEGIN:VEVENT
DTSTART;VALUE=DATE:20210730
DTEND;VALUE=DATE:20210803
DTSTAMP:20260424T195302
CREATED:20210615T100202Z
LAST-MODIFIED:20210630T061943Z
UID:10000812-1627603200-1627865999@www.kaerjeng.lu
SUMMARY:Bëschfest - LSAP Gemeng Käerjeng
DESCRIPTION:
URL:https://www.kaerjeng.lu/evenement/beschfest-lsap-gemeng-kaerjeng/
LOCATION:Käerjenger Treff\, 54c\, avenue de Luxembourg\, Bascharage\, Luxembourg
CATEGORIES:Agenda
ATTACH;FMTTYPE=image/jpeg:https://www.kaerjeng.lu/wp-content/uploads/2020/10/event.jpg
END:VEVENT
BEGIN:VEVENT
DTSTART;VALUE=DATE:20210723
DTEND;VALUE=DATE:20210727
DTSTAMP:20260424T195302
CREATED:20210615T100101Z
LAST-MODIFIED:20210812T093325Z
UID:10000811-1626998400-1627261199@www.kaerjeng.lu
SUMMARY:Summerfest - Käerjenger Theater
DESCRIPTION:
URL:https://www.kaerjeng.lu/evenement/beschfest-kaerjenger-theater/
LOCATION:Käerjenger Treff\, 54c\, avenue de Luxembourg\, Bascharage\, Luxembourg
CATEGORIES:Agenda
ATTACH;FMTTYPE=image/jpeg:https://www.kaerjeng.lu/wp-content/uploads/2020/10/event.jpg
END:VEVENT
BEGIN:VEVENT
DTSTART;TZID=Europe/Luxembourg:20210719T080000
DTEND;TZID=Europe/Luxembourg:20210730T170000
DTSTAMP:20260424T195302
CREATED:20210615T095958Z
LAST-MODIFIED:20210615T095958Z
UID:10000810-1626681600-1627664400@www.kaerjeng.lu
SUMMARY:Semaines loisirs - Maison relais Gemeng Käerjeng
DESCRIPTION:
URL:https://www.kaerjeng.lu/evenement/semaines-loisirs-maison-relais-gemeng-kaerjeng/
LOCATION:Käerjenger Treff\, 54c\, avenue de Luxembourg\, Bascharage\, Luxembourg
CATEGORIES:Agenda
ATTACH;FMTTYPE=image/jpeg:https://www.kaerjeng.lu/wp-content/uploads/2020/10/event.jpg
END:VEVENT
BEGIN:VEVENT
DTSTART;VALUE=DATE:20210716
DTEND;VALUE=DATE:20210720
DTSTAMP:20260424T195302
CREATED:20210615T094643Z
LAST-MODIFIED:20210630T062023Z
UID:10000809-1626393600-1626656399@www.kaerjeng.lu
SUMMARY:Bëschfest - Handball Käerjeng
DESCRIPTION:
URL:https://www.kaerjeng.lu/evenement/beschfest-handball-kaerjeng/
LOCATION:Käerjenger Treff\, 54c\, avenue de Luxembourg\, Bascharage\, Luxembourg
CATEGORIES:Agenda
ATTACH;FMTTYPE=image/jpeg:https://www.kaerjeng.lu/wp-content/uploads/2020/10/event.jpg
END:VEVENT
BEGIN:VEVENT
DTSTART;VALUE=DATE:20210709
DTEND;VALUE=DATE:20210713
DTSTAMP:20260424T195302
CREATED:20210615T092439Z
LAST-MODIFIED:20210630T062222Z
UID:10000806-1625788800-1626051599@www.kaerjeng.lu
SUMMARY:Bëschfest - Harmonie Hautcharage
DESCRIPTION:
URL:https://www.kaerjeng.lu/evenement/beschfest-harmonie-hautcharage/
LOCATION:Käerjenger Treff\, 54c\, avenue de Luxembourg\, Bascharage\, Luxembourg
CATEGORIES:Agenda
ATTACH;FMTTYPE=image/jpeg:https://www.kaerjeng.lu/wp-content/uploads/2020/10/event.jpg
END:VEVENT
BEGIN:VEVENT
DTSTART;TZID=Europe/Luxembourg:20210708T190000
DTEND;TZID=Europe/Luxembourg:20210708T220000
DTSTAMP:20260424T195302
CREATED:20210615T092251Z
LAST-MODIFIED:20210615T092251Z
UID:10000805-1625770800-1625781600@www.kaerjeng.lu
SUMMARY:Concert Combo - Musekschoul
DESCRIPTION:
URL:https://www.kaerjeng.lu/evenement/concert-combo-musekschoul/
LOCATION:Käerjenger Treff\, 54c\, avenue de Luxembourg\, Bascharage\, Luxembourg
CATEGORIES:Agenda
ATTACH;FMTTYPE=image/jpeg:https://www.kaerjeng.lu/wp-content/uploads/2020/10/event.jpg
END:VEVENT
BEGIN:VEVENT
DTSTART;VALUE=DATE:20210702
DTEND;VALUE=DATE:20210706
DTSTAMP:20260424T195302
CREATED:20210615T081644Z
LAST-MODIFIED:20210630T062100Z
UID:10000791-1625184000-1625446799@www.kaerjeng.lu
SUMMARY:Bëschfest - U.N. Käerjeng'97
DESCRIPTION:
URL:https://www.kaerjeng.lu/evenement/beschfest-u-n-kaerjeng97/
LOCATION:Käerjenger Treff\, 54c\, avenue de Luxembourg\, Bascharage\, Luxembourg
CATEGORIES:Agenda
ATTACH;FMTTYPE=image/jpeg:https://www.kaerjeng.lu/wp-content/uploads/2020/10/event.jpg
END:VEVENT
BEGIN:VEVENT
DTSTART;TZID=Europe/Luxembourg:20210611T190000
DTEND;TZID=Europe/Luxembourg:20210611T210000
DTSTAMP:20260424T195302
CREATED:20210510T140652Z
LAST-MODIFIED:20210510T140659Z
UID:10000780-1623438000-1623445200@www.kaerjeng.lu
SUMMARY:Assemblée générale - Ensemble vocal Vivace
DESCRIPTION:
URL:https://www.kaerjeng.lu/evenement/assemblee-generale-ensemble-vocal-vivace/
LOCATION:Käerjenger Treff\, 54c\, avenue de Luxembourg\, Bascharage\, Luxembourg
CATEGORIES:Agenda
ATTACH;FMTTYPE=image/jpeg:https://www.kaerjeng.lu/wp-content/uploads/2020/10/event.jpg
END:VEVENT
BEGIN:VEVENT
DTSTART;TZID=Europe/Luxembourg:20210605T140000
DTEND;TZID=Europe/Luxembourg:20210605T170000
DTSTAMP:20260424T195302
CREATED:20210510T132130Z
LAST-MODIFIED:20210510T132130Z
UID:10000779-1622901600-1622912400@www.kaerjeng.lu
SUMMARY:Kongress - DT Lénger
DESCRIPTION:
URL:https://www.kaerjeng.lu/evenement/kongress-dt-lenger/
LOCATION:Käerjenger Treff\, 54c\, avenue de Luxembourg\, Bascharage\, Luxembourg
CATEGORIES:Agenda
ATTACH;FMTTYPE=image/jpeg:https://www.kaerjeng.lu/wp-content/uploads/2020/10/event.jpg
END:VEVENT
BEGIN:VEVENT
DTSTART;TZID=Europe/Luxembourg:20210601T193000
DTEND;TZID=Europe/Luxembourg:20210601T213000
DTSTAMP:20260424T195302
CREATED:20210510T124215Z
LAST-MODIFIED:20210510T131606Z
UID:10000778-1622575800-1622583000@www.kaerjeng.lu
SUMMARY:Assemblée générale - Guiden a Scouten Käerjeng
DESCRIPTION:
URL:https://www.kaerjeng.lu/evenement/assemblee-generale-dt-nidderkaerjeng-2/
LOCATION:Käerjenger Treff\, 54c\, avenue de Luxembourg\, Bascharage\, Luxembourg
CATEGORIES:Agenda
ATTACH;FMTTYPE=image/jpeg:https://www.kaerjeng.lu/wp-content/uploads/2020/10/event.jpg
END:VEVENT
BEGIN:VEVENT
DTSTART;VALUE=DATE:20210529
DTEND;VALUE=DATE:20210601
DTSTAMP:20260424T195302
CREATED:20210510T123840Z
LAST-MODIFIED:20210520T064318Z
UID:10000777-1622246400-1622422799@www.kaerjeng.lu
SUMMARY:Salon du vin d'Occitanie - DT Nidderkäerjeng
DESCRIPTION:
URL:https://www.kaerjeng.lu/evenement/salon-du-vin-doccitanie-dt-nidderkaerjeng/
LOCATION:Käerjenger Treff\, 54c\, avenue de Luxembourg\, Bascharage\, Luxembourg
CATEGORIES:Agenda
ATTACH;FMTTYPE=image/jpeg:https://www.kaerjeng.lu/wp-content/uploads/2020/10/event.jpg
END:VEVENT
BEGIN:VEVENT
DTSTART;TZID=Europe/Luxembourg:20210521T200000
DTEND;TZID=Europe/Luxembourg:20210521T220000
DTSTAMP:20260424T195302
CREATED:20210510T122947Z
LAST-MODIFIED:20210510T122947Z
UID:10000776-1621627200-1621634400@www.kaerjeng.lu
SUMMARY:Literareschen Owend - Kulturkommissioun
DESCRIPTION:
URL:https://www.kaerjeng.lu/evenement/literareschen-owend-kulturkommissioun/
LOCATION:Käerjenger Treff\, 54c\, avenue de Luxembourg\, Bascharage\, Luxembourg
CATEGORIES:Agenda
ATTACH;FMTTYPE=image/jpeg:https://www.kaerjeng.lu/wp-content/uploads/2020/10/event.jpg
END:VEVENT
BEGIN:VEVENT
DTSTART;VALUE=DATE:20210516
DTEND;VALUE=DATE:20210518
DTSTAMP:20260424T195302
CREATED:20210510T122417Z
LAST-MODIFIED:20210510T122417Z
UID:10000775-1621123200-1621213199@www.kaerjeng.lu
SUMMARY:Kiermesmenu - Harmonie Municipale Bascharage
DESCRIPTION:
URL:https://www.kaerjeng.lu/evenement/kiermesmenu-harmonie-municipale-bascharage/
LOCATION:Käerjenger Treff\, 54c\, avenue de Luxembourg\, Bascharage\, Luxembourg
CATEGORIES:Agenda
ATTACH;FMTTYPE=image/jpeg:https://www.kaerjeng.lu/wp-content/uploads/2020/10/event.jpg
END:VEVENT
BEGIN:VEVENT
DTSTART;TZID=Europe/Luxembourg:20210329T183000
DTEND;TZID=Europe/Luxembourg:20210329T200000
DTSTAMP:20260424T195302
CREATED:20210121T105357Z
LAST-MODIFIED:20210329T061629Z
UID:10000761-1617042600-1617048000@www.kaerjeng.lu
SUMMARY:Info Versammlung "Flüchtlingsstrukturen"
DESCRIPTION:
URL:https://www.kaerjeng.lu/evenement/info-versammlung-fluchtlingsstrukturen/
LOCATION:Käerjenger Treff\, 54c\, avenue de Luxembourg\, Bascharage\, Luxembourg
ATTACH;FMTTYPE=image/jpeg:https://www.kaerjeng.lu/wp-content/uploads/2020/10/event.jpg
END:VEVENT
BEGIN:VEVENT
DTSTART;VALUE=DATE:20210324
DTEND;VALUE=DATE:20210326
DTSTAMP:20260424T195302
CREATED:20210106T140834Z
LAST-MODIFIED:20210106T140834Z
UID:10000680-1616544000-1616633999@www.kaerjeng.lu
SUMMARY:Assemblée générale - Käerjeng hëlleft
DESCRIPTION:
URL:https://www.kaerjeng.lu/evenement/assemblee-generale-kaerjeng-helleft-2/
LOCATION:Käerjenger Treff\, 54c\, avenue de Luxembourg\, Bascharage\, Luxembourg
ATTACH;FMTTYPE=image/jpeg:https://www.kaerjeng.lu/wp-content/uploads/2020/10/event.jpg
END:VEVENT
BEGIN:VEVENT
DTSTART;TZID=Europe/Luxembourg:20210305T190000
DTEND;TZID=Europe/Luxembourg:20210305T210000
DTSTAMP:20260424T195302
CREATED:20210111T131935Z
LAST-MODIFIED:20210111T131935Z
UID:10000686-1614970800-1614978000@www.kaerjeng.lu
SUMMARY:Assemblée générale - Déi Gréng
DESCRIPTION:
URL:https://www.kaerjeng.lu/evenement/assemblee-generale-dei-greng/
LOCATION:Käerjenger Treff\, 54c\, avenue de Luxembourg\, Bascharage\, Luxembourg
ATTACH;FMTTYPE=image/jpeg:https://www.kaerjeng.lu/wp-content/uploads/2020/10/event.jpg
END:VEVENT
BEGIN:VEVENT
DTSTART;TZID=Europe/Luxembourg:20210302T193000
DTEND;TZID=Europe/Luxembourg:20210302T220000
DTSTAMP:20260424T195302
CREATED:20210202T141202Z
LAST-MODIFIED:20210202T141202Z
UID:10000764-1614713400-1614722400@www.kaerjeng.lu
SUMMARY:Assemblée générale - CSV Gemeng Käerjeng
DESCRIPTION:
URL:https://www.kaerjeng.lu/evenement/assemblee-generale-csv-gemeng-kaerjeng/
LOCATION:Käerjenger Treff\, 54c\, avenue de Luxembourg\, Bascharage\, Luxembourg
CATEGORIES:Agenda
ATTACH;FMTTYPE=image/jpeg:https://www.kaerjeng.lu/wp-content/uploads/2020/10/event.jpg
END:VEVENT
BEGIN:VEVENT
DTSTART;TZID=Europe/Luxembourg:20210205T190000
DTEND;TZID=Europe/Luxembourg:20210205T210000
DTSTAMP:20260424T195302
CREATED:20210106T111316Z
LAST-MODIFIED:20210106T111316Z
UID:10000676-1612551600-1612558800@www.kaerjeng.lu
SUMMARY:Assemblée générale - KaBoule
DESCRIPTION:
URL:https://www.kaerjeng.lu/evenement/assemblee-generale-kaboule/
LOCATION:Käerjenger Treff\, 54c\, avenue de Luxembourg\, Bascharage\, Luxembourg
ATTACH;FMTTYPE=image/jpeg:https://www.kaerjeng.lu/wp-content/uploads/2020/10/event.jpg
END:VEVENT
BEGIN:VEVENT
DTSTART;TZID=Europe/Luxembourg:20201128T200000
DTEND;TZID=Europe/Luxembourg:20201128T230000
DTSTAMP:20260424T195302
CREATED:20201009T090549Z
LAST-MODIFIED:20201029T094147Z
UID:10000751-1606593600-1606604400@www.kaerjeng.lu
SUMMARY:ANNULE Wanterconcert
DESCRIPTION:
URL:https://www.kaerjeng.lu/evenement/wanterconcert-2/
LOCATION:Käerjenger Treff\, 54c\, avenue de Luxembourg\, Bascharage\, Luxembourg
ATTACH;FMTTYPE=image/png:https://www.kaerjeng.lu/wp-content/uploads/2020/05/event.png
END:VEVENT
BEGIN:VEVENT
DTSTART;TZID=Europe/Luxembourg:20201124T200000
DTEND;TZID=Europe/Luxembourg:20201124T230000
DTSTAMP:20260424T195302
CREATED:20201009T090427Z
LAST-MODIFIED:20201029T080252Z
UID:10000746-1606248000-1606258800@www.kaerjeng.lu
SUMMARY:ANNULE Concert Rock Combo
DESCRIPTION:
URL:https://www.kaerjeng.lu/evenement/concert-rock-combo/
LOCATION:Käerjenger Treff\, 54c\, avenue de Luxembourg\, Bascharage\, Luxembourg
ATTACH;FMTTYPE=image/png:https://www.kaerjeng.lu/wp-content/uploads/2020/05/event.png
END:VEVENT
BEGIN:VEVENT
DTSTART;VALUE=DATE:20201121
DTEND;VALUE=DATE:20201124
DTSTAMP:20260424T195302
CREATED:20200211T093325Z
LAST-MODIFIED:20201008T094344Z
UID:10000727-1605916800-1606093199@www.kaerjeng.lu
SUMMARY:ANNULE Theater a Kaffisstufff
DESCRIPTION:
URL:https://www.kaerjeng.lu/evenement/theater-a-kaffisstufff/
LOCATION:Käerjenger Treff\, 54c\, avenue de Luxembourg\, Bascharage\, Luxembourg
ATTACH;FMTTYPE=image/png:https://www.kaerjeng.lu/wp-content/uploads/2020/05/event.png
END:VEVENT
END:VCALENDAR