BEGIN:VCALENDAR
VERSION:2.0
PRODID:-//Käerjeng - ECPv6.15.17.1//NONSGML v1.0//EN
CALSCALE:GREGORIAN
METHOD:PUBLISH
X-WR-CALNAME:Käerjeng
X-ORIGINAL-URL:https://www.kaerjeng.lu
X-WR-CALDESC:Évènements pour Käerjeng
REFRESH-INTERVAL;VALUE=DURATION:PT1H
X-Robots-Tag:noindex
X-PUBLISHED-TTL:PT1H
BEGIN:VTIMEZONE
TZID:Europe/Luxembourg
BEGIN:DAYLIGHT
TZOFFSETFROM:+0100
TZOFFSETTO:+0200
TZNAME:CEST
DTSTART:20190331T010000
END:DAYLIGHT
BEGIN:STANDARD
TZOFFSETFROM:+0200
TZOFFSETTO:+0100
TZNAME:CET
DTSTART:20191027T010000
END:STANDARD
BEGIN:DAYLIGHT
TZOFFSETFROM:+0100
TZOFFSETTO:+0200
TZNAME:CEST
DTSTART:20200329T010000
END:DAYLIGHT
BEGIN:STANDARD
TZOFFSETFROM:+0200
TZOFFSETTO:+0100
TZNAME:CET
DTSTART:20201025T010000
END:STANDARD
BEGIN:DAYLIGHT
TZOFFSETFROM:+0100
TZOFFSETTO:+0200
TZNAME:CEST
DTSTART:20210328T010000
END:DAYLIGHT
BEGIN:STANDARD
TZOFFSETFROM:+0200
TZOFFSETTO:+0100
TZNAME:CET
DTSTART:20211031T010000
END:STANDARD
BEGIN:DAYLIGHT
TZOFFSETFROM:+0100
TZOFFSETTO:+0200
TZNAME:CEST
DTSTART:20220327T010000
END:DAYLIGHT
BEGIN:STANDARD
TZOFFSETFROM:+0200
TZOFFSETTO:+0100
TZNAME:CET
DTSTART:20221030T010000
END:STANDARD
BEGIN:DAYLIGHT
TZOFFSETFROM:+0100
TZOFFSETTO:+0200
TZNAME:CEST
DTSTART:20230326T010000
END:DAYLIGHT
BEGIN:STANDARD
TZOFFSETFROM:+0200
TZOFFSETTO:+0100
TZNAME:CET
DTSTART:20231029T010000
END:STANDARD
END:VTIMEZONE
BEGIN:VEVENT
DTSTART;TZID=Europe/Luxembourg:20221001T100000
DTEND;TZID=Europe/Luxembourg:20221001T150000
DTSTAMP:20260424T173421
CREATED:20220926T103149Z
LAST-MODIFIED:20220926T103149Z
UID:10001034-1664618400-1664636400@www.kaerjeng.lu
SUMMARY:Vizfëst - Gaart an Heem Uewerkäerjeng
DESCRIPTION:
URL:https://www.kaerjeng.lu/evenement/vizfest-gaart-an-heem-uewerkaerjeng/
LOCATION:2\, rue de l’Ecole – Hautcharage
CATEGORIES:Agenda
ATTACH;FMTTYPE=image/jpeg:https://www.kaerjeng.lu/wp-content/uploads/2022/09/Vizfest_221001-Flyer-f.jpg
END:VEVENT
BEGIN:VEVENT
DTSTART;VALUE=DATE:20211002
DTEND;VALUE=DATE:20211003
DTSTAMP:20260424T173421
CREATED:20210922T063548Z
LAST-MODIFIED:20210922T102414Z
UID:10000851-1633132800-1633219199@www.kaerjeng.lu
SUMMARY:Vizefest
DESCRIPTION:
URL:https://www.kaerjeng.lu/evenement/vizefest/
LOCATION:2\, rue de l’Ecole – Hautcharage
END:VEVENT
BEGIN:VEVENT
DTSTART;TZID=Europe/Luxembourg:20210611T200000
DTEND;TZID=Europe/Luxembourg:20210611T220000
DTSTAMP:20260424T173421
CREATED:20210510T141004Z
LAST-MODIFIED:20210510T141004Z
UID:10000781-1623441600-1623448800@www.kaerjeng.lu
SUMMARY:Assemblée générale - Harmonie Hautcharage
DESCRIPTION:
URL:https://www.kaerjeng.lu/evenement/assemblee-generale-harmonie-hautcharage/
LOCATION:2\, rue de l’Ecole – Hautcharage
CATEGORIES:Agenda
ATTACH;FMTTYPE=image/jpeg:https://www.kaerjeng.lu/wp-content/uploads/2020/10/event.jpg
END:VEVENT
BEGIN:VEVENT
DTSTART;TZID=Europe/Luxembourg:20201129T153000
DTEND;TZID=Europe/Luxembourg:20201129T170000
DTSTAMP:20260424T173421
CREATED:20200211T093703Z
LAST-MODIFIED:20201109T152422Z
UID:10000731-1606663800-1606669200@www.kaerjeng.lu
SUMMARY:ANNULE: Niklosfeier
DESCRIPTION:
URL:https://www.kaerjeng.lu/evenement/niklosfeier/
LOCATION:2\, rue de l’Ecole – Hautcharage
ATTACH;FMTTYPE=image/png:https://www.kaerjeng.lu/wp-content/uploads/2020/05/event.png
END:VEVENT
BEGIN:VEVENT
DTSTART;TZID=Europe/Luxembourg:20200621T110000
DTEND;TZID=Europe/Luxembourg:20200621T160000
DTSTAMP:20260424T173421
CREATED:20200211T081238Z
LAST-MODIFIED:20200211T081238Z
UID:10000698-1592737200-1592755200@www.kaerjeng.lu
SUMMARY:Mammendagsfeier - Gaart an Heem Uewerkäerjeng
DESCRIPTION:
URL:https://www.kaerjeng.lu/evenement/mammendagsfeier-2/
LOCATION:2\, rue de l’Ecole – Hautcharage
ATTACH;FMTTYPE=image/png:https://www.kaerjeng.lu/wp-content/uploads/2020/05/event.png
END:VEVENT
BEGIN:VEVENT
DTSTART;TZID=Europe/Luxembourg:20200209T150000
DTEND;TZID=Europe/Luxembourg:20200209T200000
DTSTAMP:20260424T173421
CREATED:20200207T085535Z
LAST-MODIFIED:20200207T085535Z
UID:10000623-1581260400-1581278400@www.kaerjeng.lu
SUMMARY:Kannerfuesbal
DESCRIPTION:
URL:https://www.kaerjeng.lu/evenement/kannerfuesbal-3/
LOCATION:2\, rue de l’Ecole – Hautcharage
ATTACH;FMTTYPE=image/png:https://www.kaerjeng.lu/wp-content/uploads/2020/05/event.png
END:VEVENT
END:VCALENDAR