BEGIN:VCALENDAR
VERSION:2.0
PRODID:-//Käerjeng - ECPv5.9.0//NONSGML v1.0//EN
CALSCALE:GREGORIAN
METHOD:PUBLISH
X-WR-CALNAME:Käerjeng
X-ORIGINAL-URL:https://www.kaerjeng.lu
X-WR-CALDESC:évènements pour Käerjeng
BEGIN:VTIMEZONE
TZID:Europe/Luxembourg
BEGIN:DAYLIGHT
TZOFFSETFROM:+0100
TZOFFSETTO:+0200
TZNAME:CEST
DTSTART:20210328T010000
END:DAYLIGHT
BEGIN:STANDARD
TZOFFSETFROM:+0200
TZOFFSETTO:+0100
TZNAME:CET
DTSTART:20211031T010000
END:STANDARD
END:VTIMEZONE
BEGIN:VEVENT
DTSTART;TZID=Europe/Luxembourg:20211022T210000
DTEND;TZID=Europe/Luxembourg:20211023T010000
DTSTAMP:20211007T010254
CREATED:20211004T145010Z
LAST-MODIFIED:20211004T145754Z
UID:21746-1634936400-1634950800@www.kaerjeng.lu
SUMMARY:Kiermesbal - K.C. Fiissercher um Dill
DESCRIPTION:
URL:https://www.kaerjeng.lu/evenement/kiermesbal-k-c-fiissercher-um-dill/
LOCATION:Hautcharage – Café de la Place
CATEGORIES:Agenda
ATTACH;FMTTYPE=image/jpeg:https://www.kaerjeng.lu/wp-content/uploads/2020/10/event.jpg
END:VEVENT
END:VCALENDAR