BEGIN:VCALENDAR
VERSION:2.0
PRODID:-//Käerjeng - ECPv6.15.17.1//NONSGML v1.0//EN
CALSCALE:GREGORIAN
METHOD:PUBLISH
X-WR-CALNAME:Käerjeng
X-ORIGINAL-URL:https://www.kaerjeng.lu
X-WR-CALDESC:Évènements pour Käerjeng
REFRESH-INTERVAL;VALUE=DURATION:PT1H
X-Robots-Tag:noindex
X-PUBLISHED-TTL:PT1H
BEGIN:VTIMEZONE
TZID:Europe/Luxembourg
BEGIN:DAYLIGHT
TZOFFSETFROM:+0100
TZOFFSETTO:+0200
TZNAME:CEST
DTSTART:20190331T010000
END:DAYLIGHT
BEGIN:STANDARD
TZOFFSETFROM:+0200
TZOFFSETTO:+0100
TZNAME:CET
DTSTART:20191027T010000
END:STANDARD
BEGIN:DAYLIGHT
TZOFFSETFROM:+0100
TZOFFSETTO:+0200
TZNAME:CEST
DTSTART:20200329T010000
END:DAYLIGHT
BEGIN:STANDARD
TZOFFSETFROM:+0200
TZOFFSETTO:+0100
TZNAME:CET
DTSTART:20201025T010000
END:STANDARD
BEGIN:DAYLIGHT
TZOFFSETFROM:+0100
TZOFFSETTO:+0200
TZNAME:CEST
DTSTART:20210328T010000
END:DAYLIGHT
BEGIN:STANDARD
TZOFFSETFROM:+0200
TZOFFSETTO:+0100
TZNAME:CET
DTSTART:20211031T010000
END:STANDARD
BEGIN:DAYLIGHT
TZOFFSETFROM:+0100
TZOFFSETTO:+0200
TZNAME:CEST
DTSTART:20220327T010000
END:DAYLIGHT
BEGIN:STANDARD
TZOFFSETFROM:+0200
TZOFFSETTO:+0100
TZNAME:CET
DTSTART:20221030T010000
END:STANDARD
BEGIN:DAYLIGHT
TZOFFSETFROM:+0100
TZOFFSETTO:+0200
TZNAME:CEST
DTSTART:20230326T010000
END:DAYLIGHT
BEGIN:STANDARD
TZOFFSETFROM:+0200
TZOFFSETTO:+0100
TZNAME:CET
DTSTART:20231029T010000
END:STANDARD
BEGIN:DAYLIGHT
TZOFFSETFROM:+0100
TZOFFSETTO:+0200
TZNAME:CEST
DTSTART:20240331T010000
END:DAYLIGHT
BEGIN:STANDARD
TZOFFSETFROM:+0200
TZOFFSETTO:+0100
TZNAME:CET
DTSTART:20241027T010000
END:STANDARD
END:VTIMEZONE
BEGIN:VEVENT
DTSTART;VALUE=DATE:20230304
DTEND;VALUE=DATE:20230305
DTSTAMP:20260424T171505
CREATED:20221220T083951Z
LAST-MODIFIED:20221220T083951Z
UID:10001070-1677888000-1677974399@www.kaerjeng.lu
SUMMARY:Assemblée générale - Amicale Anc. Pompiers Clemency-Fingig
DESCRIPTION:
URL:https://www.kaerjeng.lu/evenement/assemblee-generale-amicale-anc-pompiers-clemency-fingig-2/
LOCATION:Fingig – Salle des Fêtes
CATEGORIES:Agenda
ATTACH;FMTTYPE=image/jpeg:https://www.kaerjeng.lu/wp-content/uploads/2021/08/AG.jpg
END:VEVENT
BEGIN:VEVENT
DTSTART;VALUE=DATE:20230202
DTEND;VALUE=DATE:20230203
DTSTAMP:20260424T171505
CREATED:20221214T112823Z
LAST-MODIFIED:20221214T112823Z
UID:10000912-1675296000-1675382399@www.kaerjeng.lu
SUMMARY:Liichtmessdag	- Elterevereenegung Kënzeg-Féngeg
DESCRIPTION:
URL:https://www.kaerjeng.lu/evenement/liichtmessdag-elterevereenegung-kenzeg-fengeg-3/
LOCATION:Fingig – Salle des Fêtes
CATEGORIES:Agenda
ATTACH;FMTTYPE=image/jpeg:https://www.kaerjeng.lu/wp-content/uploads/2020/10/event.jpg
END:VEVENT
BEGIN:VEVENT
DTSTART;TZID=Europe/Luxembourg:20230128T190000
DTEND;TZID=Europe/Luxembourg:20230128T210000
DTSTAMP:20260424T171505
CREATED:20221214T112715Z
LAST-MODIFIED:20221214T112715Z
UID:10000908-1674932400-1674939600@www.kaerjeng.lu
SUMMARY:Assemblée générale - Fëngeger Gesank
DESCRIPTION:
URL:https://www.kaerjeng.lu/evenement/assemblee-generale-fengeger-gesank/
LOCATION:Fingig – Salle des Fêtes
CATEGORIES:Agenda
ATTACH;FMTTYPE=image/jpeg:https://www.kaerjeng.lu/wp-content/uploads/2021/08/AG.jpg
END:VEVENT
BEGIN:VEVENT
DTSTART;TZID=Europe/Luxembourg:20230122T120000
DTEND;TZID=Europe/Luxembourg:20230122T180000
DTSTAMP:20260424T171505
CREATED:20221214T112330Z
LAST-MODIFIED:20230112T075116Z
UID:10001064-1674388800-1674410400@www.kaerjeng.lu
SUMMARY:Hierken- an Träipenmëtten - DT Féngeg
DESCRIPTION:
URL:https://www.kaerjeng.lu/evenement/hierken-an-traipenmetten-dt-fengeg/
LOCATION:Fingig – Salle des Fêtes
CATEGORIES:Agenda
END:VEVENT
BEGIN:VEVENT
DTSTART;TZID=Europe/Luxembourg:20221029T180000
DTEND;TZID=Europe/Luxembourg:20221029T220000
DTSTAMP:20260424T171505
CREATED:20220920T074230Z
LAST-MODIFIED:20221017T144151Z
UID:10000880-1667066400-1667080800@www.kaerjeng.lu
SUMMARY:Mullenowend - DT Féngeg
DESCRIPTION:
URL:https://www.kaerjeng.lu/evenement/mullenowend-dt-fengeg-2/
LOCATION:Fingig – Salle des Fêtes
CATEGORIES:Agenda
ATTACH;FMTTYPE=image/jpeg:https://www.kaerjeng.lu/wp-content/uploads/2022/10/Pages-de-Mullenoowend.jpg
END:VEVENT
BEGIN:VEVENT
DTSTART;TZID=Europe/Luxembourg:20220710T113000
DTEND;TZID=Europe/Luxembourg:20220710T150000
DTSTAMP:20260424T171505
CREATED:20220531T140448Z
LAST-MODIFIED:20220531T140448Z
UID:10000977-1657452600-1657465200@www.kaerjeng.lu
SUMMARY:Grillfest - Fengiger Gesank
DESCRIPTION:
URL:https://www.kaerjeng.lu/evenement/grillfest-fengiger-gesank/
LOCATION:Fingig – Salle des Fêtes
CATEGORIES:Agenda
ATTACH;FMTTYPE=image/jpeg:https://www.kaerjeng.lu/wp-content/uploads/2020/10/event.jpg
END:VEVENT
BEGIN:VEVENT
DTSTART;VALUE=DATE:20220708
DTEND;VALUE=DATE:20220709
DTSTAMP:20260424T171505
CREATED:20220614T082707Z
LAST-MODIFIED:20220621T101954Z
UID:10000982-1657238400-1657324799@www.kaerjeng.lu
SUMMARY:Village Fleuri - Gaart an Heem Kéinzig-Féngig
DESCRIPTION:
URL:https://www.kaerjeng.lu/evenement/village-fleuri-gaart-an-heem-keinzig-fengig/
LOCATION:Fingig – Salle des Fêtes
CATEGORIES:Agenda
ATTACH;FMTTYPE=image/jpeg:https://www.kaerjeng.lu/wp-content/uploads/2020/10/event.jpg
END:VEVENT
BEGIN:VEVENT
DTSTART;VALUE=DATE:20220701
DTEND;VALUE=DATE:20220702
DTSTAMP:20260424T171505
CREATED:20220614T082603Z
LAST-MODIFIED:20220614T082603Z
UID:10000981-1656633600-1656719999@www.kaerjeng.lu
SUMMARY:Dag an der Natur - Gaart an Heem Kéinzig-Féngig
DESCRIPTION:
URL:https://www.kaerjeng.lu/evenement/dag-an-der-natur-gaart-an-heem-keinzig-fengig/
LOCATION:Fingig – Salle des Fêtes
CATEGORIES:Agenda
ATTACH;FMTTYPE=image/jpeg:https://www.kaerjeng.lu/wp-content/uploads/2020/10/event.jpg
END:VEVENT
BEGIN:VEVENT
DTSTART;TZID=Europe/Luxembourg:20220619T090000
DTEND;TZID=Europe/Luxembourg:20220619T160000
DTSTAMP:20260424T171505
CREATED:20220525T150310Z
LAST-MODIFIED:20220525T150525Z
UID:10000972-1655629200-1655654400@www.kaerjeng.lu
SUMMARY:Marche Gourmande - DT Féngeg
DESCRIPTION:
URL:https://www.kaerjeng.lu/evenement/marche-gourmande-dt-fengeg/
LOCATION:Fingig – Salle des Fêtes
CATEGORIES:Agenda
ATTACH;FMTTYPE=image/jpeg:https://www.kaerjeng.lu/wp-content/uploads/2020/10/event.jpg
END:VEVENT
BEGIN:VEVENT
DTSTART;TZID=Europe/Luxembourg:20220529T110000
DTEND;TZID=Europe/Luxembourg:20220529T170000
DTSTAMP:20260424T171505
CREATED:20220420T135339Z
LAST-MODIFIED:20220525T142837Z
UID:10000835-1653822000-1653843600@www.kaerjeng.lu
SUMMARY:Sprëtzefest - Amicale Anc. Pompiers Clemency-Fingig
DESCRIPTION:
URL:https://www.kaerjeng.lu/evenement/spretzefest-amicale-anc-pompiers-clemency-fingig/
LOCATION:Fingig – Salle des Fêtes
CATEGORIES:Agenda
END:VEVENT
BEGIN:VEVENT
DTSTART;TZID=Europe/Luxembourg:20220528T180000
DTEND;TZID=Europe/Luxembourg:20220528T200000
DTSTAMP:20260424T171505
CREATED:20220420T135225Z
LAST-MODIFIED:20220420T135225Z
UID:10000833-1653760800-1653768000@www.kaerjeng.lu
SUMMARY:Assemblée générale – DT Féngeg
DESCRIPTION:
URL:https://www.kaerjeng.lu/evenement/assemblee-generale-dt-fengeg/
LOCATION:Fingig – Salle des Fêtes
CATEGORIES:Agenda
ATTACH;FMTTYPE=image/jpeg:https://www.kaerjeng.lu/wp-content/uploads/2021/08/AG.jpg
END:VEVENT
BEGIN:VEVENT
DTSTART;TZID=Europe/Luxembourg:20220526T140000
DTEND;TZID=Europe/Luxembourg:20220526T180000
DTSTAMP:20260424T171505
CREATED:20220419T150614Z
LAST-MODIFIED:20220419T150614Z
UID:10000957-1653573600-1653588000@www.kaerjeng.lu
SUMMARY:Tournoi de la bonne Entente - DT Féngeg
DESCRIPTION:
URL:https://www.kaerjeng.lu/evenement/tournoi-de-la-bonne-entente-dt-fengeg/
LOCATION:Fingig – Salle des Fêtes
CATEGORIES:Agenda
ATTACH;FMTTYPE=image/jpeg:https://www.kaerjeng.lu/wp-content/uploads/2020/10/event.jpg
END:VEVENT
BEGIN:VEVENT
DTSTART;TZID=Europe/Luxembourg:20220501T120000
DTEND;TZID=Europe/Luxembourg:20220501T170000
DTSTAMP:20260424T171505
CREATED:20220314T130633Z
LAST-MODIFIED:20220314T130633Z
UID:10000941-1651406400-1651424400@www.kaerjeng.lu
SUMMARY:1. Mee Feier - DT Féngeg
DESCRIPTION:
URL:https://www.kaerjeng.lu/evenement/1-mee-feier-dt-fengeg/
LOCATION:Fingig – Salle des Fêtes
CATEGORIES:Agenda
ATTACH;FMTTYPE=image/jpeg:https://www.kaerjeng.lu/wp-content/uploads/2020/10/event.jpg
END:VEVENT
BEGIN:VEVENT
DTSTART;TZID=Europe/Luxembourg:20220327T110000
DTEND;TZID=Europe/Luxembourg:20220327T120000
DTSTAMP:20260424T171505
CREATED:20220202T124012Z
LAST-MODIFIED:20220202T124012Z
UID:10000930-1648378800-1648382400@www.kaerjeng.lu
SUMMARY:Assemblée générale - PlaymoFrënn
DESCRIPTION:
URL:https://www.kaerjeng.lu/evenement/assemblee-generale-playmofrenn-2/
LOCATION:Fingig – Salle des Fêtes
CATEGORIES:Agenda
ATTACH;FMTTYPE=image/jpeg:https://www.kaerjeng.lu/wp-content/uploads/2021/08/AG.jpg
END:VEVENT
BEGIN:VEVENT
DTSTART;TZID=Europe/Luxembourg:20220202T170000
DTEND;TZID=Europe/Luxembourg:20220202T200000
DTSTAMP:20260424T171505
CREATED:20220107T130344Z
LAST-MODIFIED:20220107T130344Z
UID:10000898-1643821200-1643832000@www.kaerjeng.lu
SUMMARY:Liichtmëssdag - Elterevereenegung Kënzeg-Féngeg
DESCRIPTION:
URL:https://www.kaerjeng.lu/evenement/liichtmessdag-elterevereenegung-kenzeg-fengeg-2/
LOCATION:Fingig – Salle des Fêtes
CATEGORIES:Agenda
ATTACH;FMTTYPE=image/jpeg:https://www.kaerjeng.lu/wp-content/uploads/2020/10/event.jpg
END:VEVENT
BEGIN:VEVENT
DTSTART;TZID=Europe/Luxembourg:20220129T193000
DTEND;TZID=Europe/Luxembourg:20220129T213000
DTSTAMP:20260424T171505
CREATED:20211215T101703Z
LAST-MODIFIED:20220117T071823Z
UID:10000891-1643484600-1643491800@www.kaerjeng.lu
SUMMARY:Assemblée générale - Chorale Fingig
DESCRIPTION:
URL:https://www.kaerjeng.lu/evenement/assemblee-generale-chorale-fingig/
LOCATION:Fingig – Salle des Fêtes
CATEGORIES:Agenda
ATTACH;FMTTYPE=image/jpeg:https://www.kaerjeng.lu/wp-content/uploads/2021/08/AG.jpg
END:VEVENT
BEGIN:VEVENT
DTSTART;TZID=Europe/Luxembourg:20211030T190000
DTEND;TZID=Europe/Luxembourg:20211030T230000
DTSTAMP:20260424T171505
CREATED:20211019T114341Z
LAST-MODIFIED:20211022T055636Z
UID:10000749-1635620400-1635634800@www.kaerjeng.lu
SUMMARY:Mullenowend - DT Féngeg
DESCRIPTION:
URL:https://www.kaerjeng.lu/evenement/mullenowend-dt-fengeg/
LOCATION:Fingig – Salle des Fêtes
CATEGORIES:Agenda
ATTACH;FMTTYPE=image/jpeg:https://www.kaerjeng.lu/wp-content/uploads/2021/10/Mullefest-2021-flyer.jpg
END:VEVENT
BEGIN:VEVENT
DTSTART;VALUE=DATE:20210918
DTEND;VALUE=DATE:20210919
DTSTAMP:20260424T171505
CREATED:20210713T132107Z
LAST-MODIFIED:20210813T143744Z
UID:10000732-1631923200-1632009599@www.kaerjeng.lu
SUMMARY:Trëppeltour - Ëmweltkommissioun
DESCRIPTION:
URL:https://www.kaerjeng.lu/evenement/treppeltour-3-alterskommissioun/
LOCATION:Fingig – Salle des Fêtes
CATEGORIES:Agenda
ATTACH;FMTTYPE=image/jpeg:https://www.kaerjeng.lu/wp-content/uploads/2020/10/event.jpg
END:VEVENT
BEGIN:VEVENT
DTSTART;TZID=Europe/Luxembourg:20210815T110000
DTEND;TZID=Europe/Luxembourg:20210815T210000
DTSTAMP:20260424T171505
CREATED:20210812T060605Z
LAST-MODIFIED:20210812T062010Z
UID:10000821-1629025200-1629061200@www.kaerjeng.lu
SUMMARY:Duerffest zu Féngig
DESCRIPTION:
URL:https://www.kaerjeng.lu/evenement/duerffest-zu-fengig/
LOCATION:Fingig – Salle des Fêtes
CATEGORIES:Agenda
END:VEVENT
BEGIN:VEVENT
DTSTART;TZID=Europe/Luxembourg:20210711T113000
DTEND;TZID=Europe/Luxembourg:20210711T150000
DTSTAMP:20260424T171505
CREATED:20210615T094309Z
LAST-MODIFIED:20210615T094309Z
UID:10000807-1626003000-1626015600@www.kaerjeng.lu
SUMMARY:Grillfest - Chorale Féngig
DESCRIPTION:
URL:https://www.kaerjeng.lu/evenement/grillfest-chorale-fengig/
LOCATION:Fingig – Salle des Fêtes
CATEGORIES:Agenda
ATTACH;FMTTYPE=image/jpeg:https://www.kaerjeng.lu/wp-content/uploads/2020/10/event.jpg
END:VEVENT
BEGIN:VEVENT
DTSTART;TZID=Europe/Luxembourg:20210530T110000
DTEND;TZID=Europe/Luxembourg:20210530T160000
DTSTAMP:20260424T171505
CREATED:20210407T125459Z
LAST-MODIFIED:20210510T140714Z
UID:10000772-1622372400-1622390400@www.kaerjeng.lu
SUMMARY:Sprëtzefest - Amicale Kënzeger Pompjeeën
DESCRIPTION:
URL:https://www.kaerjeng.lu/evenement/spretzefest-amicale-kenzeger-pompjeeen/
LOCATION:Fingig – Salle des Fêtes
CATEGORIES:Agenda
ATTACH;FMTTYPE=image/jpeg:https://www.kaerjeng.lu/wp-content/uploads/2020/10/event.jpg
END:VEVENT
BEGIN:VEVENT
DTSTART;TZID=Europe/Luxembourg:20210227T150000
DTEND;TZID=Europe/Luxembourg:20210227T180000
DTSTAMP:20260424T171505
CREATED:20210121T103753Z
LAST-MODIFIED:20210121T103753Z
UID:10000688-1614438000-1614448800@www.kaerjeng.lu
SUMMARY:Hämmelsmarsch - Chorale Féngig
DESCRIPTION:
URL:https://www.kaerjeng.lu/evenement/hammelsmarsch-chorale-fengig/
LOCATION:Fingig – Salle des Fêtes
ATTACH;FMTTYPE=image/jpeg:https://www.kaerjeng.lu/wp-content/uploads/2020/10/event.jpg
END:VEVENT
BEGIN:VEVENT
DTSTART;TZID=Europe/Luxembourg:20201205T180000
DTEND;TZID=Europe/Luxembourg:20201205T230000
DTSTAMP:20260424T171505
CREATED:20201009T090816Z
LAST-MODIFIED:20201130T095454Z
UID:10000753-1607191200-1607209200@www.kaerjeng.lu
SUMMARY:ANNULE Chrëschtmaart
DESCRIPTION:
URL:https://www.kaerjeng.lu/evenement/chreschtmaart-4/
LOCATION:Fingig – Salle des Fêtes
ATTACH;FMTTYPE=image/png:https://www.kaerjeng.lu/wp-content/uploads/2020/05/event.png
END:VEVENT
BEGIN:VEVENT
DTSTART;TZID=Europe/Luxembourg:20200712T113000
DTEND;TZID=Europe/Luxembourg:20200712T160000
DTSTAMP:20260424T171505
CREATED:20200211T082846Z
LAST-MODIFIED:20200211T082846Z
UID:10000704-1594553400-1594569600@www.kaerjeng.lu
SUMMARY:Grillfest - Chorale Sainte Cécile Fingig
DESCRIPTION:
URL:https://www.kaerjeng.lu/evenement/grillfest/
LOCATION:Fingig – Salle des Fêtes
ATTACH;FMTTYPE=image/png:https://www.kaerjeng.lu/wp-content/uploads/2020/05/event.png
END:VEVENT
BEGIN:VEVENT
DTSTART;VALUE=DATE:20200628
DTEND;VALUE=DATE:20200629
DTSTAMP:20260424T171505
CREATED:20200211T082051Z
LAST-MODIFIED:20200211T082051Z
UID:10000639-1593302400-1593388799@www.kaerjeng.lu
SUMMARY:Marche gourmande - DT Féngig
DESCRIPTION:
URL:https://www.kaerjeng.lu/evenement/marche-gourmande-2/
LOCATION:Fingig – Salle des Fêtes
ATTACH;FMTTYPE=image/png:https://www.kaerjeng.lu/wp-content/uploads/2020/05/event.png
END:VEVENT
BEGIN:VEVENT
DTSTART;TZID=Europe/Luxembourg:20200607T110000
DTEND;TZID=Europe/Luxembourg:20200607T180000
DTSTAMP:20260424T171505
CREATED:20200211T080746Z
LAST-MODIFIED:20200211T080746Z
UID:10000692-1591527600-1591552800@www.kaerjeng.lu
SUMMARY:Sprëtzefest - Amicale Pompiers Clemency
DESCRIPTION:
URL:https://www.kaerjeng.lu/evenement/spretzefest/
LOCATION:Fingig – Salle des Fêtes
ATTACH;FMTTYPE=image/png:https://www.kaerjeng.lu/wp-content/uploads/2020/05/event.png
END:VEVENT
BEGIN:VEVENT
DTSTART;TZID=Europe/Luxembourg:20200523T180000
DTEND;TZID=Europe/Luxembourg:20200523T200000
DTSTAMP:20260424T171505
CREATED:20200207T150626Z
LAST-MODIFIED:20200207T150626Z
UID:10000685-1590256800-1590264000@www.kaerjeng.lu
SUMMARY:Assemblée Générale - DT Féngig
DESCRIPTION:
URL:https://www.kaerjeng.lu/evenement/assemblee-generale-17/
LOCATION:Fingig – Salle des Fêtes
ATTACH;FMTTYPE=image/png:https://www.kaerjeng.lu/wp-content/uploads/2020/05/event.png
END:VEVENT
BEGIN:VEVENT
DTSTART;TZID=Europe/Luxembourg:20200501T080000
DTEND;TZID=Europe/Luxembourg:20200501T170000
DTSTAMP:20260424T171505
CREATED:20200207T143235Z
LAST-MODIFIED:20200207T143235Z
UID:10000664-1588320000-1588352400@www.kaerjeng.lu
SUMMARY:1. Mee Feier - DT Féngig
DESCRIPTION:
URL:https://www.kaerjeng.lu/evenement/1-mee-feier/
LOCATION:Fingig – Salle des Fêtes
ATTACH;FMTTYPE=image/png:https://www.kaerjeng.lu/wp-content/uploads/2020/05/event.png
END:VEVENT
BEGIN:VEVENT
DTSTART;TZID=Europe/Luxembourg:20200308T110000
DTEND;TZID=Europe/Luxembourg:20200308T130000
DTSTAMP:20260424T171505
CREATED:20200207T101411Z
LAST-MODIFIED:20200207T101411Z
UID:10000657-1583665200-1583672400@www.kaerjeng.lu
SUMMARY:Assemblée générale
DESCRIPTION:
URL:https://www.kaerjeng.lu/evenement/assemblee-generale-9/
LOCATION:Fingig – Salle des Fêtes
ATTACH;FMTTYPE=image/png:https://www.kaerjeng.lu/wp-content/uploads/2020/05/event.png
END:VEVENT
BEGIN:VEVENT
DTSTART;TZID=Europe/Luxembourg:20200306T190000
DTEND;TZID=Europe/Luxembourg:20200306T220000
DTSTAMP:20260424T171505
CREATED:20200207T100410Z
LAST-MODIFIED:20200207T100410Z
UID:10000649-1583521200-1583532000@www.kaerjeng.lu
SUMMARY:Assemblée générale
DESCRIPTION:
URL:https://www.kaerjeng.lu/evenement/assemblee-generale-5/
LOCATION:Fingig – Salle des Fêtes
ATTACH;FMTTYPE=image/png:https://www.kaerjeng.lu/wp-content/uploads/2020/05/event.png
END:VEVENT
END:VCALENDAR