BEGIN:VCALENDAR
VERSION:2.0
PRODID:-//Käerjeng - ECPv6.15.17.1//NONSGML v1.0//EN
CALSCALE:GREGORIAN
METHOD:PUBLISH
X-WR-CALNAME:Käerjeng
X-ORIGINAL-URL:https://www.kaerjeng.lu
X-WR-CALDESC:Évènements pour Käerjeng
REFRESH-INTERVAL;VALUE=DURATION:PT1H
X-Robots-Tag:noindex
X-PUBLISHED-TTL:PT1H
BEGIN:VTIMEZONE
TZID:Europe/Luxembourg
BEGIN:DAYLIGHT
TZOFFSETFROM:+0100
TZOFFSETTO:+0200
TZNAME:CEST
DTSTART:20190331T010000
END:DAYLIGHT
BEGIN:STANDARD
TZOFFSETFROM:+0200
TZOFFSETTO:+0100
TZNAME:CET
DTSTART:20191027T010000
END:STANDARD
BEGIN:DAYLIGHT
TZOFFSETFROM:+0100
TZOFFSETTO:+0200
TZNAME:CEST
DTSTART:20200329T010000
END:DAYLIGHT
BEGIN:STANDARD
TZOFFSETFROM:+0200
TZOFFSETTO:+0100
TZNAME:CET
DTSTART:20201025T010000
END:STANDARD
BEGIN:DAYLIGHT
TZOFFSETFROM:+0100
TZOFFSETTO:+0200
TZNAME:CEST
DTSTART:20210328T010000
END:DAYLIGHT
BEGIN:STANDARD
TZOFFSETFROM:+0200
TZOFFSETTO:+0100
TZNAME:CET
DTSTART:20211031T010000
END:STANDARD
BEGIN:DAYLIGHT
TZOFFSETFROM:+0100
TZOFFSETTO:+0200
TZNAME:CEST
DTSTART:20220327T010000
END:DAYLIGHT
BEGIN:STANDARD
TZOFFSETFROM:+0200
TZOFFSETTO:+0100
TZNAME:CET
DTSTART:20221030T010000
END:STANDARD
BEGIN:DAYLIGHT
TZOFFSETFROM:+0100
TZOFFSETTO:+0200
TZNAME:CEST
DTSTART:20230326T010000
END:DAYLIGHT
BEGIN:STANDARD
TZOFFSETFROM:+0200
TZOFFSETTO:+0100
TZNAME:CET
DTSTART:20231029T010000
END:STANDARD
BEGIN:DAYLIGHT
TZOFFSETFROM:+0100
TZOFFSETTO:+0200
TZNAME:CEST
DTSTART:20240331T010000
END:DAYLIGHT
BEGIN:STANDARD
TZOFFSETFROM:+0200
TZOFFSETTO:+0100
TZNAME:CET
DTSTART:20241027T010000
END:STANDARD
BEGIN:DAYLIGHT
TZOFFSETFROM:+0100
TZOFFSETTO:+0200
TZNAME:CEST
DTSTART:20250330T010000
END:DAYLIGHT
BEGIN:STANDARD
TZOFFSETFROM:+0200
TZOFFSETTO:+0100
TZNAME:CET
DTSTART:20251026T010000
END:STANDARD
END:VTIMEZONE
BEGIN:VEVENT
DTSTART;TZID=Europe/Luxembourg:20240420T100000
DTEND;TZID=Europe/Luxembourg:20240420T120000
DTSTAMP:20260424T173457
CREATED:20240209T162648Z
LAST-MODIFIED:20240412T094810Z
UID:10001285-1713607200-1713614400@www.kaerjeng.lu
SUMMARY:Brennholzverkaf 2024
DESCRIPTION:
URL:https://www.kaerjeng.lu/evenement/holzstee-3/
LOCATION:Fingig
CATEGORIES:Agenda
ATTACH;FMTTYPE=image/jpeg:https://www.kaerjeng.lu/wp-content/uploads/2024/03/info-aktuell_A4_02-24_Brennholzverkauf-BAT_Page_1.jpg
END:VEVENT
BEGIN:VEVENT
DTSTART;TZID=Europe/Luxembourg:20240218T183000
DTEND;TZID=Europe/Luxembourg:20240218T230000
DTSTAMP:20260424T173457
CREATED:20231109T094450Z
LAST-MODIFIED:20231109T094450Z
UID:10001184-1708281000-1708297200@www.kaerjeng.lu
SUMMARY:Buergbrennen - Féngiger Jugend
DESCRIPTION:
URL:https://www.kaerjeng.lu/evenement/buergbrennen-fengiger-jugend-2/
LOCATION:Fingig
CATEGORIES:Agenda
ATTACH;FMTTYPE=image/jpeg:https://www.kaerjeng.lu/wp-content/uploads/2020/10/event.jpg
END:VEVENT
BEGIN:VEVENT
DTSTART;TZID=Europe/Luxembourg:20240201T193000
DTEND;TZID=Europe/Luxembourg:20240201T213000
DTSTAMP:20260424T173457
CREATED:20231109T091732Z
LAST-MODIFIED:20240104T135511Z
UID:10001030-1706815800-1706823000@www.kaerjeng.lu
SUMMARY:Assemblée générale - Natur & Ëmwelt Kënzeg
DESCRIPTION:
URL:https://www.kaerjeng.lu/evenement/assemblee-generale-natur-emwelt-kenzeg/
LOCATION:Fingig
CATEGORIES:Agenda
ATTACH;FMTTYPE=image/jpeg:https://www.kaerjeng.lu/wp-content/uploads/2021/08/AG.jpg
END:VEVENT
BEGIN:VEVENT
DTSTART;TZID=Europe/Luxembourg:20231216T170000
DTEND;TZID=Europe/Luxembourg:20231216T220000
DTSTAMP:20260424T173457
CREATED:20230714T145217Z
LAST-MODIFIED:20231215T143438Z
UID:10001164-1702746000-1702764000@www.kaerjeng.lu
SUMMARY:Chrëschtmaart + Concert - Féngiger Gesank
DESCRIPTION:
URL:https://www.kaerjeng.lu/evenement/creschtmaart-concert-fengiger-gesank/
LOCATION:Fingig
CATEGORIES:Agenda
ATTACH;FMTTYPE=image/jpeg:https://www.kaerjeng.lu/wp-content/uploads/2020/10/event.jpg
END:VEVENT
BEGIN:VEVENT
DTSTART;TZID=Europe/Luxembourg:20230826T190000
DTEND;TZID=Europe/Luxembourg:20230826T230000
DTSTAMP:20260424T173457
CREATED:20230222T134115Z
LAST-MODIFIED:20230809T145236Z
UID:10001120-1693076400-1693090800@www.kaerjeng.lu
SUMMARY:Fierkelsfriess - Féngiger Jugend
DESCRIPTION:
URL:https://www.kaerjeng.lu/evenement/fierkelsfriess-fengiger-jugend-2/
LOCATION:Fingig
CATEGORIES:Agenda
ATTACH;FMTTYPE=image/png:https://www.kaerjeng.lu/wp-content/uploads/2023/08/Flyer-Fierkelsfriess-2021-12882.png
END:VEVENT
BEGIN:VEVENT
DTSTART;TZID=Europe/Luxembourg:20230825T190000
DTEND;TZID=Europe/Luxembourg:20230825T230000
DTSTAMP:20260424T173457
CREATED:20230222T134025Z
LAST-MODIFIED:20230802T094912Z
UID:10001119-1692990000-1693004400@www.kaerjeng.lu
SUMMARY:BeerPong - Féngiger Jugend
DESCRIPTION:
URL:https://www.kaerjeng.lu/evenement/beerpong-fengiger-jugend/
LOCATION:Fingig
CATEGORIES:Agenda
ATTACH;FMTTYPE=image/jpeg:https://www.kaerjeng.lu/wp-content/uploads/2023/08/Beerpong-FJ.jpg
END:VEVENT
BEGIN:VEVENT
DTSTART;TZID=Europe/Luxembourg:20230226T190000
DTEND;TZID=Europe/Luxembourg:20230226T230000
DTSTAMP:20260424T173457
CREATED:20221219T150950Z
LAST-MODIFIED:20221219T150950Z
UID:10001067-1677438000-1677452400@www.kaerjeng.lu
SUMMARY:Buergbrennen	- Féngiger Jugend
DESCRIPTION:
URL:https://www.kaerjeng.lu/evenement/buergbrennen-fengiger-jugend/
LOCATION:Fingig
CATEGORIES:Agenda
ATTACH;FMTTYPE=image/jpeg:https://www.kaerjeng.lu/wp-content/uploads/2020/10/event.jpg
END:VEVENT
BEGIN:VEVENT
DTSTART;TZID=Europe/Luxembourg:20230225T143000
DTEND;TZID=Europe/Luxembourg:20230225T170000
DTSTAMP:20260424T173457
CREATED:20221219T150728Z
LAST-MODIFIED:20221219T150728Z
UID:10000924-1677335400-1677344400@www.kaerjeng.lu
SUMMARY:Hämmelsmarsch - Féngeger Gesank
DESCRIPTION:
URL:https://www.kaerjeng.lu/evenement/hammelsmarsch-fengeger-gesank/
LOCATION:Fingig
CATEGORIES:Agenda
ATTACH;FMTTYPE=image/jpeg:https://www.kaerjeng.lu/wp-content/uploads/2020/10/event.jpg
END:VEVENT
BEGIN:VEVENT
DTSTART;TZID=Europe/Luxembourg:20221008T140000
DTEND;TZID=Europe/Luxembourg:20221008T170000
DTSTAMP:20260424T173457
CREATED:20220914T145117Z
LAST-MODIFIED:20220914T145117Z
UID:10000874-1665237600-1665248400@www.kaerjeng.lu
SUMMARY:Hämmelsmarsch - Harmonie Kéinzig
DESCRIPTION:
URL:https://www.kaerjeng.lu/evenement/hammelsmarsch-harmonie-keinzig/
LOCATION:Fingig
CATEGORIES:Agenda
ATTACH;FMTTYPE=image/jpeg:https://www.kaerjeng.lu/wp-content/uploads/2020/10/event.jpg
END:VEVENT
BEGIN:VEVENT
DTSTART;VALUE=DATE:20220826
DTEND;VALUE=DATE:20220828
DTSTAMP:20260424T173457
CREATED:20220718T073907Z
LAST-MODIFIED:20220818T141530Z
UID:10001003-1661472000-1661644799@www.kaerjeng.lu
SUMMARY:Fierkeslfriess - Féngiger Jugend
DESCRIPTION:
URL:https://www.kaerjeng.lu/evenement/fierkeslfriess-fengiger-jugend/
LOCATION:Fingig
CATEGORIES:Agenda
ATTACH;FMTTYPE=image/jpeg:https://www.kaerjeng.lu/wp-content/uploads/2022/08/Fierkelsfriess-2022.jpg
END:VEVENT
BEGIN:VEVENT
DTSTART;TZID=Europe/Luxembourg:20220416T100000
DTEND;TZID=Europe/Luxembourg:20220416T120000
DTSTAMP:20260424T173457
CREATED:20220314T125834Z
LAST-MODIFIED:20220412T063838Z
UID:10000937-1650103200-1650110400@www.kaerjeng.lu
SUMMARY:Holzstee
DESCRIPTION:
URL:https://www.kaerjeng.lu/evenement/holzstee/
LOCATION:Fingig
CATEGORIES:Agenda
ATTACH;FMTTYPE=image/jpeg:https://www.kaerjeng.lu/wp-content/uploads/2022/04/info-aktuell_A4_03-22_Brennholzverkauf-BAT.jpg
END:VEVENT
BEGIN:VEVENT
DTSTART;TZID=Europe/Luxembourg:20220306T170000
DTEND;TZID=Europe/Luxembourg:20220306T230000
DTSTAMP:20260424T173457
CREATED:20220202T103618Z
LAST-MODIFIED:20220202T103750Z
UID:10000798-1646586000-1646607600@www.kaerjeng.lu
SUMMARY:Festival du feu - Esch2022
DESCRIPTION:
URL:https://www.kaerjeng.lu/evenement/festival-du-feu-esch2022-2/
LOCATION:Fingig
CATEGORIES:Agenda
ATTACH;FMTTYPE=image/jpeg:https://www.kaerjeng.lu/wp-content/uploads/2021/12/fest-feu-top.jpg
END:VEVENT
BEGIN:VEVENT
DTSTART;TZID=Europe/Luxembourg:20220305T170000
DTEND;TZID=Europe/Luxembourg:20220305T230000
DTSTAMP:20260424T173457
CREATED:20220125T101744Z
LAST-MODIFIED:20220202T103447Z
UID:10000788-1646499600-1646521200@www.kaerjeng.lu
SUMMARY:Festival du feu - Esch2022
DESCRIPTION:
URL:https://www.kaerjeng.lu/evenement/festival-du-feu-esch2022/
LOCATION:Fingig
CATEGORIES:Agenda
ATTACH;FMTTYPE=image/jpeg:https://www.kaerjeng.lu/wp-content/uploads/2021/12/fest-feu-top.jpg
END:VEVENT
BEGIN:VEVENT
DTSTART;TZID=Europe/Luxembourg:20220226T140000
DTEND;TZID=Europe/Luxembourg:20220226T160000
DTSTAMP:20260424T173457
CREATED:20220125T100821Z
LAST-MODIFIED:20220125T100821Z
UID:10000906-1645884000-1645891200@www.kaerjeng.lu
SUMMARY:Hämmelsmarsch - Féngiger Gesank
DESCRIPTION:
URL:https://www.kaerjeng.lu/evenement/hammelsmarsch-fengiger-gesank/
LOCATION:Fingig
CATEGORIES:Agenda
ATTACH;FMTTYPE=image/jpeg:https://www.kaerjeng.lu/wp-content/uploads/2020/10/event.jpg
END:VEVENT
BEGIN:VEVENT
DTSTART;TZID=Europe/Luxembourg:20211219T170000
DTEND;TZID=Europe/Luxembourg:20211219T230000
DTSTAMP:20260424T173457
CREATED:20211110T140935Z
LAST-MODIFIED:20211213T092054Z
UID:10000886-1639933200-1639954800@www.kaerjeng.lu
SUMMARY:Chrëschtmaart - Chorale Féngig
DESCRIPTION:
URL:https://www.kaerjeng.lu/evenement/chrescht-concert-chorale-fengig/
LOCATION:Fingig
CATEGORIES:Agenda
ATTACH;FMTTYPE=image/jpeg:https://www.kaerjeng.lu/wp-content/uploads/2021/12/Fingig-Kreschtmoart-2021.jpg
END:VEVENT
BEGIN:VEVENT
DTSTART;VALUE=DATE:20211009
DTEND;VALUE=DATE:20211010
DTSTAMP:20260424T173457
CREATED:20211004T144515Z
LAST-MODIFIED:20211004T144515Z
UID:10000854-1633737600-1633823999@www.kaerjeng.lu
SUMMARY:Hämmelsmarch - Harmonie Clemency
DESCRIPTION:
URL:https://www.kaerjeng.lu/evenement/hammelsmarch-harmonie-clemency/
LOCATION:Fingig
CATEGORIES:Agenda
ATTACH;FMTTYPE=image/jpeg:https://www.kaerjeng.lu/wp-content/uploads/2020/10/event.jpg
END:VEVENT
BEGIN:VEVENT
DTSTART;TZID=Europe/Luxembourg:20200301T190000
DTEND;TZID=Europe/Luxembourg:20200301T220000
DTSTAMP:20260424T173457
CREATED:20200207T095608Z
LAST-MODIFIED:20200207T095608Z
UID:10000644-1583089200-1583100000@www.kaerjeng.lu
SUMMARY:Buergbrennen
DESCRIPTION:
URL:https://www.kaerjeng.lu/evenement/buergbrennen-2/
LOCATION:Fingig
ATTACH;FMTTYPE=image/png:https://www.kaerjeng.lu/wp-content/uploads/2020/05/event.png
END:VEVENT
END:VCALENDAR