BEGIN:VCALENDAR
VERSION:2.0
PRODID:-//Käerjeng - ECPv6.15.17.1//NONSGML v1.0//EN
CALSCALE:GREGORIAN
METHOD:PUBLISH
X-WR-CALNAME:Käerjeng
X-ORIGINAL-URL:https://www.kaerjeng.lu
X-WR-CALDESC:Évènements pour Käerjeng
REFRESH-INTERVAL;VALUE=DURATION:PT1H
X-Robots-Tag:noindex
X-PUBLISHED-TTL:PT1H
BEGIN:VTIMEZONE
TZID:Europe/Luxembourg
BEGIN:DAYLIGHT
TZOFFSETFROM:+0100
TZOFFSETTO:+0200
TZNAME:CEST
DTSTART:20190331T010000
END:DAYLIGHT
BEGIN:STANDARD
TZOFFSETFROM:+0200
TZOFFSETTO:+0100
TZNAME:CET
DTSTART:20191027T010000
END:STANDARD
BEGIN:DAYLIGHT
TZOFFSETFROM:+0100
TZOFFSETTO:+0200
TZNAME:CEST
DTSTART:20200329T010000
END:DAYLIGHT
BEGIN:STANDARD
TZOFFSETFROM:+0200
TZOFFSETTO:+0100
TZNAME:CET
DTSTART:20201025T010000
END:STANDARD
BEGIN:DAYLIGHT
TZOFFSETFROM:+0100
TZOFFSETTO:+0200
TZNAME:CEST
DTSTART:20210328T010000
END:DAYLIGHT
BEGIN:STANDARD
TZOFFSETFROM:+0200
TZOFFSETTO:+0100
TZNAME:CET
DTSTART:20211031T010000
END:STANDARD
BEGIN:DAYLIGHT
TZOFFSETFROM:+0100
TZOFFSETTO:+0200
TZNAME:CEST
DTSTART:20220327T010000
END:DAYLIGHT
BEGIN:STANDARD
TZOFFSETFROM:+0200
TZOFFSETTO:+0100
TZNAME:CET
DTSTART:20221030T010000
END:STANDARD
BEGIN:DAYLIGHT
TZOFFSETFROM:+0100
TZOFFSETTO:+0200
TZNAME:CEST
DTSTART:20230326T010000
END:DAYLIGHT
BEGIN:STANDARD
TZOFFSETFROM:+0200
TZOFFSETTO:+0100
TZNAME:CET
DTSTART:20231029T010000
END:STANDARD
BEGIN:DAYLIGHT
TZOFFSETFROM:+0100
TZOFFSETTO:+0200
TZNAME:CEST
DTSTART:20240331T010000
END:DAYLIGHT
BEGIN:STANDARD
TZOFFSETFROM:+0200
TZOFFSETTO:+0100
TZNAME:CET
DTSTART:20241027T010000
END:STANDARD
BEGIN:DAYLIGHT
TZOFFSETFROM:+0100
TZOFFSETTO:+0200
TZNAME:CEST
DTSTART:20250330T010000
END:DAYLIGHT
BEGIN:STANDARD
TZOFFSETFROM:+0200
TZOFFSETTO:+0100
TZNAME:CET
DTSTART:20251026T010000
END:STANDARD
BEGIN:DAYLIGHT
TZOFFSETFROM:+0100
TZOFFSETTO:+0200
TZNAME:CEST
DTSTART:20260329T010000
END:DAYLIGHT
BEGIN:STANDARD
TZOFFSETFROM:+0200
TZOFFSETTO:+0100
TZNAME:CET
DTSTART:20261025T010000
END:STANDARD
BEGIN:DAYLIGHT
TZOFFSETFROM:+0100
TZOFFSETTO:+0200
TZNAME:CEST
DTSTART:20270328T010000
END:DAYLIGHT
BEGIN:STANDARD
TZOFFSETFROM:+0200
TZOFFSETTO:+0100
TZNAME:CET
DTSTART:20271031T010000
END:STANDARD
END:VTIMEZONE
BEGIN:VEVENT
DTSTART;TZID=Europe/Luxembourg:20260403T110000
DTEND;TZID=Europe/Luxembourg:20260403T133000
DTSTAMP:20260422T050956
CREATED:20260128T103722Z
LAST-MODIFIED:20260309T160043Z
UID:10001642-1775214000-1775223000@www.kaerjeng.lu
SUMMARY:Gebake Fësch - Harmonie Clemency
DESCRIPTION:
URL:https://www.kaerjeng.lu/evenement/gebake-fesch-harmonie-clemency-4/
LOCATION:Clemency
CATEGORIES:Agenda
ATTACH;FMTTYPE=image/jpeg:https://www.kaerjeng.lu/wp-content/uploads/2026/03/Gebake-Fesch-HK-2026.jpg
END:VEVENT
BEGIN:VEVENT
DTSTART;TZID=Europe/Luxembourg:20251224T110000
DTEND;TZID=Europe/Luxembourg:20251224T180000
DTSTAMP:20260422T050956
CREATED:20250129T102710Z
LAST-MODIFIED:20251127T082602Z
UID:10001528-1766574000-1766599200@www.kaerjeng.lu
SUMMARY:Mini Christmas Village - Kéinziger Fräschen
DESCRIPTION:
URL:https://www.kaerjeng.lu/evenement/helleg-owend-club-des-jeunes-clemency-2/
LOCATION:Clemency
CATEGORIES:Agenda
ATTACH;FMTTYPE=image/jpeg:https://www.kaerjeng.lu/wp-content/uploads/2025/11/Chrsitmasvillage-Fraschen-2025-1.jpg
END:VEVENT
BEGIN:VEVENT
DTSTART;VALUE=DATE:20250823
DTEND;VALUE=DATE:20250825
DTSTAMP:20260422T050956
CREATED:20250115T102517Z
LAST-MODIFIED:20250716T065223Z
UID:10001489-1755907200-1756079999@www.kaerjeng.lu
SUMMARY:LuxPlaymo Days - Playmo-Frënn Lëtzebuerg
DESCRIPTION:
URL:https://www.kaerjeng.lu/evenement/lux-playmo-days-playmo-frenn-letzebuerg-2/
LOCATION:Clemency
CATEGORIES:Agenda
ATTACH;FMTTYPE=image/jpeg:https://www.kaerjeng.lu/wp-content/uploads/2025/01/LuxPlaymoDays-2025.jpg
END:VEVENT
BEGIN:VEVENT
DTSTART;TZID=Europe/Luxembourg:20250607T093000
DTEND;TZID=Europe/Luxembourg:20250607T140000
DTSTAMP:20260422T050956
CREATED:20250115T080727Z
LAST-MODIFIED:20250115T080727Z
UID:10001455-1749288600-1749304800@www.kaerjeng.lu
SUMMARY:Hämmelsmarsch - Harmonie Clemency
DESCRIPTION:
URL:https://www.kaerjeng.lu/evenement/hammelsmarsch-harmonie-clemency/
LOCATION:Clemency
CATEGORIES:Agenda
ATTACH;FMTTYPE=image/jpeg:https://www.kaerjeng.lu/wp-content/uploads/2020/10/event.jpg
END:VEVENT
BEGIN:VEVENT
DTSTART;TZID=Europe/Luxembourg:20250517T090000
DTEND;TZID=Europe/Luxembourg:20250517T160000
DTSTAMP:20260422T050956
CREATED:20250425T083131Z
LAST-MODIFIED:20250425T083131Z
UID:10001547-1747472400-1747497600@www.kaerjeng.lu
SUMMARY:En Dag an der Natur - Ëmweltkommissioun
DESCRIPTION:
URL:https://www.kaerjeng.lu/evenement/en-dag-an-der-natur-emweltkommissioun/
LOCATION:Clemency
CATEGORIES:Agenda
ATTACH;FMTTYPE=image/jpeg:https://www.kaerjeng.lu/wp-content/uploads/2025/04/Capture-decran-2025-04-25-102911.jpg
END:VEVENT
BEGIN:VEVENT
DTSTART;TZID=Europe/Luxembourg:20250510T100000
DTEND;TZID=Europe/Luxembourg:20250510T120000
DTSTAMP:20260422T050956
CREATED:20250425T081246Z
LAST-MODIFIED:20250425T081246Z
UID:10001546-1746871200-1746878400@www.kaerjeng.lu
SUMMARY:Vente de bois de chauffage - Holzstee
DESCRIPTION:
URL:https://www.kaerjeng.lu/evenement/vente-de-bois-de-chauffage-holzstee/
LOCATION:Clemency
CATEGORIES:Agenda
ATTACH;FMTTYPE=image/jpeg:https://www.kaerjeng.lu/wp-content/uploads/2025/04/Holzstee-2025.jpg
END:VEVENT
BEGIN:VEVENT
DTSTART;TZID=Europe/Luxembourg:20250418T110000
DTEND;TZID=Europe/Luxembourg:20250418T140000
DTSTAMP:20260422T050956
CREATED:20250114T160522Z
LAST-MODIFIED:20250403T124850Z
UID:10001435-1744974000-1744984800@www.kaerjeng.lu
SUMMARY:Gebake Fësch - Harmonie Clemency
DESCRIPTION:
URL:https://www.kaerjeng.lu/evenement/gebake-fesch-harmonie-clemency-3/
LOCATION:Clemency
CATEGORIES:Agenda
ATTACH;FMTTYPE=image/jpeg:https://www.kaerjeng.lu/wp-content/uploads/2025/04/Gebake-Fesch-HK-2025.jpg
END:VEVENT
BEGIN:VEVENT
DTSTART;TZID=Europe/Luxembourg:20250305T110000
DTEND;TZID=Europe/Luxembourg:20250305T140000
DTSTAMP:20260422T050956
CREATED:20241217T142733Z
LAST-MODIFIED:20250217T152015Z
UID:10001405-1741172400-1741183200@www.kaerjeng.lu
SUMMARY:Gebake Fësch - Harmonie Clemency
DESCRIPTION:
URL:https://www.kaerjeng.lu/evenement/gebake-fesch-harmonie-clemency-2/
LOCATION:Clemency
CATEGORIES:Agenda
ATTACH;FMTTYPE=image/jpeg:https://www.kaerjeng.lu/wp-content/uploads/2025/02/Gebake-Fesch-05.03.2025.jpg
END:VEVENT
BEGIN:VEVENT
DTSTART;TZID=Europe/Luxembourg:20250202T170000
DTEND;TZID=Europe/Luxembourg:20250202T210000
DTSTAMP:20260422T050956
CREATED:20241217T133305Z
LAST-MODIFIED:20241217T133305Z
UID:10001391-1738515600-1738530000@www.kaerjeng.lu
SUMMARY:Liichtmëssdag - Elterevereenegung Kéinzig-Féngig
DESCRIPTION:
URL:https://www.kaerjeng.lu/evenement/liichtmessdag-elterevereenegung-keinzig-fengig/
LOCATION:Clemency
CATEGORIES:Agenda
ATTACH;FMTTYPE=image/jpeg:https://www.kaerjeng.lu/wp-content/uploads/2020/10/event.jpg
END:VEVENT
BEGIN:VEVENT
DTSTART;VALUE=DATE:20240518
DTEND;VALUE=DATE:20240519
DTSTAMP:20260422T050956
CREATED:20240105T150635Z
LAST-MODIFIED:20240105T150635Z
UID:10001269-1715990400-1716076799@www.kaerjeng.lu
SUMMARY:Hämmelsmarsch - Harmonie Kéinzig
DESCRIPTION:
URL:https://www.kaerjeng.lu/evenement/hammelsmarsch-harmonie-keinzig-2/
LOCATION:Clemency
CATEGORIES:Agenda
ATTACH;FMTTYPE=image/jpeg:https://www.kaerjeng.lu/wp-content/uploads/2020/10/event.jpg
END:VEVENT
BEGIN:VEVENT
DTSTART;VALUE=DATE:20240329
DTEND;VALUE=DATE:20240330
DTSTAMP:20260422T050956
CREATED:20240105T150557Z
LAST-MODIFIED:20240308T113036Z
UID:10001268-1711670400-1711756799@www.kaerjeng.lu
SUMMARY:Gebake Fësch - Harmonie Kéinzig
DESCRIPTION:
URL:https://www.kaerjeng.lu/evenement/gebake-fesch-harmonie-keinzig-6/
LOCATION:Clemency
CATEGORIES:Agenda
ATTACH;FMTTYPE=image/jpeg:https://www.kaerjeng.lu/wp-content/uploads/2024/03/Gebake-Fesch-HK-2024-2.jpg
END:VEVENT
BEGIN:VEVENT
DTSTART;TZID=Europe/Luxembourg:20240316T100000
DTEND;TZID=Europe/Luxembourg:20240316T180000
DTSTAMP:20260422T050956
CREATED:20240213T160548Z
LAST-MODIFIED:20240213T160548Z
UID:10001287-1710583200-1710612000@www.kaerjeng.lu
SUMMARY:Hobby & Floumaart - Murphy's Racing Team / Amicale Sapeurs Pompiers Clemency
DESCRIPTION:
URL:https://www.kaerjeng.lu/evenement/hobby-floumaart-murphys-racing-team-amicale-sapeurs-pompiers-clemency/
LOCATION:Clemency
CATEGORIES:Agenda
END:VEVENT
BEGIN:VEVENT
DTSTART;VALUE=DATE:20240214
DTEND;VALUE=DATE:20240215
DTSTAMP:20260422T050956
CREATED:20240105T150526Z
LAST-MODIFIED:20240123T083454Z
UID:10001267-1707868800-1707955199@www.kaerjeng.lu
SUMMARY:Gebake Fësch - Harmonie Kéinzig
DESCRIPTION:
URL:https://www.kaerjeng.lu/evenement/gebake-fesch-harmonie-keinzig-5/
LOCATION:Clemency
CATEGORIES:Agenda
ATTACH;FMTTYPE=image/jpeg:https://www.kaerjeng.lu/wp-content/uploads/2024/01/Gebake-Fesch-HK-2024.jpg
END:VEVENT
BEGIN:VEVENT
DTSTART;TZID=Europe/Luxembourg:20240202T180000
DTEND;TZID=Europe/Luxembourg:20240202T200000
DTSTAMP:20260422T050956
CREATED:20231128T141451Z
LAST-MODIFIED:20231128T141451Z
UID:10001208-1706896800-1706904000@www.kaerjeng.lu
SUMMARY:Liichtmessdag - Elterevereenegung Kéinzig
DESCRIPTION:
URL:https://www.kaerjeng.lu/evenement/liichtmessdag-elterevereenegung-keinzig/
LOCATION:Clemency
CATEGORIES:Agenda
ATTACH;FMTTYPE=image/jpeg:https://www.kaerjeng.lu/wp-content/uploads/2020/10/event.jpg
END:VEVENT
BEGIN:VEVENT
DTSTART;TZID=Europe/Luxembourg:20230507T093000
DTEND;TZID=Europe/Luxembourg:20230507T160000
DTSTAMP:20260422T050956
CREATED:20230405T141328Z
LAST-MODIFIED:20230405T141338Z
UID:10001127-1683451800-1683475200@www.kaerjeng.lu
SUMMARY:Dag an der Natur - Ëmweltkommissioun
DESCRIPTION:
URL:https://www.kaerjeng.lu/evenement/dag-an-der-natur-emweltkommissioun-4/
LOCATION:Clemency
CATEGORIES:Agenda
ATTACH;FMTTYPE=image/jpeg:https://www.kaerjeng.lu/wp-content/uploads/2023/04/info-aktuell_A4_03-23_En-Dag-an-der-Natur-BAT_Page_1.jpg
END:VEVENT
BEGIN:VEVENT
DTSTART;TZID=Europe/Luxembourg:20230415T100000
DTEND;TZID=Europe/Luxembourg:20230415T110000
DTSTAMP:20260422T050956
CREATED:20230405T150321Z
LAST-MODIFIED:20230405T150407Z
UID:10001129-1681552800-1681556400@www.kaerjeng.lu
SUMMARY:Brennholzverkaf 2023
DESCRIPTION:
URL:https://www.kaerjeng.lu/evenement/holzstee-2/
LOCATION:Clemency
CATEGORIES:Agenda
ATTACH;FMTTYPE=image/jpeg:https://www.kaerjeng.lu/wp-content/uploads/2023/04/info-aktuell_A4_02-23_Brennholzverkauf-BAT_Page_1.jpg
END:VEVENT
BEGIN:VEVENT
DTSTART;TZID=Europe/Luxembourg:20230407T110000
DTEND;TZID=Europe/Luxembourg:20230407T150000
DTSTAMP:20260422T050956
CREATED:20221220T091408Z
LAST-MODIFIED:20230323T150433Z
UID:10001082-1680865200-1680879600@www.kaerjeng.lu
SUMMARY:Gebake Fësch - Harmonie Kéinzig
DESCRIPTION:
URL:https://www.kaerjeng.lu/evenement/gebake-fesch-harmonie-keinzig-4/
LOCATION:Clemency
CATEGORIES:Agenda
ATTACH;FMTTYPE=image/jpeg:https://www.kaerjeng.lu/wp-content/uploads/2023/03/Gebacke-Fesch-2023.jpg
END:VEVENT
BEGIN:VEVENT
DTSTART;TZID=Europe/Luxembourg:20230222T110000
DTEND;TZID=Europe/Luxembourg:20230222T140000
DTSTAMP:20260422T050956
CREATED:20221214T113252Z
LAST-MODIFIED:20230217T112519Z
UID:10000920-1677063600-1677074400@www.kaerjeng.lu
SUMMARY:Gebake Fësch - Harmonie Kéinzig
DESCRIPTION:
URL:https://www.kaerjeng.lu/evenement/gebake-fesch-harmonie-keinzig-3/
LOCATION:Clemency
CATEGORIES:Agenda
ATTACH;FMTTYPE=image/jpeg:https://www.kaerjeng.lu/wp-content/uploads/2023/02/Geabake-Fesch-2023.jpeg
END:VEVENT
BEGIN:VEVENT
DTSTART;VALUE=DATE:20221224
DTEND;VALUE=DATE:20221225
DTSTAMP:20260422T050956
CREATED:20221018T073525Z
LAST-MODIFIED:20221018T073525Z
UID:10001051-1671840000-1671926399@www.kaerjeng.lu
SUMMARY:Hellegowend - Club des jeunes Kënzeg
DESCRIPTION:
URL:https://www.kaerjeng.lu/evenement/hellegowend-club-des-jeunes-kenzeg/
LOCATION:Clemency
CATEGORIES:Agenda
ATTACH;FMTTYPE=image/jpeg:https://www.kaerjeng.lu/wp-content/uploads/2020/10/event.jpg
END:VEVENT
BEGIN:VEVENT
DTSTART;TZID=Europe/Luxembourg:20220604T093000
DTEND;TZID=Europe/Luxembourg:20220604T120000
DTSTAMP:20260422T050956
CREATED:20220420T135914Z
LAST-MODIFIED:20220420T135914Z
UID:10000841-1654335000-1654344000@www.kaerjeng.lu
SUMMARY:Hämmelsmarch - Harmonie Clemency
DESCRIPTION:
URL:https://www.kaerjeng.lu/evenement/hammelsmarch-harmonie-clemency-2/
LOCATION:Clemency
CATEGORIES:Agenda
ATTACH;FMTTYPE=image/jpeg:https://www.kaerjeng.lu/wp-content/uploads/2020/10/event.jpg
END:VEVENT
BEGIN:VEVENT
DTSTART;TZID=Europe/Luxembourg:20220202T170000
DTEND;TZID=Europe/Luxembourg:20220202T200000
DTSTAMP:20260422T050956
CREATED:20220107T130237Z
LAST-MODIFIED:20220107T130407Z
UID:10000897-1643821200-1643832000@www.kaerjeng.lu
SUMMARY:Liichtmëssdag - Elterevereenegung Kënzeg-Féngeg
DESCRIPTION:
URL:https://www.kaerjeng.lu/evenement/liichtmessdag-elterevereenegung-kenzeg-fengeg/
LOCATION:Clemency
CATEGORIES:Agenda
ATTACH;FMTTYPE=image/jpeg:https://www.kaerjeng.lu/wp-content/uploads/2020/10/event.jpg
END:VEVENT
BEGIN:VEVENT
DTSTART;TZID=Europe/Luxembourg:20211010T100000
DTEND;TZID=Europe/Luxembourg:20211010T120000
DTSTAMP:20260422T050956
CREATED:20210813T151826Z
LAST-MODIFIED:20210813T151826Z
UID:10000847-1633860000-1633867200@www.kaerjeng.lu
SUMMARY:Nationalen Erënnerungsdag
DESCRIPTION:
URL:https://www.kaerjeng.lu/evenement/nationalen-erennerungsdag/
LOCATION:Clemency
CATEGORIES:Agenda
ATTACH;FMTTYPE=image/jpeg:https://www.kaerjeng.lu/wp-content/uploads/2020/10/event.jpg
END:VEVENT
BEGIN:VEVENT
DTSTART;VALUE=DATE:20201224
DTEND;VALUE=DATE:20201226
DTSTAMP:20260422T050956
CREATED:20201216T114438Z
LAST-MODIFIED:20201223T135417Z
UID:10000674-1608768000-1608857999@www.kaerjeng.lu
SUMMARY:Glühwäin mam CDJ
DESCRIPTION:
URL:https://www.kaerjeng.lu/evenement/gluhwain-mam-cdj/
LOCATION:Clemency
ATTACH;FMTTYPE=image/png:https://www.kaerjeng.lu/wp-content/uploads/2020/12/Visuel-festif_2020-1.png63-004.png
END:VEVENT
BEGIN:VEVENT
DTSTART;VALUE=DATE:20200530
DTEND;VALUE=DATE:20200531
DTSTAMP:20260422T050956
CREATED:20200211T080048Z
LAST-MODIFIED:20200211T080048Z
UID:10000689-1590796800-1590883199@www.kaerjeng.lu
SUMMARY:Hämmelsmarsch - Clemency
DESCRIPTION:
URL:https://www.kaerjeng.lu/evenement/hammelsmarsch-2/
LOCATION:Clemency
ATTACH;FMTTYPE=image/png:https://www.kaerjeng.lu/wp-content/uploads/2020/05/event.png
END:VEVENT
END:VCALENDAR