BEGIN:VCALENDAR
VERSION:2.0
PRODID:-//Käerjeng - ECPv6.15.17.1//NONSGML v1.0//EN
CALSCALE:GREGORIAN
METHOD:PUBLISH
X-ORIGINAL-URL:https://www.kaerjeng.lu
X-WR-CALDESC:Évènements pour Käerjeng
REFRESH-INTERVAL;VALUE=DURATION:PT1H
X-Robots-Tag:noindex
X-PUBLISHED-TTL:PT1H
BEGIN:VTIMEZONE
TZID:Europe/Luxembourg
BEGIN:DAYLIGHT
TZOFFSETFROM:+0100
TZOFFSETTO:+0200
TZNAME:CEST
DTSTART:20190331T010000
END:DAYLIGHT
BEGIN:STANDARD
TZOFFSETFROM:+0200
TZOFFSETTO:+0100
TZNAME:CET
DTSTART:20191027T010000
END:STANDARD
BEGIN:DAYLIGHT
TZOFFSETFROM:+0100
TZOFFSETTO:+0200
TZNAME:CEST
DTSTART:20200329T010000
END:DAYLIGHT
BEGIN:STANDARD
TZOFFSETFROM:+0200
TZOFFSETTO:+0100
TZNAME:CET
DTSTART:20201025T010000
END:STANDARD
BEGIN:DAYLIGHT
TZOFFSETFROM:+0100
TZOFFSETTO:+0200
TZNAME:CEST
DTSTART:20210328T010000
END:DAYLIGHT
BEGIN:STANDARD
TZOFFSETFROM:+0200
TZOFFSETTO:+0100
TZNAME:CET
DTSTART:20211031T010000
END:STANDARD
BEGIN:DAYLIGHT
TZOFFSETFROM:+0100
TZOFFSETTO:+0200
TZNAME:CEST
DTSTART:20220327T010000
END:DAYLIGHT
BEGIN:STANDARD
TZOFFSETFROM:+0200
TZOFFSETTO:+0100
TZNAME:CET
DTSTART:20221030T010000
END:STANDARD
BEGIN:DAYLIGHT
TZOFFSETFROM:+0100
TZOFFSETTO:+0200
TZNAME:CEST
DTSTART:20230326T010000
END:DAYLIGHT
BEGIN:STANDARD
TZOFFSETFROM:+0200
TZOFFSETTO:+0100
TZNAME:CET
DTSTART:20231029T010000
END:STANDARD
BEGIN:DAYLIGHT
TZOFFSETFROM:+0100
TZOFFSETTO:+0200
TZNAME:CEST
DTSTART:20240331T010000
END:DAYLIGHT
BEGIN:STANDARD
TZOFFSETFROM:+0200
TZOFFSETTO:+0100
TZNAME:CET
DTSTART:20241027T010000
END:STANDARD
BEGIN:DAYLIGHT
TZOFFSETFROM:+0100
TZOFFSETTO:+0200
TZNAME:CEST
DTSTART:20250330T010000
END:DAYLIGHT
BEGIN:STANDARD
TZOFFSETFROM:+0200
TZOFFSETTO:+0100
TZNAME:CET
DTSTART:20251026T010000
END:STANDARD
BEGIN:DAYLIGHT
TZOFFSETFROM:+0100
TZOFFSETTO:+0200
TZNAME:CEST
DTSTART:20260329T010000
END:DAYLIGHT
BEGIN:STANDARD
TZOFFSETFROM:+0200
TZOFFSETTO:+0100
TZNAME:CET
DTSTART:20261025T010000
END:STANDARD
BEGIN:DAYLIGHT
TZOFFSETFROM:+0100
TZOFFSETTO:+0200
TZNAME:CEST
DTSTART:20270328T010000
END:DAYLIGHT
BEGIN:STANDARD
TZOFFSETFROM:+0200
TZOFFSETTO:+0100
TZNAME:CET
DTSTART:20271031T010000
END:STANDARD
END:VTIMEZONE
BEGIN:VEVENT
DTSTART;TZID=Europe/Luxembourg:20260222T103000
DTEND;TZID=Europe/Luxembourg:20260222T120000
DTSTAMP:20260422T072259
CREATED:20251218T103506Z
LAST-MODIFIED:20251218T103506Z
UID:10001600-1771756200-1771761600@www.kaerjeng.lu
SUMMARY:Assemblée générale - ES Clemency
DESCRIPTION:
URL:https://www.kaerjeng.lu/evenement/assemblee-generale-es-clemency/
LOCATION:Clemency – Terrain de football
CATEGORIES:Agenda
ATTACH;FMTTYPE=image/jpeg:https://www.kaerjeng.lu/wp-content/uploads/2021/08/AG.jpg
END:VEVENT
BEGIN:VEVENT
DTSTART;TZID=Europe/Luxembourg:20260126T190000
DTEND;TZID=Europe/Luxembourg:20260126T210000
DTSTAMP:20260422T072259
CREATED:20260113T093931Z
LAST-MODIFIED:20260113T094026Z
UID:10001634-1769454000-1769461200@www.kaerjeng.lu
SUMMARY:Assemblée générale - TC Kënzeg-Féngeg
DESCRIPTION:
URL:https://www.kaerjeng.lu/evenement/assemblee-generale-tc-keinzig/
LOCATION:Clemency – Terrain de football
CATEGORIES:Agenda
ATTACH;FMTTYPE=image/jpeg:https://www.kaerjeng.lu/wp-content/uploads/2021/08/AG.jpg
END:VEVENT
BEGIN:VEVENT
DTSTART;TZID=Europe/Luxembourg:20250815T160000
DTEND;TZID=Europe/Luxembourg:20250815T200000
DTSTAMP:20260422T072259
CREATED:20250115T102135Z
LAST-MODIFIED:20250804T135255Z
UID:10001486-1755273600-1755288000@www.kaerjeng.lu
SUMMARY:Tournoi d'été (Consolation et Finale) - FC ES Clemency
DESCRIPTION:
URL:https://www.kaerjeng.lu/evenement/tournoi-dete-finales-fc-es-clemency/
LOCATION:Clemency – Terrain de football
CATEGORIES:Agenda
ATTACH;FMTTYPE=image/jpeg:https://www.kaerjeng.lu/wp-content/uploads/2025/08/Tournoi-dete-ES-Clemency-2025.jpg
END:VEVENT
BEGIN:VEVENT
DTSTART;TZID=Europe/Luxembourg:20250810T160000
DTEND;TZID=Europe/Luxembourg:20250810T200000
DTSTAMP:20260422T072259
CREATED:20250115T100208Z
LAST-MODIFIED:20250804T135212Z
UID:10001485-1754841600-1754856000@www.kaerjeng.lu
SUMMARY:Tournoi d'été (Tours éliminatoires) - FC ES Clemency
DESCRIPTION:
URL:https://www.kaerjeng.lu/evenement/tournoi-dete-elimination-fc-es-clemency/
LOCATION:Clemency – Terrain de football
CATEGORIES:Agenda
ATTACH;FMTTYPE=image/jpeg:https://www.kaerjeng.lu/wp-content/uploads/2025/08/Tournoi-dete-ES-Clemency-2025.jpg
END:VEVENT
BEGIN:VEVENT
DTSTART;TZID=Europe/Luxembourg:20250223T103000
DTEND;TZID=Europe/Luxembourg:20250223T120000
DTSTAMP:20260422T072259
CREATED:20241217T141912Z
LAST-MODIFIED:20241217T141912Z
UID:10001396-1740306600-1740312000@www.kaerjeng.lu
SUMMARY:Assemblée générale - FC ES Clemency
DESCRIPTION:
URL:https://www.kaerjeng.lu/evenement/assemblee-generale-fc-es-clemency/
LOCATION:Clemency – Terrain de football
CATEGORIES:Agenda
ATTACH;FMTTYPE=image/jpeg:https://www.kaerjeng.lu/wp-content/uploads/2021/08/AG.jpg
END:VEVENT
BEGIN:VEVENT
DTSTART;TZID=Europe/Luxembourg:20250123T200000
DTEND;TZID=Europe/Luxembourg:20250123T210000
DTSTAMP:20260422T072259
CREATED:20241217T130837Z
LAST-MODIFIED:20250103T144741Z
UID:10001381-1737662400-1737666000@www.kaerjeng.lu
SUMMARY:Assemblée générale - TC Kéinzig-Féngig
DESCRIPTION:
URL:https://www.kaerjeng.lu/evenement/assemblee-generale-tc-keinzig-fengig-2/
LOCATION:Clemency – Terrain de football
CATEGORIES:Agenda
ATTACH;FMTTYPE=image/jpeg:https://www.kaerjeng.lu/wp-content/uploads/2021/08/AG.jpg
END:VEVENT
BEGIN:VEVENT
DTSTART;TZID=Europe/Luxembourg:20240218T103000
DTEND;TZID=Europe/Luxembourg:20240218T120000
DTSTAMP:20260422T072259
CREATED:20231109T094338Z
LAST-MODIFIED:20231128T141608Z
UID:10001183-1708252200-1708257600@www.kaerjeng.lu
SUMMARY:Assemblée générale - Etoile Sportive Clemency
DESCRIPTION:
URL:https://www.kaerjeng.lu/evenement/assemblee-generale-fc-etoile-sportive-clemency-3/
LOCATION:Clemency – Terrain de football
CATEGORIES:Agenda
ATTACH;FMTTYPE=image/jpeg:https://www.kaerjeng.lu/wp-content/uploads/2021/08/AG.jpg
END:VEVENT
BEGIN:VEVENT
DTSTART;TZID=Europe/Luxembourg:20240125T200000
DTEND;TZID=Europe/Luxembourg:20240125T220000
DTSTAMP:20260422T072259
CREATED:20231109T091617Z
LAST-MODIFIED:20240118T134539Z
UID:10001028-1706212800-1706220000@www.kaerjeng.lu
SUMMARY:Assemblée générale - TC Kéinzig-Féngig
DESCRIPTION:
URL:https://www.kaerjeng.lu/evenement/assemblee-generale-tc-keinzig-fengig/
LOCATION:Clemency – Terrain de football
CATEGORIES:Agenda
ATTACH;FMTTYPE=image/jpeg:https://www.kaerjeng.lu/wp-content/uploads/2021/08/AG.jpg
END:VEVENT
BEGIN:VEVENT
DTSTART;VALUE=DATE:20230813
DTEND;VALUE=DATE:20230816
DTSTAMP:20260422T072259
CREATED:20230222T133941Z
LAST-MODIFIED:20230802T094821Z
UID:10001118-1691884800-1692143999@www.kaerjeng.lu
SUMMARY:Tournoi d'été - FC Etoile Sportive Clemency
DESCRIPTION:
URL:https://www.kaerjeng.lu/evenement/tournoi-dete-fc-etoile-sportive-clemency/
LOCATION:Clemency – Terrain de football
CATEGORIES:Agenda
ATTACH;FMTTYPE=image/jpeg:https://www.kaerjeng.lu/wp-content/uploads/2023/08/FCES-Clemency-Coupe-13.08.jpg
END:VEVENT
BEGIN:VEVENT
DTSTART;TZID=Europe/Luxembourg:20230219T103000
DTEND;TZID=Europe/Luxembourg:20230219T120000
DTSTAMP:20260422T072259
CREATED:20221214T113203Z
LAST-MODIFIED:20221214T113203Z
UID:10000918-1676802600-1676808000@www.kaerjeng.lu
SUMMARY:Assemblée générale - FC Etoile Sportive Clemency
DESCRIPTION:
URL:https://www.kaerjeng.lu/evenement/assemblee-generale-fc-etoile-sportive-clemency-2/
LOCATION:Clemency – Terrain de football
CATEGORIES:Agenda
ATTACH;FMTTYPE=image/jpeg:https://www.kaerjeng.lu/wp-content/uploads/2021/08/AG.jpg
END:VEVENT
BEGIN:VEVENT
DTSTART;TZID=Europe/Luxembourg:20220814T160000
DTEND;TZID=Europe/Luxembourg:20220815T210000
DTSTAMP:20260422T072259
CREATED:20220718T073347Z
LAST-MODIFIED:20220718T073347Z
UID:10001001-1660492800-1660597200@www.kaerjeng.lu
SUMMARY:Tournoi Seniors - FC Etoile Sportive Clemency
DESCRIPTION:
URL:https://www.kaerjeng.lu/evenement/tournoi-seniors-fc-etoile-sportive-clemency/
LOCATION:Clemency – Terrain de football
CATEGORIES:Agenda
ATTACH;FMTTYPE=image/jpeg:https://www.kaerjeng.lu/wp-content/uploads/2020/10/event.jpg
END:VEVENT
BEGIN:VEVENT
DTSTART;TZID=Europe/Luxembourg:20210815T160000
DTEND;TZID=Europe/Luxembourg:20210815T210000
DTSTAMP:20260422T072259
CREATED:20210713T130817Z
LAST-MODIFIED:20210713T130817Z
UID:10000728-1629043200-1629061200@www.kaerjeng.lu
SUMMARY:Coupe Emile Reuter-Reichert - FC Etoile Sportive Clemency
DESCRIPTION:
URL:https://www.kaerjeng.lu/evenement/coupe-emile-reuter-reichert-fc-etoile-sportive-clemency-2/
LOCATION:Clemency – Terrain de football
CATEGORIES:Agenda
ATTACH;FMTTYPE=image/jpeg:https://www.kaerjeng.lu/wp-content/uploads/2020/10/event.jpg
END:VEVENT
BEGIN:VEVENT
DTSTART;TZID=Europe/Luxembourg:20210808T160000
DTEND;TZID=Europe/Luxembourg:20210808T210000
DTSTAMP:20260422T072259
CREATED:20210713T130719Z
LAST-MODIFIED:20210713T130719Z
UID:10000726-1628438400-1628456400@www.kaerjeng.lu
SUMMARY:Coupe Emile Reuter-Reichert - FC Etoile Sportive Clemency
DESCRIPTION:
URL:https://www.kaerjeng.lu/evenement/coupe-emile-reuter-reichert-fc-etoile-sportive-clemency/
LOCATION:Clemency – Terrain de football
CATEGORIES:Agenda
ATTACH;FMTTYPE=image/jpeg:https://www.kaerjeng.lu/wp-content/uploads/2020/10/event.jpg
END:VEVENT
BEGIN:VEVENT
DTSTART;VALUE=DATE:20200815
DTEND;VALUE=DATE:20200817
DTSTAMP:20260422T072259
CREATED:20200211T085000Z
LAST-MODIFIED:20200211T085000Z
UID:10000715-1597449600-1597622399@www.kaerjeng.lu
SUMMARY:Coupe Emile Reuter-Reichert
DESCRIPTION:
URL:https://www.kaerjeng.lu/evenement/coupe-emile-reuter-reichert/
LOCATION:Clemency – Terrain de football
ATTACH;FMTTYPE=image/png:https://www.kaerjeng.lu/wp-content/uploads/2020/05/event.png
END:VEVENT
END:VCALENDAR