BEGIN:VCALENDAR
VERSION:2.0
PRODID:-//Käerjeng - ECPv6.15.17.1//NONSGML v1.0//EN
CALSCALE:GREGORIAN
METHOD:PUBLISH
X-ORIGINAL-URL:https://www.kaerjeng.lu
X-WR-CALDESC:Évènements pour Käerjeng
REFRESH-INTERVAL;VALUE=DURATION:PT1H
X-Robots-Tag:noindex
X-PUBLISHED-TTL:PT1H
BEGIN:VTIMEZONE
TZID:Europe/Luxembourg
BEGIN:DAYLIGHT
TZOFFSETFROM:+0100
TZOFFSETTO:+0200
TZNAME:CEST
DTSTART:20200329T010000
END:DAYLIGHT
BEGIN:STANDARD
TZOFFSETFROM:+0200
TZOFFSETTO:+0100
TZNAME:CET
DTSTART:20201025T010000
END:STANDARD
BEGIN:DAYLIGHT
TZOFFSETFROM:+0100
TZOFFSETTO:+0200
TZNAME:CEST
DTSTART:20210328T010000
END:DAYLIGHT
BEGIN:STANDARD
TZOFFSETFROM:+0200
TZOFFSETTO:+0100
TZNAME:CET
DTSTART:20211031T010000
END:STANDARD
BEGIN:DAYLIGHT
TZOFFSETFROM:+0100
TZOFFSETTO:+0200
TZNAME:CEST
DTSTART:20220327T010000
END:DAYLIGHT
BEGIN:STANDARD
TZOFFSETFROM:+0200
TZOFFSETTO:+0100
TZNAME:CET
DTSTART:20221030T010000
END:STANDARD
BEGIN:DAYLIGHT
TZOFFSETFROM:+0100
TZOFFSETTO:+0200
TZNAME:CEST
DTSTART:20230326T010000
END:DAYLIGHT
BEGIN:STANDARD
TZOFFSETFROM:+0200
TZOFFSETTO:+0100
TZNAME:CET
DTSTART:20231029T010000
END:STANDARD
BEGIN:DAYLIGHT
TZOFFSETFROM:+0100
TZOFFSETTO:+0200
TZNAME:CEST
DTSTART:20240331T010000
END:DAYLIGHT
BEGIN:STANDARD
TZOFFSETFROM:+0200
TZOFFSETTO:+0100
TZNAME:CET
DTSTART:20241027T010000
END:STANDARD
BEGIN:DAYLIGHT
TZOFFSETFROM:+0100
TZOFFSETTO:+0200
TZNAME:CEST
DTSTART:20250330T010000
END:DAYLIGHT
BEGIN:STANDARD
TZOFFSETFROM:+0200
TZOFFSETTO:+0100
TZNAME:CET
DTSTART:20251026T010000
END:STANDARD
BEGIN:DAYLIGHT
TZOFFSETFROM:+0100
TZOFFSETTO:+0200
TZNAME:CEST
DTSTART:20260329T010000
END:DAYLIGHT
BEGIN:STANDARD
TZOFFSETFROM:+0200
TZOFFSETTO:+0100
TZNAME:CET
DTSTART:20261025T010000
END:STANDARD
BEGIN:DAYLIGHT
TZOFFSETFROM:+0100
TZOFFSETTO:+0200
TZNAME:CEST
DTSTART:20270328T010000
END:DAYLIGHT
BEGIN:STANDARD
TZOFFSETFROM:+0200
TZOFFSETTO:+0100
TZNAME:CET
DTSTART:20271031T010000
END:STANDARD
END:VTIMEZONE
BEGIN:VEVENT
DTSTART;TZID=Europe/Luxembourg:20260320T183000
DTEND;TZID=Europe/Luxembourg:20260320T193000
DTSTAMP:20260422T111208
CREATED:20260309T160358Z
LAST-MODIFIED:20260309T160358Z
UID:10001718-1774031400-1774035000@www.kaerjeng.lu
SUMMARY:Assemblée générale - Käerjenger Guiden a Scouten
DESCRIPTION:
URL:https://www.kaerjeng.lu/evenement/assemblee-generale-kaerjenger-guiden-a-scouten-2/
LOCATION:Clemency – Scoutshome\, 1\, rue de la Gare\, Clemency\, 4966\, Luxembourg
CATEGORIES:Agenda
ATTACH;FMTTYPE=image/jpeg:https://www.kaerjeng.lu/wp-content/uploads/2021/08/AG.jpg
END:VEVENT
BEGIN:VEVENT
DTSTART;TZID=Europe/Luxembourg:20250606T170000
DTEND;TZID=Europe/Luxembourg:20250606T230000
DTSTAMP:20260422T111208
CREATED:20250513T120011Z
LAST-MODIFIED:20250516T101304Z
UID:10001553-1749229200-1749250800@www.kaerjeng.lu
SUMMARY:Afterwork - Käerjenger Guiden a Scouten
DESCRIPTION:
URL:https://www.kaerjeng.lu/evenement/afterwork-guiden-a-scouten-kaerjeng/
LOCATION:Clemency – Scoutshome\, 1\, rue de la Gare\, Clemency\, 4966\, Luxembourg
CATEGORIES:Agenda
ATTACH;FMTTYPE=image/jpeg:https://www.kaerjeng.lu/wp-content/uploads/2025/05/Guiden-a-Scouten-Flyer-Afterwork-2025.jpg
END:VEVENT
BEGIN:VEVENT
DTSTART;TZID=Europe/Luxembourg:20250307T190000
DTEND;TZID=Europe/Luxembourg:20250307T210000
DTSTAMP:20260422T111208
CREATED:20250224T142445Z
LAST-MODIFIED:20250224T142445Z
UID:10001539-1741374000-1741381200@www.kaerjeng.lu
SUMMARY:Assemblée générale - Guiden a Scouten Käerjeng
DESCRIPTION:
URL:https://www.kaerjeng.lu/evenement/assemblee-generale-guiden-a-scouten-kaerjeng/
LOCATION:Clemency – Scoutshome\, 1\, rue de la Gare\, Clemency\, 4966\, Luxembourg
CATEGORIES:Agenda
ATTACH;FMTTYPE=image/jpeg:https://www.kaerjeng.lu/wp-content/uploads/2021/08/AG.jpg
END:VEVENT
BEGIN:VEVENT
DTSTART;TZID=Europe/Luxembourg:20240322T180000
DTEND;TZID=Europe/Luxembourg:20240322T200000
DTSTAMP:20260422T111208
CREATED:20240206T135801Z
LAST-MODIFIED:20240206T135801Z
UID:10001280-1711130400-1711137600@www.kaerjeng.lu
SUMMARY:Assemblée générale – Käerjenger Guiden a Scouten
DESCRIPTION:
URL:https://www.kaerjeng.lu/evenement/assemblee-generale-kaerjenger-guiden-a-scouten/
LOCATION:Clemency – Scoutshome\, 1\, rue de la Gare\, Clemency\, 4966\, Luxembourg
CATEGORIES:Agenda
ATTACH;FMTTYPE=image/jpeg:https://www.kaerjeng.lu/wp-content/uploads/2021/08/AG.jpg
END:VEVENT
BEGIN:VEVENT
DTSTART;TZID=Europe/Luxembourg:20231125T133000
DTEND;TZID=Europe/Luxembourg:20231126T173000
DTSTAMP:20260422T111208
CREATED:20231117T145814Z
LAST-MODIFIED:20231117T145900Z
UID:10001201-1700919000-1701019800@www.kaerjeng.lu
SUMMARY:Wanter Maart - Lëtzebuerger Guiden a Scouten - St. Willibrord Käerjeng
DESCRIPTION:
URL:https://www.kaerjeng.lu/evenement/wanter-maart/
LOCATION:Clemency – Scoutshome\, 1\, rue de la Gare\, Clemency\, 4966\, Luxembourg
CATEGORIES:Agenda
ATTACH;FMTTYPE=image/jpeg:https://www.kaerjeng.lu/wp-content/uploads/2023/11/2023_Wantermaart-Guiden-a-Scouten.jpg
END:VEVENT
BEGIN:VEVENT
DTSTART;TZID=Europe/Luxembourg:20221119T140000
DTEND;TZID=Europe/Luxembourg:20221120T200000
DTSTAMP:20260422T111208
CREATED:20221018T071048Z
LAST-MODIFIED:20221031T095507Z
UID:10001039-1668866400-1668974400@www.kaerjeng.lu
SUMMARY:Wantermaart - Guiden a Scouten Käerjeng
DESCRIPTION:
URL:https://www.kaerjeng.lu/evenement/adventsbazar-guiden-a-scouten-kaerjeng/
LOCATION:Clemency – Scoutshome\, 1\, rue de la Gare\, Clemency\, 4966\, Luxembourg
CATEGORIES:Agenda
ATTACH;FMTTYPE=image/jpeg:https://www.kaerjeng.lu/wp-content/uploads/2022/10/Wantermaart-GS-2022.jpg
END:VEVENT
BEGIN:VEVENT
DTSTART;TZID=Europe/Luxembourg:20211120T140000
DTEND;TZID=Europe/Luxembourg:20211121T180000
DTSTAMP:20260422T111208
CREATED:20211117T093253Z
LAST-MODIFIED:20211117T093253Z
UID:10000888-1637416800-1637517600@www.kaerjeng.lu
SUMMARY:Wanter Bazar - Guiden a Scouten Käerjeng
DESCRIPTION:
URL:https://www.kaerjeng.lu/evenement/wanter-bazar-guiden-a-scouten-kaerjeng/
LOCATION:Clemency – Scoutshome\, 1\, rue de la Gare\, Clemency\, 4966\, Luxembourg
CATEGORIES:Agenda
ATTACH;FMTTYPE=image/jpeg:https://www.kaerjeng.lu/wp-content/uploads/2021/11/Wanterbasar-2021.jpg
END:VEVENT
END:VCALENDAR