BEGIN:VCALENDAR
VERSION:2.0
PRODID:-//Käerjeng - ECPv6.15.17.1//NONSGML v1.0//EN
CALSCALE:GREGORIAN
METHOD:PUBLISH
X-WR-CALNAME:Käerjeng
X-ORIGINAL-URL:https://www.kaerjeng.lu
X-WR-CALDESC:Évènements pour Käerjeng
REFRESH-INTERVAL;VALUE=DURATION:PT1H
X-Robots-Tag:noindex
X-PUBLISHED-TTL:PT1H
BEGIN:VTIMEZONE
TZID:Europe/Luxembourg
BEGIN:DAYLIGHT
TZOFFSETFROM:+0100
TZOFFSETTO:+0200
TZNAME:CEST
DTSTART:20230326T010000
END:DAYLIGHT
BEGIN:STANDARD
TZOFFSETFROM:+0200
TZOFFSETTO:+0100
TZNAME:CET
DTSTART:20231029T010000
END:STANDARD
BEGIN:DAYLIGHT
TZOFFSETFROM:+0100
TZOFFSETTO:+0200
TZNAME:CEST
DTSTART:20240331T010000
END:DAYLIGHT
BEGIN:STANDARD
TZOFFSETFROM:+0200
TZOFFSETTO:+0100
TZNAME:CET
DTSTART:20241027T010000
END:STANDARD
BEGIN:DAYLIGHT
TZOFFSETFROM:+0100
TZOFFSETTO:+0200
TZNAME:CEST
DTSTART:20250330T010000
END:DAYLIGHT
BEGIN:STANDARD
TZOFFSETFROM:+0200
TZOFFSETTO:+0100
TZNAME:CET
DTSTART:20251026T010000
END:STANDARD
BEGIN:DAYLIGHT
TZOFFSETFROM:+0100
TZOFFSETTO:+0200
TZNAME:CEST
DTSTART:20260329T010000
END:DAYLIGHT
BEGIN:STANDARD
TZOFFSETFROM:+0200
TZOFFSETTO:+0100
TZNAME:CET
DTSTART:20261025T010000
END:STANDARD
END:VTIMEZONE
BEGIN:VEVENT
DTSTART;TZID=Europe/Luxembourg:20251026T140000
DTEND;TZID=Europe/Luxembourg:20251026T170000
DTSTAMP:20260424T195623
CREATED:20250128T150454Z
LAST-MODIFIED:20251020T075413Z
UID:10001512-1761487200-1761498000@www.kaerjeng.lu
SUMMARY:Social Gaming	- Elterevereenegung Kéinzig-Féngig
DESCRIPTION:
URL:https://www.kaerjeng.lu/evenement/social-gaming-elterevereenegung-keinzig-fengig/
LOCATION:Clemency – Salle des Fêtes
CATEGORIES:Agenda
ATTACH;FMTTYPE=image/jpeg:https://www.kaerjeng.lu/wp-content/uploads/2025/01/Social-Gaming-2025.jpg
END:VEVENT
BEGIN:VEVENT
DTSTART;VALUE=DATE:20251019
DTEND;VALUE=DATE:20251020
DTSTAMP:20260424T195623
CREATED:20250115T104300Z
LAST-MODIFIED:20250115T104300Z
UID:10001504-1760832000-1760918399@www.kaerjeng.lu
SUMMARY:Marche populaire - Amis des Marcheurs Bascharage
DESCRIPTION:
URL:https://www.kaerjeng.lu/evenement/marche-populaire-amis-des-marcheurs-bascharage-3/
LOCATION:Clemency – Salle des Fêtes
CATEGORIES:Agenda
ATTACH;FMTTYPE=image/jpeg:https://www.kaerjeng.lu/wp-content/uploads/2020/10/event.jpg
END:VEVENT
BEGIN:VEVENT
DTSTART;TZID=Europe/Luxembourg:20251004T080000
DTEND;TZID=Europe/Luxembourg:20251004T170000
DTSTAMP:20260424T195623
CREATED:20250115T103534Z
LAST-MODIFIED:20250923T080309Z
UID:10001498-1759564800-1759597200@www.kaerjeng.lu
SUMMARY:Hobbymaart - Amicale Pompiers Kéinzig-Féngig
DESCRIPTION:
URL:https://www.kaerjeng.lu/evenement/hobbymaart-amicale-pompiers-keinzig-fengig/
LOCATION:Clemency – Salle des Fêtes
CATEGORIES:Agenda
ATTACH;FMTTYPE=image/jpeg:https://www.kaerjeng.lu/wp-content/uploads/2025/09/Hobbymaart-Amicale-Pompier-Clemency.jpg
END:VEVENT
BEGIN:VEVENT
DTSTART;TZID=Europe/Luxembourg:20250928T110000
DTEND;TZID=Europe/Luxembourg:20250928T170000
DTSTAMP:20260424T195623
CREATED:20250115T103434Z
LAST-MODIFIED:20250715T070446Z
UID:10001497-1759057200-1759078800@www.kaerjeng.lu
SUMMARY:Musiksfest - Harmonie Clemency
DESCRIPTION:
URL:https://www.kaerjeng.lu/evenement/museksfest-harmonie-clemency/
LOCATION:Clemency – Salle des Fêtes
CATEGORIES:Agenda
ATTACH;FMTTYPE=image/jpeg:https://www.kaerjeng.lu/wp-content/uploads/2025/07/musiksfest-keinzig-2025.jpg
END:VEVENT
BEGIN:VEVENT
DTSTART;TZID=Europe/Luxembourg:20250905T183000
DTEND;TZID=Europe/Luxembourg:20250905T200000
DTSTAMP:20260424T195623
CREATED:20250814T075725Z
LAST-MODIFIED:20250814T075725Z
UID:10001561-1757097000-1757102400@www.kaerjeng.lu
SUMMARY:Assemblée générale - Amicale Pompiers Kéinzig-Féngig
DESCRIPTION:
URL:https://www.kaerjeng.lu/evenement/assemblee-generale-amicale-pompiers-keinzig-fengig-2/
LOCATION:Clemency – Salle des Fêtes
CATEGORIES:Agenda
ATTACH;FMTTYPE=image/jpeg:https://www.kaerjeng.lu/wp-content/uploads/2021/08/AG.jpg
END:VEVENT
BEGIN:VEVENT
DTSTART;TZID=Europe/Luxembourg:20250711T190000
DTEND;TZID=Europe/Luxembourg:20250711T230000
DTSTAMP:20260424T195623
CREATED:20250618T134619Z
LAST-MODIFIED:20250618T134619Z
UID:10001557-1752260400-1752274800@www.kaerjeng.lu
SUMMARY:Remise des diplômes - Käerjenger Musekschoul
DESCRIPTION:
URL:https://www.kaerjeng.lu/evenement/remise-des-diplomes-kaerjenger-musekschoul/
LOCATION:Clemency – Salle des Fêtes
CATEGORIES:Agenda
ATTACH;FMTTYPE=image/jpeg:https://www.kaerjeng.lu/wp-content/uploads/2025/06/Remise-des-diplomes-KMS-2025.jpg
END:VEVENT
BEGIN:VEVENT
DTSTART;TZID=Europe/Luxembourg:20250704T170000
DTEND;TZID=Europe/Luxembourg:20250704T230000
DTSTAMP:20260424T195623
CREATED:20250224T155316Z
LAST-MODIFIED:20250530T105722Z
UID:10001540-1751648400-1751670000@www.kaerjeng.lu
SUMMARY:Roude Feierowend- LSAP Käerjeng
DESCRIPTION:
URL:https://www.kaerjeng.lu/evenement/afterwork-lsap-kaerjeng/
LOCATION:Clemency – Salle des Fêtes
CATEGORIES:Agenda
ATTACH;FMTTYPE=image/jpeg:https://www.kaerjeng.lu/wp-content/uploads/2025/05/Roude-Feierowend-LSAP-Kaerjeng-2025.jpg
END:VEVENT
BEGIN:VEVENT
DTSTART;TZID=Europe/Luxembourg:20250628T200000
DTEND;TZID=Europe/Luxembourg:20250628T230000
DTSTAMP:20260424T195623
CREATED:20250115T084201Z
LAST-MODIFIED:20250520T134236Z
UID:10001469-1751140800-1751151600@www.kaerjeng.lu
SUMMARY:Concert Bridge of songs	- Ensemble Vocal Vivace
DESCRIPTION:
URL:https://www.kaerjeng.lu/evenement/concert-bridge-of-songs-ensemble-vocal-vivace/
LOCATION:Clemency – Salle des Fêtes
CATEGORIES:Agenda
ATTACH;FMTTYPE=image/jpeg:https://www.kaerjeng.lu/wp-content/uploads/2025/01/Bridge-of-songs-2025.jpg
END:VEVENT
BEGIN:VEVENT
DTSTART;VALUE=DATE:20250612
DTEND;VALUE=DATE:20250615
DTSTAMP:20260424T195623
CREATED:20250115T081719Z
LAST-MODIFIED:20250606T081605Z
UID:10001459-1749744000-1749931200@www.kaerjeng.lu
SUMMARY:Bicherbourse - Elterevereenegung Kéinzig-Féngig
DESCRIPTION:
URL:https://www.kaerjeng.lu/evenement/bicherbourse-elterevereenegung-keinzig-fengig/
LOCATION:Clemency – Salle des Fêtes
CATEGORIES:Agenda
ATTACH;FMTTYPE=image/jpeg:https://www.kaerjeng.lu/wp-content/uploads/2025/01/Bicherbourse-2025.jpg
END:VEVENT
BEGIN:VEVENT
DTSTART;TZID=Europe/Luxembourg:20250517T200000
DTEND;TZID=Europe/Luxembourg:20250517T230000
DTSTAMP:20260424T195623
CREATED:20250115T075740Z
LAST-MODIFIED:20250403T125005Z
UID:10001447-1747512000-1747522800@www.kaerjeng.lu
SUMMARY:Gala Concert - Harmonie Clemency
DESCRIPTION:
URL:https://www.kaerjeng.lu/evenement/gala-concert-harmonie-clemency-2/
LOCATION:Clemency – Salle des Fêtes
CATEGORIES:Agenda
ATTACH;FMTTYPE=image/jpeg:https://www.kaerjeng.lu/wp-content/uploads/2025/04/Gala-Concert-HK-2025.jpg
END:VEVENT
BEGIN:VEVENT
DTSTART;TZID=Europe/Luxembourg:20250504T150000
DTEND;TZID=Europe/Luxembourg:20250504T160000
DTSTAMP:20260424T195623
CREATED:20250115T075106Z
LAST-MODIFIED:20250417T140459Z
UID:10001443-1746370800-1746374400@www.kaerjeng.lu
SUMMARY:Assemblée générale - Gaart an Heem Kéinzig-Féngeg
DESCRIPTION:
URL:https://www.kaerjeng.lu/evenement/assemblee-generale-gaart-an-heem-keinzig-2/
LOCATION:Clemency – Salle des Fêtes
CATEGORIES:Agenda
ATTACH;FMTTYPE=image/jpeg:https://www.kaerjeng.lu/wp-content/uploads/2021/08/AG.jpg
END:VEVENT
BEGIN:VEVENT
DTSTART;TZID=Europe/Luxembourg:20250503T090000
DTEND;TZID=Europe/Luxembourg:20250503T190000
DTSTAMP:20260424T195623
CREATED:20250115T074948Z
LAST-MODIFIED:20250416T061606Z
UID:10001442-1746262800-1746298800@www.kaerjeng.lu
SUMMARY:Cars & Grill - Murphy's Racing Team
DESCRIPTION:
URL:https://www.kaerjeng.lu/evenement/cars-grill-murphys-racing-team-2/
LOCATION:Clemency – Salle des Fêtes
CATEGORIES:Agenda
END:VEVENT
BEGIN:VEVENT
DTSTART;TZID=Europe/Luxembourg:20250329T193000
DTEND;TZID=Europe/Luxembourg:20250329T230000
DTSTAMP:20260424T195623
CREATED:20250114T160031Z
LAST-MODIFIED:20250305T132925Z
UID:10001431-1743276600-1743289200@www.kaerjeng.lu
SUMMARY:Sketch FU-FU - ES Clemency / TC Kënzeg
DESCRIPTION:
URL:https://www.kaerjeng.lu/evenement/sketch-fu-fu-es-clemency-tc-kenzeg-3/
LOCATION:Clemency – Salle des Fêtes
CATEGORIES:Agenda
ATTACH;FMTTYPE=image/jpeg:https://www.kaerjeng.lu/wp-content/uploads/2025/03/Sketch-FuFu-2025.jpg
END:VEVENT
BEGIN:VEVENT
DTSTART;TZID=Europe/Luxembourg:20250328T193000
DTEND;TZID=Europe/Luxembourg:20250328T230000
DTSTAMP:20260424T195623
CREATED:20241217T145439Z
LAST-MODIFIED:20250305T132729Z
UID:10001425-1743190200-1743202800@www.kaerjeng.lu
SUMMARY:Sketch FU-FU - ES Clemency / TC Kënzeg
DESCRIPTION:
URL:https://www.kaerjeng.lu/evenement/sketch-fu-fu-es-clemency-tc-kenzeg-2/
LOCATION:Clemency – Salle des Fêtes
CATEGORIES:Agenda
ATTACH;FMTTYPE=image/jpeg:https://www.kaerjeng.lu/wp-content/uploads/2025/03/Sketch-FuFu-2025.jpg
END:VEVENT
BEGIN:VEVENT
DTSTART;TZID=Europe/Luxembourg:20250325T190000
DTEND;TZID=Europe/Luxembourg:20250325T200000
DTSTAMP:20260424T195623
CREATED:20250221T160224Z
LAST-MODIFIED:20250221T160224Z
UID:10001536-1742929200-1742932800@www.kaerjeng.lu
SUMMARY:Assemblée générale - Natur & Ëmwelt Kéinzig-Féngig-Grass
DESCRIPTION:
URL:https://www.kaerjeng.lu/evenement/assemblee-generale-natur-emwelt-keinzig-fengig-grass/
LOCATION:Clemency – Salle des Fêtes
CATEGORIES:Agenda
ATTACH;FMTTYPE=image/jpeg:https://www.kaerjeng.lu/wp-content/uploads/2021/08/AG.jpg
END:VEVENT
BEGIN:VEVENT
DTSTART;TZID=Europe/Luxembourg:20250322T193000
DTEND;TZID=Europe/Luxembourg:20250322T230000
DTSTAMP:20260424T195623
CREATED:20241217T144655Z
LAST-MODIFIED:20250305T132640Z
UID:10001420-1742671800-1742684400@www.kaerjeng.lu
SUMMARY:Sketch FU-FU - ES Clemency / TC Kënzeg
DESCRIPTION:
URL:https://www.kaerjeng.lu/evenement/sketch-fu-fu-es-clemency-tc-kenzeg/
LOCATION:Clemency – Salle des Fêtes
CATEGORIES:Agenda
ATTACH;FMTTYPE=image/jpeg:https://www.kaerjeng.lu/wp-content/uploads/2025/03/Sketch-FuFu-2025.jpg
END:VEVENT
BEGIN:VEVENT
DTSTART;TZID=Europe/Luxembourg:20250316T100000
DTEND;TZID=Europe/Luxembourg:20250316T120000
DTSTAMP:20260424T195623
CREATED:20241217T144310Z
LAST-MODIFIED:20241217T144310Z
UID:10001416-1742119200-1742126400@www.kaerjeng.lu
SUMMARY:Assemblée générale - Harmonie Clemency
DESCRIPTION:
URL:https://www.kaerjeng.lu/evenement/assemblee-generale-harmonie-clemency/
LOCATION:Clemency – Salle des Fêtes
CATEGORIES:Agenda
ATTACH;FMTTYPE=image/jpeg:https://www.kaerjeng.lu/wp-content/uploads/2021/08/AG.jpg
END:VEVENT
BEGIN:VEVENT
DTSTART;TZID=Europe/Luxembourg:20250315T190000
DTEND;TZID=Europe/Luxembourg:20250315T200000
DTSTAMP:20260424T195623
CREATED:20241217T144121Z
LAST-MODIFIED:20241217T144201Z
UID:10001415-1742065200-1742068800@www.kaerjeng.lu
SUMMARY:Assemblée générale - Amicale Pompiers Kéinzig-Féngig
DESCRIPTION:
URL:https://www.kaerjeng.lu/evenement/assemblee-generale-amicale-pompiers-keinzig-fengig/
LOCATION:Clemency – Salle des Fêtes
CATEGORIES:Agenda
ATTACH;FMTTYPE=image/jpeg:https://www.kaerjeng.lu/wp-content/uploads/2021/08/AG.jpg
END:VEVENT
BEGIN:VEVENT
DTSTART;TZID=Europe/Luxembourg:20250314T180000
DTEND;TZID=Europe/Luxembourg:20250314T220000
DTSTAMP:20260424T195623
CREATED:20241217T143932Z
LAST-MODIFIED:20250304T124913Z
UID:10001413-1741975200-1741989600@www.kaerjeng.lu
SUMMARY:CSV Winter Closing - CSV Käerjeng
DESCRIPTION:
URL:https://www.kaerjeng.lu/evenement/csv-winter-closing-csv-kaerjeng/
LOCATION:Clemency – Salle des Fêtes
CATEGORIES:Agenda
ATTACH;FMTTYPE=image/jpeg:https://www.kaerjeng.lu/wp-content/uploads/2025/03/CSV-Winter-Closing-2025.jpg
END:VEVENT
BEGIN:VEVENT
DTSTART;TZID=Europe/Luxembourg:20250309T140000
DTEND;TZID=Europe/Luxembourg:20250309T180000
DTSTAMP:20260424T195623
CREATED:20241217T143606Z
LAST-MODIFIED:20250218T094413Z
UID:10001410-1741528800-1741543200@www.kaerjeng.lu
SUMMARY:Kannerfuesbal - Elterevereenegung Kéinzig-Féngig
DESCRIPTION:
URL:https://www.kaerjeng.lu/evenement/fuesparty-elterevereenegung-keinzig-fengig/
LOCATION:Clemency – Salle des Fêtes
CATEGORIES:Agenda
ATTACH;FMTTYPE=image/jpeg:https://www.kaerjeng.lu/wp-content/uploads/2025/02/Kannerfuesbal-2025-Keinzig.jpg
END:VEVENT
BEGIN:VEVENT
DTSTART;TZID=Europe/Luxembourg:20250307T200000
DTEND;TZID=Europe/Luxembourg:20250307T230000
DTSTAMP:20260424T195623
CREATED:20241217T142823Z
LAST-MODIFIED:20250204T080809Z
UID:10001406-1741377600-1741388400@www.kaerjeng.lu
SUMMARY:"Mämmories" Jemp Schuster	- Kulturkommissioun
DESCRIPTION:
URL:https://www.kaerjeng.lu/evenement/mammories-jemp-schuster-kulturkommissioun/
LOCATION:Clemency – Salle des Fêtes
CATEGORIES:Agenda
ATTACH;FMTTYPE=image/jpeg:https://www.kaerjeng.lu/wp-content/uploads/2025/02/info-aktuell_A4_11-24_Mammories-BAT_Page_1.jpg
END:VEVENT
BEGIN:VEVENT
DTSTART;TZID=Europe/Luxembourg:20250302T140000
DTEND;TZID=Europe/Luxembourg:20250302T180000
DTSTAMP:20260424T195623
CREATED:20241217T142520Z
LAST-MODIFIED:20250225T142553Z
UID:10001403-1740924000-1740938400@www.kaerjeng.lu
SUMMARY:Thé dansant mat Fuesbal - 3. Alterskommissioun
DESCRIPTION:
URL:https://www.kaerjeng.lu/evenement/the-dansant-3-alterskommissioun/
LOCATION:Clemency – Salle des Fêtes
CATEGORIES:Agenda
ATTACH;FMTTYPE=image/jpeg:https://www.kaerjeng.lu/wp-content/uploads/2025/02/info-aktuell_A4_01-25_Thé-dansant-BAT.jpg
END:VEVENT
BEGIN:VEVENT
DTSTART;TZID=Europe/Luxembourg:20250208T200000
DTEND;TZID=Europe/Luxembourg:20250208T230000
DTSTAMP:20260424T195623
CREATED:20250131T073051Z
LAST-MODIFIED:20250131T073051Z
UID:10001529-1739044800-1739055600@www.kaerjeng.lu
SUMMARY:Theater "Wat en Zirkus" - Harmonie Clemency
DESCRIPTION:
URL:https://www.kaerjeng.lu/evenement/theater-wat-en-zirkus-harmonie-clemency/
LOCATION:Clemency – Salle des Fêtes
CATEGORIES:Agenda
ATTACH;FMTTYPE=image/jpeg:https://www.kaerjeng.lu/wp-content/uploads/2024/12/Theater-HK-2025.jpg
END:VEVENT
BEGIN:VEVENT
DTSTART;TZID=Europe/Luxembourg:20250207T200000
DTEND;TZID=Europe/Luxembourg:20250207T230000
DTSTAMP:20260424T195623
CREATED:20241209T082607Z
LAST-MODIFIED:20250131T073139Z
UID:10001373-1738958400-1738969200@www.kaerjeng.lu
SUMMARY:Theater "Wat en Zirkus" - Harmonie Clemency
DESCRIPTION:
URL:https://www.kaerjeng.lu/evenement/theater-wat-een-zirkus-harmonie-clemency/
LOCATION:Clemency – Salle des Fêtes
CATEGORIES:Agenda
ATTACH;FMTTYPE=image/jpeg:https://www.kaerjeng.lu/wp-content/uploads/2024/12/Theater-HK-2025.jpg
END:VEVENT
BEGIN:VEVENT
DTSTART;TZID=Europe/Luxembourg:20250201T200000
DTEND;TZID=Europe/Luxembourg:20250201T230000
DTSTAMP:20260424T195623
CREATED:20241209T082500Z
LAST-MODIFIED:20241209T082647Z
UID:10001372-1738440000-1738450800@www.kaerjeng.lu
SUMMARY:Theater "Wat en Zirkus" - Harmonie Clemency
DESCRIPTION:
URL:https://www.kaerjeng.lu/evenement/theater-harmonie-clemency/
LOCATION:Clemency – Salle des Fêtes
CATEGORIES:Agenda
ATTACH;FMTTYPE=image/jpeg:https://www.kaerjeng.lu/wp-content/uploads/2024/12/Theater-HK-2025.jpg
END:VEVENT
BEGIN:VEVENT
DTSTART;TZID=Europe/Luxembourg:20250123T190000
DTEND;TZID=Europe/Luxembourg:20250123T200000
DTSTAMP:20260424T195623
CREATED:20241217T130751Z
LAST-MODIFIED:20241217T130751Z
UID:10001380-1737658800-1737662400@www.kaerjeng.lu
SUMMARY:Assemblée générale - Murphy's Racing Team
DESCRIPTION:
URL:https://www.kaerjeng.lu/evenement/assemblee-generale-murphys-racing-team-4/
LOCATION:Clemency – Salle des Fêtes
CATEGORIES:Agenda
ATTACH;FMTTYPE=image/jpeg:https://www.kaerjeng.lu/wp-content/uploads/2021/08/AG.jpg
END:VEVENT
BEGIN:VEVENT
DTSTART;TZID=Europe/Luxembourg:20250117T193000
DTEND;TZID=Europe/Luxembourg:20250117T230000
DTSTAMP:20260424T195623
CREATED:20241217T130249Z
LAST-MODIFIED:20241217T130541Z
UID:10001378-1737142200-1737154800@www.kaerjeng.lu
SUMMARY:Concert Chant moderne "Aus dem Liewen" - Käerjenger Musekschoul
DESCRIPTION:
URL:https://www.kaerjeng.lu/evenement/concert-chant-moderne-kaerjenger-musekschoul-2/
LOCATION:Clemency – Salle des Fêtes
CATEGORIES:Agenda
ATTACH;FMTTYPE=image/jpeg:https://www.kaerjeng.lu/wp-content/uploads/2024/12/Concert-chant-moderne-Musekschoul-2025.jpg
END:VEVENT
BEGIN:VEVENT
DTSTART;TZID=Europe/Luxembourg:20241221T200000
DTEND;TZID=Europe/Luxembourg:20241221T230000
DTSTAMP:20260424T195623
CREATED:20240215T140514Z
LAST-MODIFIED:20241107T083057Z
UID:10001312-1734811200-1734822000@www.kaerjeng.lu
SUMMARY:Chrëschtconcert - Harmonie Kéinzig
DESCRIPTION:
URL:https://www.kaerjeng.lu/evenement/chreschtconcert-harmonie-keinzig-2/
LOCATION:Clemency – Salle des Fêtes
CATEGORIES:Agenda
ATTACH;FMTTYPE=image/jpeg:https://www.kaerjeng.lu/wp-content/uploads/2024/02/Music-Cocktail-2024.jpg
END:VEVENT
BEGIN:VEVENT
DTSTART;TZID=Europe/Luxembourg:20241129T110000
DTEND;TZID=Europe/Luxembourg:20241129T150000
DTSTAMP:20260424T195623
CREATED:20240215T140101Z
LAST-MODIFIED:20241107T083652Z
UID:10001306-1732878000-1732892400@www.kaerjeng.lu
SUMMARY:Rentnerfeier - Jugend- an 3. Alterkommissioun
DESCRIPTION:
URL:https://www.kaerjeng.lu/evenement/rentnerfeier-jugend-an-3-alterkommissioun-2/
LOCATION:Clemency – Salle des Fêtes
CATEGORIES:Agenda
ATTACH;FMTTYPE=image/jpeg:https://www.kaerjeng.lu/wp-content/uploads/2024/11/cover-2.jpg
END:VEVENT
BEGIN:VEVENT
DTSTART;TZID=Europe/Luxembourg:20241124T110000
DTEND;TZID=Europe/Luxembourg:20241124T170000
DTSTAMP:20260424T195623
CREATED:20240215T135835Z
LAST-MODIFIED:20241107T154139Z
UID:10001304-1732446000-1732467600@www.kaerjeng.lu
SUMMARY:Bazar wéi fréier - Guiden a Scouten Käerjeng
DESCRIPTION:
URL:https://www.kaerjeng.lu/evenement/wanterbazar-guiden-a-scouten-kaerjeng/
LOCATION:Clemency – Salle des Fêtes
CATEGORIES:Agenda
ATTACH;FMTTYPE=image/jpeg:https://www.kaerjeng.lu/wp-content/uploads/2024/02/Flyer-Bazar-2024-GDS-Kaerjeng_Page_1.jpg
END:VEVENT
END:VCALENDAR