BEGIN:VCALENDAR
VERSION:2.0
PRODID:-//Käerjeng - ECPv6.15.17.1//NONSGML v1.0//EN
CALSCALE:GREGORIAN
METHOD:PUBLISH
X-ORIGINAL-URL:https://www.kaerjeng.lu
X-WR-CALDESC:Évènements pour Käerjeng
REFRESH-INTERVAL;VALUE=DURATION:PT1H
X-Robots-Tag:noindex
X-PUBLISHED-TTL:PT1H
BEGIN:VTIMEZONE
TZID:Europe/Luxembourg
BEGIN:DAYLIGHT
TZOFFSETFROM:+0100
TZOFFSETTO:+0200
TZNAME:CEST
DTSTART:20190331T010000
END:DAYLIGHT
BEGIN:STANDARD
TZOFFSETFROM:+0200
TZOFFSETTO:+0100
TZNAME:CET
DTSTART:20191027T010000
END:STANDARD
BEGIN:DAYLIGHT
TZOFFSETFROM:+0100
TZOFFSETTO:+0200
TZNAME:CEST
DTSTART:20200329T010000
END:DAYLIGHT
BEGIN:STANDARD
TZOFFSETFROM:+0200
TZOFFSETTO:+0100
TZNAME:CET
DTSTART:20201025T010000
END:STANDARD
BEGIN:DAYLIGHT
TZOFFSETFROM:+0100
TZOFFSETTO:+0200
TZNAME:CEST
DTSTART:20210328T010000
END:DAYLIGHT
BEGIN:STANDARD
TZOFFSETFROM:+0200
TZOFFSETTO:+0100
TZNAME:CET
DTSTART:20211031T010000
END:STANDARD
BEGIN:DAYLIGHT
TZOFFSETFROM:+0100
TZOFFSETTO:+0200
TZNAME:CEST
DTSTART:20220327T010000
END:DAYLIGHT
BEGIN:STANDARD
TZOFFSETFROM:+0200
TZOFFSETTO:+0100
TZNAME:CET
DTSTART:20221030T010000
END:STANDARD
BEGIN:DAYLIGHT
TZOFFSETFROM:+0100
TZOFFSETTO:+0200
TZNAME:CEST
DTSTART:20230326T010000
END:DAYLIGHT
BEGIN:STANDARD
TZOFFSETFROM:+0200
TZOFFSETTO:+0100
TZNAME:CET
DTSTART:20231029T010000
END:STANDARD
BEGIN:DAYLIGHT
TZOFFSETFROM:+0100
TZOFFSETTO:+0200
TZNAME:CEST
DTSTART:20240331T010000
END:DAYLIGHT
BEGIN:STANDARD
TZOFFSETFROM:+0200
TZOFFSETTO:+0100
TZNAME:CET
DTSTART:20241027T010000
END:STANDARD
BEGIN:DAYLIGHT
TZOFFSETFROM:+0100
TZOFFSETTO:+0200
TZNAME:CEST
DTSTART:20250330T010000
END:DAYLIGHT
BEGIN:STANDARD
TZOFFSETFROM:+0200
TZOFFSETTO:+0100
TZNAME:CET
DTSTART:20251026T010000
END:STANDARD
END:VTIMEZONE
BEGIN:VEVENT
DTSTART;TZID=Europe/Luxembourg:20240301T190000
DTEND;TZID=Europe/Luxembourg:20240301T210000
DTSTAMP:20260422T090918
CREATED:20231109T095648Z
LAST-MODIFIED:20231109T095648Z
UID:10001188-1709319600-1709326800@www.kaerjeng.lu
SUMMARY:Assemblée générale - Amicale Pompiers Clemency
DESCRIPTION:
URL:https://www.kaerjeng.lu/evenement/assemblee-generale-amicale-pompiers-clemency/
LOCATION:Clemency – Salle des Fêtes
CATEGORIES:Agenda
ATTACH;FMTTYPE=image/jpeg:https://www.kaerjeng.lu/wp-content/uploads/2021/08/AG.jpg
END:VEVENT
BEGIN:VEVENT
DTSTART;TZID=Europe/Luxembourg:20230519T200000
DTEND;TZID=Europe/Luxembourg:20230519T230000
DTSTAMP:20260422T090918
CREATED:20230515T094727Z
LAST-MODIFIED:20230515T094727Z
UID:10001135-1684526400-1684537200@www.kaerjeng.lu
SUMMARY:Soirée autrichienne - Inauguration "Kéinziger Festsall"
DESCRIPTION:
URL:https://www.kaerjeng.lu/evenement/soiree-autrichienne-inauguration-keinziger-festsall/
LOCATION:Clemency – Salle des Fêtes
CATEGORIES:Agenda
ATTACH;FMTTYPE=image/jpeg:https://www.kaerjeng.lu/wp-content/uploads/2023/05/Homepage.jpg
END:VEVENT
BEGIN:VEVENT
DTSTART;VALUE=DATE:20230127
DTEND;VALUE=DATE:20230129
DTSTAMP:20260422T090918
CREATED:20221214T112500Z
LAST-MODIFIED:20221219T075501Z
UID:10001065-1674777600-1674950399@www.kaerjeng.lu
SUMMARY:Theaterowend	- Harmonie Kéinzig
DESCRIPTION:
URL:https://www.kaerjeng.lu/evenement/theaterowend-harmonie-keinzig-7/
LOCATION:Clemency – Salle des Fêtes
CATEGORIES:Agenda
ATTACH;FMTTYPE=image/jpeg:https://www.kaerjeng.lu/wp-content/uploads/2022/12/Theaterowend-Harmonie-keinzig.jpg
END:VEVENT
BEGIN:VEVENT
DTSTART;TZID=Europe/Luxembourg:20200807T170000
DTEND;TZID=Europe/Luxembourg:20200807T190000
DTSTAMP:20260422T090918
CREATED:20200211T084754Z
LAST-MODIFIED:20200211T084754Z
UID:10000714-1596819600-1596826800@www.kaerjeng.lu
SUMMARY:Ofschlossfeier Kanner KulturWoch
DESCRIPTION:
URL:https://www.kaerjeng.lu/evenement/ofschlossfeier-kanner-kulturwoch/
LOCATION:Clemency – Salle des Fêtes
ATTACH;FMTTYPE=image/png:https://www.kaerjeng.lu/wp-content/uploads/2020/05/event.png
END:VEVENT
BEGIN:VEVENT
DTSTART;TZID=Europe/Luxembourg:20200803T103000
DTEND;TZID=Europe/Luxembourg:20200807T170000
DTSTAMP:20260422T090918
CREATED:20200211T084700Z
LAST-MODIFIED:20200211T084700Z
UID:10000713-1596450600-1596819600@www.kaerjeng.lu
SUMMARY:Kanner KulturWoch
DESCRIPTION:
URL:https://www.kaerjeng.lu/evenement/kanner-kulturwoch/
LOCATION:Clemency – Salle des Fêtes
ATTACH;FMTTYPE=image/png:https://www.kaerjeng.lu/wp-content/uploads/2020/05/event.png
END:VEVENT
BEGIN:VEVENT
DTSTART;TZID=Europe/Luxembourg:20200713T140000
DTEND;TZID=Europe/Luxembourg:20200713T160000
DTSTAMP:20260422T090918
CREATED:20200211T083658Z
LAST-MODIFIED:20200211T083658Z
UID:10000705-1594648800-1594656000@www.kaerjeng.lu
SUMMARY:Schoulfest
DESCRIPTION:
URL:https://www.kaerjeng.lu/evenement/schoulfest-2/
LOCATION:Clemency – Salle des Fêtes
ATTACH;FMTTYPE=image/png:https://www.kaerjeng.lu/wp-content/uploads/2020/05/event.png
END:VEVENT
BEGIN:VEVENT
DTSTART;TZID=Europe/Luxembourg:20200521T160000
DTEND;TZID=Europe/Luxembourg:20200521T210000
DTSTAMP:20260422T090918
CREATED:20200207T145520Z
LAST-MODIFIED:20200207T145520Z
UID:10000675-1590076800-1590094800@www.kaerjeng.lu
SUMMARY:Tournoi de la bonne entente - DT Féngig
DESCRIPTION:
URL:https://www.kaerjeng.lu/evenement/tournoi-de-la-bonne-entente/
LOCATION:Clemency – Salle des Fêtes
ATTACH;FMTTYPE=image/png:https://www.kaerjeng.lu/wp-content/uploads/2020/05/event.png
END:VEVENT
BEGIN:VEVENT
DTSTART;TZID=Europe/Luxembourg:20200425T210000
DTEND;TZID=Europe/Luxembourg:20200426T030000
DTSTAMP:20260422T090918
CREATED:20200207T135717Z
LAST-MODIFIED:20200207T135717Z
UID:10000663-1587848400-1587870000@www.kaerjeng.lu
SUMMARY:ANNULE Oldie Party - BBC Hedgehogs
DESCRIPTION:
URL:https://www.kaerjeng.lu/evenement/oldie-party/
LOCATION:Clemency – Salle des Fêtes
ATTACH;FMTTYPE=image/png:https://www.kaerjeng.lu/wp-content/uploads/2020/05/event.png
END:VEVENT
BEGIN:VEVENT
DTSTART;VALUE=DATE:20200305
DTEND;VALUE=DATE:20200308
DTSTAMP:20260422T090918
CREATED:20200207T095653Z
LAST-MODIFIED:20200207T095653Z
UID:10000646-1583366400-1583625599@www.kaerjeng.lu
SUMMARY:Bicherbourse
DESCRIPTION:Kommt eis Bicher entdecken
URL:https://www.kaerjeng.lu/evenement/bicherbourse/
LOCATION:Clemency – Salle des Fêtes
ATTACH;FMTTYPE=image/png:https://www.kaerjeng.lu/wp-content/uploads/2020/05/event.png
END:VEVENT
BEGIN:VEVENT
DTSTART;TZID=Europe/Luxembourg:20200301T100000
DTEND;TZID=Europe/Luxembourg:20200301T130000
DTSTAMP:20260422T090918
CREATED:20200207T095513Z
LAST-MODIFIED:20200207T095513Z
UID:10000642-1583056800-1583067600@www.kaerjeng.lu
SUMMARY:Assemblée générale
DESCRIPTION:
URL:https://www.kaerjeng.lu/evenement/assemblee-generale-4/
LOCATION:Clemency – Salle des Fêtes
ATTACH;FMTTYPE=image/png:https://www.kaerjeng.lu/wp-content/uploads/2020/05/event.png
END:VEVENT
END:VCALENDAR