BEGIN:VCALENDAR
VERSION:2.0
PRODID:-//Käerjeng - ECPv6.15.17.1//NONSGML v1.0//EN
CALSCALE:GREGORIAN
METHOD:PUBLISH
X-WR-CALNAME:Käerjeng
X-ORIGINAL-URL:https://www.kaerjeng.lu
X-WR-CALDESC:Évènements pour Käerjeng
REFRESH-INTERVAL;VALUE=DURATION:PT1H
X-Robots-Tag:noindex
X-PUBLISHED-TTL:PT1H
BEGIN:VTIMEZONE
TZID:Europe/Luxembourg
BEGIN:DAYLIGHT
TZOFFSETFROM:+0100
TZOFFSETTO:+0200
TZNAME:CEST
DTSTART:20200329T010000
END:DAYLIGHT
BEGIN:STANDARD
TZOFFSETFROM:+0200
TZOFFSETTO:+0100
TZNAME:CET
DTSTART:20201025T010000
END:STANDARD
BEGIN:DAYLIGHT
TZOFFSETFROM:+0100
TZOFFSETTO:+0200
TZNAME:CEST
DTSTART:20210328T010000
END:DAYLIGHT
BEGIN:STANDARD
TZOFFSETFROM:+0200
TZOFFSETTO:+0100
TZNAME:CET
DTSTART:20211031T010000
END:STANDARD
BEGIN:DAYLIGHT
TZOFFSETFROM:+0100
TZOFFSETTO:+0200
TZNAME:CEST
DTSTART:20220327T010000
END:DAYLIGHT
BEGIN:STANDARD
TZOFFSETFROM:+0200
TZOFFSETTO:+0100
TZNAME:CET
DTSTART:20221030T010000
END:STANDARD
BEGIN:DAYLIGHT
TZOFFSETFROM:+0100
TZOFFSETTO:+0200
TZNAME:CEST
DTSTART:20230326T010000
END:DAYLIGHT
BEGIN:STANDARD
TZOFFSETFROM:+0200
TZOFFSETTO:+0100
TZNAME:CET
DTSTART:20231029T010000
END:STANDARD
END:VTIMEZONE
BEGIN:VEVENT
DTSTART;TZID=Europe/Luxembourg:20220302T110000
DTEND;TZID=Europe/Luxembourg:20220302T140000
DTSTAMP:20260424T142935
CREATED:20220125T101520Z
LAST-MODIFIED:20220210T105231Z
UID:10000786-1646218800-1646229600@www.kaerjeng.lu
SUMMARY:Gebake Fësch - Harmonie Kéinzig
DESCRIPTION:
URL:https://www.kaerjeng.lu/evenement/gebake-fesch-harmonie-keinzig/
LOCATION:Clemency – Brasserie Sioux
CATEGORIES:Agenda
ATTACH;FMTTYPE=image/jpeg:https://www.kaerjeng.lu/wp-content/uploads/2022/02/Fësch-Äschermëttwoch-2022.jpg
END:VEVENT
BEGIN:VEVENT
DTSTART;TZID=Europe/Luxembourg:20220210T080000
DTEND;TZID=Europe/Luxembourg:20220210T170000
DTSTAMP:20260424T142935
CREATED:20220107T130720Z
LAST-MODIFIED:20220111T074152Z
UID:10000901-1644480000-1644512400@www.kaerjeng.lu
SUMMARY:Assemblée générale - Natur&Ëmwelt Kénzeg-Féngeg-Grass
DESCRIPTION:
URL:https://www.kaerjeng.lu/evenement/assemblee-generale-naturemwelt-kenzeg-fengeg-grass/
LOCATION:Clemency – Brasserie Sioux
CATEGORIES:Agenda
ATTACH;FMTTYPE=image/jpeg:https://www.kaerjeng.lu/wp-content/uploads/2021/08/AG.jpg
END:VEVENT
BEGIN:VEVENT
DTSTART;TZID=Europe/Luxembourg:20220203T200000
DTEND;TZID=Europe/Luxembourg:20220203T220000
DTSTAMP:20260424T142935
CREATED:20211215T100844Z
LAST-MODIFIED:20220111T074308Z
UID:10000890-1643918400-1643925600@www.kaerjeng.lu
SUMMARY:Assemblée générale - TC Kéinzeg-Féngeg
DESCRIPTION:
URL:https://www.kaerjeng.lu/evenement/assemblee-generale-tc-keinzeg-fengeg/
LOCATION:Clemency – Brasserie Sioux
CATEGORIES:Agenda
ATTACH;FMTTYPE=image/jpeg:https://www.kaerjeng.lu/wp-content/uploads/2021/08/AG.jpg
END:VEVENT
BEGIN:VEVENT
DTSTART;TZID=Europe/Luxembourg:20220126T190000
DTEND;TZID=Europe/Luxembourg:20220126T210000
DTSTAMP:20260424T142935
CREATED:20211215T101840Z
LAST-MODIFIED:20220111T074424Z
UID:10000892-1643223600-1643230800@www.kaerjeng.lu
SUMMARY:Assemblée générale - FC Etoile Sportive Clemency
DESCRIPTION:
URL:https://www.kaerjeng.lu/evenement/assemblee-generale-fc-etoile-sportive-clemency/
LOCATION:Clemency – Brasserie Sioux
CATEGORIES:Agenda
ATTACH;FMTTYPE=image/jpeg:https://www.kaerjeng.lu/wp-content/uploads/2021/08/AG.jpg
END:VEVENT
BEGIN:VEVENT
DTSTART;TZID=Europe/Luxembourg:20210716T190000
DTEND;TZID=Europe/Luxembourg:20210716T210000
DTSTAMP:20260424T142935
CREATED:20210713T124716Z
LAST-MODIFIED:20210713T124716Z
UID:10000820-1626462000-1626469200@www.kaerjeng.lu
SUMMARY:Assemblée générale - DC Bull's Hit
DESCRIPTION:
URL:https://www.kaerjeng.lu/evenement/assemblee-generale-dc-bulls-hit/
LOCATION:Clemency – Brasserie Sioux
CATEGORIES:Agenda
ATTACH;FMTTYPE=image/jpeg:https://www.kaerjeng.lu/wp-content/uploads/2020/10/event.jpg
END:VEVENT
BEGIN:VEVENT
DTSTART;TZID=Europe/Luxembourg:20210402T113000
DTEND;TZID=Europe/Luxembourg:20210402T150000
DTSTAMP:20260424T142935
CREATED:20210106T143026Z
LAST-MODIFIED:20210106T143026Z
UID:10000684-1617363000-1617375600@www.kaerjeng.lu
SUMMARY:Gebake Fësch - Harmonie Clemency
DESCRIPTION:
URL:https://www.kaerjeng.lu/evenement/gebake-fesch-harmonie-clemency/
LOCATION:Clemency – Brasserie Sioux
ATTACH;FMTTYPE=image/jpeg:https://www.kaerjeng.lu/wp-content/uploads/2020/10/event.jpg
END:VEVENT
BEGIN:VEVENT
DTSTART;TZID=Europe/Luxembourg:20210217T113000
DTEND;TZID=Europe/Luxembourg:20210217T150000
DTSTAMP:20260424T142935
CREATED:20210106T111703Z
LAST-MODIFIED:20210106T111703Z
UID:10000678-1613561400-1613574000@www.kaerjeng.lu
SUMMARY:Gebacke Fësch - Harmonie Clemency
DESCRIPTION:
URL:https://www.kaerjeng.lu/evenement/gebacke-fesch-harmonie-clemency/
LOCATION:Clemency – Brasserie Sioux
ATTACH;FMTTYPE=image/jpeg:https://www.kaerjeng.lu/wp-content/uploads/2020/10/event.jpg
END:VEVENT
END:VCALENDAR