BEGIN:VCALENDAR
VERSION:2.0
PRODID:-//Käerjeng - ECPv6.15.17.1//NONSGML v1.0//EN
CALSCALE:GREGORIAN
METHOD:PUBLISH
X-ORIGINAL-URL:https://www.kaerjeng.lu
X-WR-CALDESC:Évènements pour Käerjeng
REFRESH-INTERVAL;VALUE=DURATION:PT1H
X-Robots-Tag:noindex
X-PUBLISHED-TTL:PT1H
BEGIN:VTIMEZONE
TZID:Europe/Luxembourg
BEGIN:DAYLIGHT
TZOFFSETFROM:+0100
TZOFFSETTO:+0200
TZNAME:CEST
DTSTART:20210328T010000
END:DAYLIGHT
BEGIN:STANDARD
TZOFFSETFROM:+0200
TZOFFSETTO:+0100
TZNAME:CET
DTSTART:20211031T010000
END:STANDARD
BEGIN:DAYLIGHT
TZOFFSETFROM:+0100
TZOFFSETTO:+0200
TZNAME:CEST
DTSTART:20220327T010000
END:DAYLIGHT
BEGIN:STANDARD
TZOFFSETFROM:+0200
TZOFFSETTO:+0100
TZNAME:CET
DTSTART:20221030T010000
END:STANDARD
BEGIN:DAYLIGHT
TZOFFSETFROM:+0100
TZOFFSETTO:+0200
TZNAME:CEST
DTSTART:20230326T010000
END:DAYLIGHT
BEGIN:STANDARD
TZOFFSETFROM:+0200
TZOFFSETTO:+0100
TZNAME:CET
DTSTART:20231029T010000
END:STANDARD
BEGIN:DAYLIGHT
TZOFFSETFROM:+0100
TZOFFSETTO:+0200
TZNAME:CEST
DTSTART:20240331T010000
END:DAYLIGHT
BEGIN:STANDARD
TZOFFSETFROM:+0200
TZOFFSETTO:+0100
TZNAME:CET
DTSTART:20241027T010000
END:STANDARD
BEGIN:DAYLIGHT
TZOFFSETFROM:+0100
TZOFFSETTO:+0200
TZNAME:CEST
DTSTART:20250330T010000
END:DAYLIGHT
BEGIN:STANDARD
TZOFFSETFROM:+0200
TZOFFSETTO:+0100
TZNAME:CET
DTSTART:20251026T010000
END:STANDARD
BEGIN:DAYLIGHT
TZOFFSETFROM:+0100
TZOFFSETTO:+0200
TZNAME:CEST
DTSTART:20260329T010000
END:DAYLIGHT
BEGIN:STANDARD
TZOFFSETFROM:+0200
TZOFFSETTO:+0100
TZNAME:CET
DTSTART:20261025T010000
END:STANDARD
BEGIN:DAYLIGHT
TZOFFSETFROM:+0100
TZOFFSETTO:+0200
TZNAME:CEST
DTSTART:20270328T010000
END:DAYLIGHT
BEGIN:STANDARD
TZOFFSETFROM:+0200
TZOFFSETTO:+0100
TZNAME:CET
DTSTART:20271031T010000
END:STANDARD
END:VTIMEZONE
BEGIN:VEVENT
DTSTART;TZID=Europe/Luxembourg:20260202T163000
DTEND;TZID=Europe/Luxembourg:20260202T190000
DTSTAMP:20260421T213035
CREATED:20251217T140751Z
LAST-MODIFIED:20251217T140751Z
UID:10001592-1770049800-1770058800@www.kaerjeng.lu
SUMMARY:Mir gi liichten - Jugendtreff Käerjeng
DESCRIPTION:
URL:https://www.kaerjeng.lu/evenement/mir-gi-liichten-jugendtreff-kaerjeng-2/
LOCATION:Bascharage
CATEGORIES:Agenda
ATTACH;FMTTYPE=image/jpeg:https://www.kaerjeng.lu/wp-content/uploads/2020/10/event.jpg
END:VEVENT
BEGIN:VEVENT
DTSTART;TZID=Europe/Luxembourg:20260123T200000
DTEND;TZID=Europe/Luxembourg:20260123T210000
DTSTAMP:20260421T213035
CREATED:20260116T072601Z
LAST-MODIFIED:20260116T072601Z
UID:10001635-1769198400-1769202000@www.kaerjeng.lu
SUMMARY:Assemblée générale - Harmonie Municipale Bascharage
DESCRIPTION:
URL:https://www.kaerjeng.lu/evenement/assemblee-generale-harmonie-municipale-bascharage-6/
LOCATION:Bascharage
CATEGORIES:Agenda
ATTACH;FMTTYPE=image/jpeg:https://www.kaerjeng.lu/wp-content/uploads/2021/08/AG.jpg
END:VEVENT
BEGIN:VEVENT
DTSTART;TZID=Europe/Luxembourg:20250124T193000
DTEND;TZID=Europe/Luxembourg:20250124T210000
DTSTAMP:20260421T213035
CREATED:20241217T131122Z
LAST-MODIFIED:20250117T085711Z
UID:10001383-1737747000-1737752400@www.kaerjeng.lu
SUMMARY:Assemblée générale - Harmonie Municipale Bascharage
DESCRIPTION:
URL:https://www.kaerjeng.lu/evenement/assemblee-generale-harmonie-municipale-bascharage-5/
LOCATION:Bascharage
CATEGORIES:Agenda
ATTACH;FMTTYPE=image/jpeg:https://www.kaerjeng.lu/wp-content/uploads/2021/08/AG.jpg
END:VEVENT
BEGIN:VEVENT
DTSTART;TZID=Europe/Luxembourg:20241123T090000
DTEND;TZID=Europe/Luxembourg:20241123T120000
DTSTAMP:20260421T213035
CREATED:20240812T101720Z
LAST-MODIFIED:20241107T082626Z
UID:10001350-1732352400-1732363200@www.kaerjeng.lu
SUMMARY:Dag vum Bam	- Ëmweltkommissioun
DESCRIPTION:
URL:https://www.kaerjeng.lu/evenement/dag-vum-bam-emweltkommissioun-4/
LOCATION:Bascharage
CATEGORIES:Agenda
ATTACH;FMTTYPE=image/jpeg:https://www.kaerjeng.lu/wp-content/uploads/2024/11/flyer-cover.jpg
END:VEVENT
BEGIN:VEVENT
DTSTART;TZID=Europe/Luxembourg:20240416T080000
DTEND;TZID=Europe/Luxembourg:20240416T120000
DTSTAMP:20260421T213035
CREATED:20231128T142620Z
LAST-MODIFIED:20240328T103157Z
UID:10001211-1713254400-1713268800@www.kaerjeng.lu
SUMMARY:Ramassage de Vêtements - Aide aux enfants handicapés
DESCRIPTION:
URL:https://www.kaerjeng.lu/evenement/grand-ramassage-de-vieux-vetements-aide-aux-enfants-handicapes/
LOCATION:Bascharage
CATEGORIES:Agenda
ATTACH;FMTTYPE=image/jpeg:https://www.kaerjeng.lu/wp-content/uploads/2024/03/Ramassage-des-vieux-vetements-2024.jpg
END:VEVENT
BEGIN:VEVENT
DTSTART;TZID=Europe/Luxembourg:20240124T200000
DTEND;TZID=Europe/Luxembourg:20240124T220000
DTSTAMP:20260421T213035
CREATED:20231109T090646Z
LAST-MODIFIED:20240118T131405Z
UID:10001026-1706126400-1706133600@www.kaerjeng.lu
SUMMARY:Assemblée générale - Harmonie Municipale Bascharage
DESCRIPTION:
URL:https://www.kaerjeng.lu/evenement/assemblee-generale-harmonie-municipale-bascharage-4/
LOCATION:Bascharage
CATEGORIES:Agenda
ATTACH;FMTTYPE=image/jpeg:https://www.kaerjeng.lu/wp-content/uploads/2021/08/AG.jpg
END:VEVENT
BEGIN:VEVENT
DTSTART;TZID=Europe/Luxembourg:20230517T190000
DTEND;TZID=Europe/Luxembourg:20230517T210000
DTSTAMP:20260421T213035
CREATED:20230510T153936Z
LAST-MODIFIED:20230510T153936Z
UID:10001133-1684350000-1684357200@www.kaerjeng.lu
SUMMARY:Assemblée générale - Amicale CIS Käerjeng-Péiteng
DESCRIPTION:
URL:https://www.kaerjeng.lu/evenement/assemblee-generale-amicale-cis-kaerjeng-peiteng/
LOCATION:Bascharage
CATEGORIES:Agenda
ATTACH;FMTTYPE=image/jpeg:https://www.kaerjeng.lu/wp-content/uploads/2021/08/AG.jpg
END:VEVENT
BEGIN:VEVENT
DTSTART;TZID=Europe/Luxembourg:20220620T193000
DTEND;TZID=Europe/Luxembourg:20220620T213000
DTSTAMP:20260421T213035
CREATED:20220614T082240Z
LAST-MODIFIED:20220614T082240Z
UID:10000980-1655753400-1655760600@www.kaerjeng.lu
SUMMARY:Assemblée générale - Solidarité Afrique
DESCRIPTION:
URL:https://www.kaerjeng.lu/evenement/assemblee-generale-solidarite-afrique/
LOCATION:Bascharage
CATEGORIES:Agenda
ATTACH;FMTTYPE=image/jpeg:https://www.kaerjeng.lu/wp-content/uploads/2021/08/AG.jpg
END:VEVENT
END:VCALENDAR