BEGIN:VCALENDAR
VERSION:2.0
PRODID:-//Käerjeng - ECPv6.15.17.1//NONSGML v1.0//EN
CALSCALE:GREGORIAN
METHOD:PUBLISH
X-WR-CALNAME:Käerjeng
X-ORIGINAL-URL:https://www.kaerjeng.lu
X-WR-CALDESC:Évènements pour Käerjeng
REFRESH-INTERVAL;VALUE=DURATION:PT1H
X-Robots-Tag:noindex
X-PUBLISHED-TTL:PT1H
BEGIN:VTIMEZONE
TZID:Europe/Luxembourg
BEGIN:DAYLIGHT
TZOFFSETFROM:+0100
TZOFFSETTO:+0200
TZNAME:CEST
DTSTART:20190331T010000
END:DAYLIGHT
BEGIN:STANDARD
TZOFFSETFROM:+0200
TZOFFSETTO:+0100
TZNAME:CET
DTSTART:20191027T010000
END:STANDARD
BEGIN:DAYLIGHT
TZOFFSETFROM:+0100
TZOFFSETTO:+0200
TZNAME:CEST
DTSTART:20200329T010000
END:DAYLIGHT
BEGIN:STANDARD
TZOFFSETFROM:+0200
TZOFFSETTO:+0100
TZNAME:CET
DTSTART:20201025T010000
END:STANDARD
BEGIN:DAYLIGHT
TZOFFSETFROM:+0100
TZOFFSETTO:+0200
TZNAME:CEST
DTSTART:20210328T010000
END:DAYLIGHT
BEGIN:STANDARD
TZOFFSETFROM:+0200
TZOFFSETTO:+0100
TZNAME:CET
DTSTART:20211031T010000
END:STANDARD
BEGIN:DAYLIGHT
TZOFFSETFROM:+0100
TZOFFSETTO:+0200
TZNAME:CEST
DTSTART:20220327T010000
END:DAYLIGHT
BEGIN:STANDARD
TZOFFSETFROM:+0200
TZOFFSETTO:+0100
TZNAME:CET
DTSTART:20221030T010000
END:STANDARD
BEGIN:DAYLIGHT
TZOFFSETFROM:+0100
TZOFFSETTO:+0200
TZNAME:CEST
DTSTART:20230326T010000
END:DAYLIGHT
BEGIN:STANDARD
TZOFFSETFROM:+0200
TZOFFSETTO:+0100
TZNAME:CET
DTSTART:20231029T010000
END:STANDARD
BEGIN:DAYLIGHT
TZOFFSETFROM:+0100
TZOFFSETTO:+0200
TZNAME:CEST
DTSTART:20240331T010000
END:DAYLIGHT
BEGIN:STANDARD
TZOFFSETFROM:+0200
TZOFFSETTO:+0100
TZNAME:CET
DTSTART:20241027T010000
END:STANDARD
BEGIN:DAYLIGHT
TZOFFSETFROM:+0100
TZOFFSETTO:+0200
TZNAME:CEST
DTSTART:20250330T010000
END:DAYLIGHT
BEGIN:STANDARD
TZOFFSETFROM:+0200
TZOFFSETTO:+0100
TZNAME:CET
DTSTART:20251026T010000
END:STANDARD
BEGIN:DAYLIGHT
TZOFFSETFROM:+0100
TZOFFSETTO:+0200
TZNAME:CEST
DTSTART:20260329T010000
END:DAYLIGHT
BEGIN:STANDARD
TZOFFSETFROM:+0200
TZOFFSETTO:+0100
TZNAME:CET
DTSTART:20261025T010000
END:STANDARD
END:VTIMEZONE
BEGIN:VEVENT
DTSTART;VALUE=DATE:20251205
DTEND;VALUE=DATE:20251208
DTSTAMP:20260424T155121
CREATED:20250129T101954Z
LAST-MODIFIED:20251119T131016Z
UID:10001523-1764892800-1765151999@www.kaerjeng.lu
SUMMARY:Käerjenger Chrëschtmaart
DESCRIPTION:
URL:https://www.kaerjeng.lu/evenement/kaerjenger-chreschtmaart-8/
LOCATION:Bascharage – Place Claus Cito
CATEGORIES:Agenda
ATTACH;FMTTYPE=image/jpeg:https://www.kaerjeng.lu/wp-content/uploads/2025/11/Cover1.jpg
END:VEVENT
BEGIN:VEVENT
DTSTART;TZID=Europe/Luxembourg:20250622T180000
DTEND;TZID=Europe/Luxembourg:20250623T010000
DTSTAMP:20260424T155121
CREATED:20250115T083019Z
LAST-MODIFIED:20250606T141227Z
UID:10001468-1750615200-1750640400@www.kaerjeng.lu
SUMMARY:Virowend vun Nationalfeierdag
DESCRIPTION:
URL:https://www.kaerjeng.lu/evenement/virowend-vun-nationalfeierdag-3/
LOCATION:Bascharage – Place Claus Cito
CATEGORIES:Agenda
ATTACH;FMTTYPE=image/jpeg:https://www.kaerjeng.lu/wp-content/uploads/2025/06/Affichage-288x360px.jpg
END:VEVENT
BEGIN:VEVENT
DTSTART;TZID=Europe/Luxembourg:20250621T160000
DTEND;TZID=Europe/Luxembourg:20250621T220000
DTSTAMP:20260424T155121
CREATED:20250606T082517Z
LAST-MODIFIED:20250606T082517Z
UID:10001556-1750521600-1750543200@www.kaerjeng.lu
SUMMARY:Concert Käerjenger Museksschoul
DESCRIPTION:
URL:https://www.kaerjeng.lu/evenement/concert-kaerjenger-museksschoul/
LOCATION:Bascharage – Place Claus Cito
CATEGORIES:Agenda
ATTACH;FMTTYPE=image/jpeg:https://www.kaerjeng.lu/wp-content/uploads/2025/06/Concerts-KMS-2025-2.jpg
END:VEVENT
BEGIN:VEVENT
DTSTART;TZID=Europe/Luxembourg:20250620T180000
DTEND;TZID=Europe/Luxembourg:20250620T230000
DTSTAMP:20260424T155121
CREATED:20250115T082903Z
LAST-MODIFIED:20250606T082403Z
UID:10001467-1750442400-1750460400@www.kaerjeng.lu
SUMMARY:Concert Käerjenger Museksschoul
DESCRIPTION:
URL:https://www.kaerjeng.lu/evenement/concerts-kaerjenger-museksschoul/
LOCATION:Bascharage – Place Claus Cito
CATEGORIES:Agenda
ATTACH;FMTTYPE=image/jpeg:https://www.kaerjeng.lu/wp-content/uploads/2025/01/Concerts-KMS-2025-1.jpg
END:VEVENT
BEGIN:VEVENT
DTSTART;VALUE=DATE:20241206
DTEND;VALUE=DATE:20241209
DTSTAMP:20260424T155121
CREATED:20240215T140243Z
LAST-MODIFIED:20241113T150008Z
UID:10001308-1733443200-1733702399@www.kaerjeng.lu
SUMMARY:Käerjenger Chrëschtmaart
DESCRIPTION:
URL:https://www.kaerjeng.lu/evenement/kaerjenger-chreschtmaart-7/
LOCATION:Bascharage – Place Claus Cito
CATEGORIES:Agenda
ATTACH;FMTTYPE=image/jpeg:https://www.kaerjeng.lu/wp-content/uploads/2024/11/affiche_A3_11-24_Chrëschtmaart.jpg
END:VEVENT
BEGIN:VEVENT
DTSTART;TZID=Europe/Luxembourg:20240714T180000
DTEND;TZID=Europe/Luxembourg:20240714T230000
DTSTAMP:20260424T155121
CREATED:20240104T153422Z
LAST-MODIFIED:20240704T121858Z
UID:10001249-1720980000-1720998000@www.kaerjeng.lu
SUMMARY:Käerjeng Live Final EM 2024 - Gemeng Käerjeng
DESCRIPTION:
URL:https://www.kaerjeng.lu/evenement/kaerjeng-live-final-em-2024-gemeng-kaerjeng/
LOCATION:Bascharage – Place Claus Cito
CATEGORIES:Agenda
ATTACH;FMTTYPE=image/jpeg:https://www.kaerjeng.lu/wp-content/uploads/2024/07/afficheur_288x360-px_Käerjenger-Live-2024_6.jpg
END:VEVENT
BEGIN:VEVENT
DTSTART;TZID=Europe/Luxembourg:20240713T200000
DTEND;TZID=Europe/Luxembourg:20240713T220000
DTSTAMP:20260424T155121
CREATED:20240527T064957Z
LAST-MODIFIED:20240527T065002Z
UID:10001333-1720900800-1720908000@www.kaerjeng.lu
SUMMARY:Pop Rock Concert - Harmonie Kéinzig
DESCRIPTION:
URL:https://www.kaerjeng.lu/evenement/pop-rock-concert-harmonie-keinzig/
LOCATION:Bascharage – Place Claus Cito
CATEGORIES:Agenda
ATTACH;FMTTYPE=image/jpeg:https://www.kaerjeng.lu/wp-content/uploads/2024/05/Pop-Rock-Concert-HK-2024.jpg
END:VEVENT
BEGIN:VEVENT
DTSTART;TZID=Europe/Luxembourg:20240713T190000
DTEND;TZID=Europe/Luxembourg:20240713T230000
DTSTAMP:20260424T155121
CREATED:20240704T122549Z
LAST-MODIFIED:20240704T122549Z
UID:10001341-1720897200-1720911600@www.kaerjeng.lu
SUMMARY:Käerjeng Live Pop Rock Concert Harmonie Clemency – Gemeng Käerjeng
DESCRIPTION:
URL:https://www.kaerjeng.lu/evenement/kaerjeng-live-pop-rock-concert-harmonie-clemency-gemeng-kaerjeng/
LOCATION:Bascharage – Place Claus Cito
CATEGORIES:Agenda
ATTACH;FMTTYPE=image/jpeg:https://www.kaerjeng.lu/wp-content/uploads/2024/07/afficheur_288x360-px_Käerjenger-Live-2024_5.jpg
END:VEVENT
BEGIN:VEVENT
DTSTART;TZID=Europe/Luxembourg:20240712T170000
DTEND;TZID=Europe/Luxembourg:20240712T230000
DTSTAMP:20260424T155121
CREATED:20240704T122419Z
LAST-MODIFIED:20240704T122638Z
UID:10001340-1720803600-1720825200@www.kaerjeng.lu
SUMMARY:Käerjeng Live Remise des Diplômes – Gemeng Käerjeng
DESCRIPTION:
URL:https://www.kaerjeng.lu/evenement/kaerjeng-live-remise-des-diplomes-gemeng-kaerjeng/
LOCATION:Bascharage – Place Claus Cito
CATEGORIES:Agenda
ATTACH;FMTTYPE=image/jpeg:https://www.kaerjeng.lu/wp-content/uploads/2024/07/afficheur_288x360-px_Käerjenger-Live-2024_4.jpg
END:VEVENT
BEGIN:VEVENT
DTSTART;TZID=Europe/Luxembourg:20240710T180000
DTEND;TZID=Europe/Luxembourg:20240710T230000
DTSTAMP:20260424T155121
CREATED:20240104T153214Z
LAST-MODIFIED:20240704T122011Z
UID:10001247-1720634400-1720652400@www.kaerjeng.lu
SUMMARY:Käerjeng Live 2. Halleffinal EM 2024 - Gemeng Käerjeng
DESCRIPTION:
URL:https://www.kaerjeng.lu/evenement/kaerjeng-live-2-halleffinal-gemeng-kaerjeng/
LOCATION:Bascharage – Place Claus Cito
CATEGORIES:Agenda
ATTACH;FMTTYPE=image/jpeg:https://www.kaerjeng.lu/wp-content/uploads/2024/07/afficheur_288x360-px_Käerjenger-Live-2024_2.jpg
END:VEVENT
BEGIN:VEVENT
DTSTART;TZID=Europe/Luxembourg:20240709T180000
DTEND;TZID=Europe/Luxembourg:20240709T230000
DTSTAMP:20260424T155121
CREATED:20240104T153120Z
LAST-MODIFIED:20240704T122241Z
UID:10001246-1720548000-1720566000@www.kaerjeng.lu
SUMMARY:Käerjeng Live 1. Halleffinal EM 2024 - Gemeng Käerjeng
DESCRIPTION:
URL:https://www.kaerjeng.lu/evenement/kaerjeng-live-1-halleffinal-gemeng-kaerjeng/
LOCATION:Bascharage – Place Claus Cito
CATEGORIES:Agenda
ATTACH;FMTTYPE=image/jpeg:https://www.kaerjeng.lu/wp-content/uploads/2024/07/afficheur_288x360-px_Käerjenger-Live-2024_1.jpg
END:VEVENT
BEGIN:VEVENT
DTSTART;TZID=Europe/Luxembourg:20240622T180000
DTEND;TZID=Europe/Luxembourg:20240623T010000
DTSTAMP:20260424T155121
CREATED:20240104T152249Z
LAST-MODIFIED:20240611T121350Z
UID:10001240-1719079200-1719104400@www.kaerjeng.lu
SUMMARY:Virowend vun Nationalfeierdag - Gemeng Käerjeng
DESCRIPTION:
URL:https://www.kaerjeng.lu/evenement/virowend-vun-nationalfeierdag-gemeng-kaerjeng/
LOCATION:Bascharage – Place Claus Cito
CATEGORIES:Agenda
ATTACH;FMTTYPE=image/jpeg:https://www.kaerjeng.lu/wp-content/uploads/2024/01/afficheur_288x360-px_05-24_fete-nationale26.jpg
END:VEVENT
BEGIN:VEVENT
DTSTART;VALUE=DATE:20231208
DTEND;VALUE=DATE:20231211
DTSTAMP:20260424T155121
CREATED:20230515T135928Z
LAST-MODIFIED:20231122T073139Z
UID:10001150-1701993600-1702252799@www.kaerjeng.lu
SUMMARY:Käerjenger Chrëschtmaart
DESCRIPTION:
URL:https://www.kaerjeng.lu/evenement/kaerjenger-chreschtmaart-6/
LOCATION:Bascharage – Place Claus Cito
CATEGORIES:Agenda
ATTACH;FMTTYPE=image/jpeg:https://www.kaerjeng.lu/wp-content/uploads/2023/11/info-aktuell_A4_10-23_Chrëschtmaart-BAT_Page_1.jpg
END:VEVENT
BEGIN:VEVENT
DTSTART;TZID=Europe/Luxembourg:20230622T180000
DTEND;TZID=Europe/Luxembourg:20230623T010000
DTSTAMP:20260424T155121
CREATED:20230222T132627Z
LAST-MODIFIED:20230602T092018Z
UID:10001108-1687456800-1687482000@www.kaerjeng.lu
SUMMARY:Virowend Nationalfeierdag - Gemeng Käerjeng
DESCRIPTION:
URL:https://www.kaerjeng.lu/evenement/virowend-nationalfeierdag-gemeng-kaerjeng/
LOCATION:Bascharage – Place Claus Cito
CATEGORIES:Agenda
ATTACH;FMTTYPE=image/jpeg:https://www.kaerjeng.lu/wp-content/uploads/2023/06/Pages-de-info-aktuell_A4_05-23_fete-nationale-BAT.jpg
END:VEVENT
BEGIN:VEVENT
DTSTART;VALUE=DATE:20221209
DTEND;VALUE=DATE:20221212
DTSTAMP:20260424T155121
CREATED:20221018T072052Z
LAST-MODIFIED:20221128T082841Z
UID:10001045-1670544000-1670803199@www.kaerjeng.lu
SUMMARY:Käerjenger Chrëschtmaart - Gemeng Käerjeng
DESCRIPTION:
URL:https://www.kaerjeng.lu/evenement/kaerjenger-chreschtmaart-gemeng-kaerjeng/
LOCATION:Bascharage – Place Claus Cito
CATEGORIES:Agenda
ATTACH;FMTTYPE=image/jpeg:https://www.kaerjeng.lu/wp-content/uploads/2022/11/Cover-CM.jpg
END:VEVENT
BEGIN:VEVENT
DTSTART;TZID=Europe/Luxembourg:20220925T090000
DTEND;TZID=Europe/Luxembourg:20220925T170000
DTSTAMP:20260424T155121
CREATED:20220901T142906Z
LAST-MODIFIED:20220901T142938Z
UID:10001025-1664096400-1664125200@www.kaerjeng.lu
SUMMARY:Guidéierten Vëlostour - Gemeng Käerjeng
DESCRIPTION:
URL:https://www.kaerjeng.lu/evenement/velostour-gemeng-kaerjeng-2/
LOCATION:Bascharage – Place Claus Cito
CATEGORIES:Agenda
ATTACH;FMTTYPE=image/jpeg:https://www.kaerjeng.lu/wp-content/uploads/2022/08/Pages-de-info-aktuell_A4-4-tour-80-km.jpg
END:VEVENT
BEGIN:VEVENT
DTSTART;TZID=Europe/Luxembourg:20220911T140000
DTEND;TZID=Europe/Luxembourg:20220911T170000
DTSTAMP:20260424T155121
CREATED:20220829T141251Z
LAST-MODIFIED:20220901T142413Z
UID:10001021-1662904800-1662915600@www.kaerjeng.lu
SUMMARY:Vëlostour - Gemeng Käerjeng
DESCRIPTION:
URL:https://www.kaerjeng.lu/evenement/velostour-gemeng-kaerjeng/
LOCATION:Bascharage – Place Claus Cito
CATEGORIES:Agenda
ATTACH;FMTTYPE=image/jpeg:https://www.kaerjeng.lu/wp-content/uploads/2022/08/Pages-de-info-aktuell_A4-4-Velo-famill.jpg
END:VEVENT
BEGIN:VEVENT
DTSTART;TZID=Europe/Luxembourg:20220622T180000
DTEND;TZID=Europe/Luxembourg:20220622T233000
DTSTAMP:20260424T155121
CREATED:20220420T140145Z
LAST-MODIFIED:20220614T081601Z
UID:10000843-1655920800-1655940600@www.kaerjeng.lu
SUMMARY:Virowend vun Nationalfeierdag
DESCRIPTION:
URL:https://www.kaerjeng.lu/evenement/virowend-vun-nationalfeierdag-2/
LOCATION:Bascharage – Place Claus Cito
CATEGORIES:Agenda
ATTACH;FMTTYPE=image/jpeg:https://www.kaerjeng.lu/wp-content/uploads/2022/06/Fete-nationale-2022_Page_1.jpg
END:VEVENT
BEGIN:VEVENT
DTSTART;TZID=Europe/Luxembourg:20211212T150000
DTEND;TZID=Europe/Luxembourg:20211212T210000
DTSTAMP:20260424T155121
CREATED:20211105T085058Z
LAST-MODIFIED:20211130T152058Z
UID:10000870-1639321200-1639342800@www.kaerjeng.lu
SUMMARY:Käerjenger Chrëschtmaart
DESCRIPTION:
URL:https://www.kaerjeng.lu/evenement/kaerjenger-chreschtmaart-5/
LOCATION:Bascharage – Place Claus Cito
CATEGORIES:Agenda
ATTACH;FMTTYPE=image/jpeg:https://www.kaerjeng.lu/wp-content/uploads/2021/11/Page-1.jpg
END:VEVENT
BEGIN:VEVENT
DTSTART;TZID=Europe/Luxembourg:20211211T150000
DTEND;TZID=Europe/Luxembourg:20211211T220000
DTSTAMP:20260424T155121
CREATED:20211105T085022Z
LAST-MODIFIED:20211130T151250Z
UID:10000869-1639234800-1639260000@www.kaerjeng.lu
SUMMARY:Käerjenger Chrëschtmaart
DESCRIPTION:
URL:https://www.kaerjeng.lu/evenement/kaerjenger-chreschtmaart-4/
LOCATION:Bascharage – Place Claus Cito
CATEGORIES:Agenda
ATTACH;FMTTYPE=image/jpeg:https://www.kaerjeng.lu/wp-content/uploads/2021/11/Page-1.jpg
END:VEVENT
BEGIN:VEVENT
DTSTART;TZID=Europe/Luxembourg:20211210T170000
DTEND;TZID=Europe/Luxembourg:20211210T220000
DTSTAMP:20260424T155121
CREATED:20211105T084930Z
LAST-MODIFIED:20211130T151226Z
UID:10000868-1639155600-1639173600@www.kaerjeng.lu
SUMMARY:Käerjenger Chrëschtmaart
DESCRIPTION:
URL:https://www.kaerjeng.lu/evenement/kaerjenger-chreschtmaart/
LOCATION:Bascharage – Place Claus Cito
CATEGORIES:Agenda
ATTACH;FMTTYPE=image/jpeg:https://www.kaerjeng.lu/wp-content/uploads/2021/11/Page-1.jpg
END:VEVENT
BEGIN:VEVENT
DTSTART;TZID=Europe/Luxembourg:20210919T080000
DTEND;TZID=Europe/Luxembourg:20210919T170000
DTSTAMP:20260424T155121
CREATED:20210813T150632Z
LAST-MODIFIED:20210813T150637Z
UID:10000834-1632038400-1632070800@www.kaerjeng.lu
SUMMARY:Vëlostour mat Quiz - Mobilitéitskommissioun
DESCRIPTION:
URL:https://www.kaerjeng.lu/evenement/velostour-mat-quiz-mobiliteitskommissioun/
LOCATION:Bascharage – Place Claus Cito
CATEGORIES:Agenda
ATTACH;FMTTYPE=image/jpeg:https://www.kaerjeng.lu/wp-content/uploads/2020/10/event.jpg
END:VEVENT
BEGIN:VEVENT
DTSTART;TZID=Europe/Luxembourg:20210724T100000
DTEND;TZID=Europe/Luxembourg:20210724T110000
DTSTAMP:20260424T155121
CREATED:20210713T125436Z
LAST-MODIFIED:20210713T125436Z
UID:10000720-1627120800-1627124400@www.kaerjeng.lu
SUMMARY:Picadilly on Tour
DESCRIPTION:
URL:https://www.kaerjeng.lu/evenement/picadilly-on-tour/
LOCATION:Bascharage – Place Claus Cito
CATEGORIES:Agenda
ATTACH;FMTTYPE=image/jpeg:https://www.kaerjeng.lu/wp-content/uploads/2020/10/event.jpg
END:VEVENT
BEGIN:VEVENT
DTSTART;VALUE=DATE:20210711
DTEND;VALUE=DATE:20210713
DTSTAMP:20260424T155121
CREATED:20210615T091013Z
LAST-MODIFIED:20210630T150046Z
UID:10000797-1625961600-1626051599@www.kaerjeng.lu
SUMMARY:Käerjeng Live - Euro 2021 - Finale
DESCRIPTION:
URL:https://www.kaerjeng.lu/evenement/kaerjeng-live-euro-2021-finale/
LOCATION:Bascharage – Place Claus Cito
CATEGORIES:Agenda
ATTACH;FMTTYPE=image/jpeg:https://www.kaerjeng.lu/wp-content/uploads/2021/06/logo_Kaerjeng-Live-2021.jpg
END:VEVENT
BEGIN:VEVENT
DTSTART;VALUE=DATE:20210710
DTEND;VALUE=DATE:20210712
DTSTAMP:20260424T155121
CREATED:20210615T091348Z
LAST-MODIFIED:20210702T083245Z
UID:10000803-1625875200-1625965199@www.kaerjeng.lu
SUMMARY:Käerjeng Live - Musekschouldag
DESCRIPTION:
URL:https://www.kaerjeng.lu/evenement/kaerjeng-live-musekschouldag/
LOCATION:Bascharage – Place Claus Cito
CATEGORIES:Agenda
ATTACH;FMTTYPE=image/jpeg:https://www.kaerjeng.lu/wp-content/uploads/2021/06/logo_Kaerjeng-Live-2021.jpg
END:VEVENT
BEGIN:VEVENT
DTSTART;VALUE=DATE:20210709
DTEND;VALUE=DATE:20210711
DTSTAMP:20260424T155121
CREATED:20210615T091233Z
LAST-MODIFIED:20210630T150156Z
UID:10000801-1625788800-1625878799@www.kaerjeng.lu
SUMMARY:Käerjeng Live
DESCRIPTION:
URL:https://www.kaerjeng.lu/evenement/kaerjeng-live-2/
LOCATION:Bascharage – Place Claus Cito
CATEGORIES:Agenda
ATTACH;FMTTYPE=image/jpeg:https://www.kaerjeng.lu/wp-content/uploads/2021/06/logo_Kaerjeng-Live-2021.jpg
END:VEVENT
BEGIN:VEVENT
DTSTART;VALUE=DATE:20210708
DTEND;VALUE=DATE:20210710
DTSTAMP:20260424T155121
CREATED:20210615T091119Z
LAST-MODIFIED:20210630T150141Z
UID:10000799-1625702400-1625792399@www.kaerjeng.lu
SUMMARY:Käerjeng Live
DESCRIPTION:
URL:https://www.kaerjeng.lu/evenement/kaerjeng-live/
LOCATION:Bascharage – Place Claus Cito
CATEGORIES:Agenda
ATTACH;FMTTYPE=image/jpeg:https://www.kaerjeng.lu/wp-content/uploads/2021/06/logo_Kaerjeng-Live-2021.jpg
END:VEVENT
BEGIN:VEVENT
DTSTART;VALUE=DATE:20210707
DTEND;VALUE=DATE:20210709
DTSTAMP:20260424T155121
CREATED:20210615T090856Z
LAST-MODIFIED:20210705T121955Z
UID:10000795-1625616000-1625705999@www.kaerjeng.lu
SUMMARY:Käerjeng Live - Euro 2021 - Demi-finale 2 Angleterre - Danemark
DESCRIPTION:
URL:https://www.kaerjeng.lu/evenement/kaerjeng-live-euro-2021-demie-finale-2/
LOCATION:Bascharage – Place Claus Cito
CATEGORIES:Agenda
ATTACH;FMTTYPE=image/jpeg:https://www.kaerjeng.lu/wp-content/uploads/2021/06/logo_Kaerjeng-Live-2021.jpg
END:VEVENT
BEGIN:VEVENT
DTSTART;VALUE=DATE:20210706
DTEND;VALUE=DATE:20210708
DTSTAMP:20260424T155121
CREATED:20210615T081859Z
LAST-MODIFIED:20210705T121841Z
UID:10000793-1625529600-1625619599@www.kaerjeng.lu
SUMMARY:Käerjeng Live - Euro 2021 - Demi-finale Italie - Espagne
DESCRIPTION:
URL:https://www.kaerjeng.lu/evenement/kaerjeng-live-euro-2021-demie-finale-1/
LOCATION:Bascharage – Place Claus Cito
CATEGORIES:Agenda
ATTACH;FMTTYPE=image/jpeg:https://www.kaerjeng.lu/wp-content/uploads/2021/06/logo_Kaerjeng-Live-2021.jpg
END:VEVENT
BEGIN:VEVENT
DTSTART;TZID=Europe/Luxembourg:20201218T180000
DTEND;TZID=Europe/Luxembourg:20201220T220000
DTSTAMP:20260424T155121
CREATED:20201009T091953Z
LAST-MODIFIED:20201113T080643Z
UID:10000757-1608314400-1608501600@www.kaerjeng.lu
SUMMARY:ANNULE Käerjenger Chrëschtmaart
DESCRIPTION:
URL:https://www.kaerjeng.lu/evenement/kaerjenger-chreschtmaart-3/
LOCATION:Bascharage – Place Claus Cito
ATTACH;FMTTYPE=image/png:https://www.kaerjeng.lu/wp-content/uploads/2020/05/event.png
END:VEVENT
END:VCALENDAR