BEGIN:VCALENDAR
VERSION:2.0
PRODID:-//Käerjeng - ECPv6.15.17.1//NONSGML v1.0//EN
CALSCALE:GREGORIAN
METHOD:PUBLISH
X-ORIGINAL-URL:https://www.kaerjeng.lu
X-WR-CALDESC:Évènements pour Käerjeng
REFRESH-INTERVAL;VALUE=DURATION:PT1H
X-Robots-Tag:noindex
X-PUBLISHED-TTL:PT1H
BEGIN:VTIMEZONE
TZID:Europe/Luxembourg
BEGIN:DAYLIGHT
TZOFFSETFROM:+0100
TZOFFSETTO:+0200
TZNAME:CEST
DTSTART:20210328T010000
END:DAYLIGHT
BEGIN:STANDARD
TZOFFSETFROM:+0200
TZOFFSETTO:+0100
TZNAME:CET
DTSTART:20211031T010000
END:STANDARD
BEGIN:DAYLIGHT
TZOFFSETFROM:+0100
TZOFFSETTO:+0200
TZNAME:CEST
DTSTART:20220327T010000
END:DAYLIGHT
BEGIN:STANDARD
TZOFFSETFROM:+0200
TZOFFSETTO:+0100
TZNAME:CET
DTSTART:20221030T010000
END:STANDARD
BEGIN:DAYLIGHT
TZOFFSETFROM:+0100
TZOFFSETTO:+0200
TZNAME:CEST
DTSTART:20230326T010000
END:DAYLIGHT
BEGIN:STANDARD
TZOFFSETFROM:+0200
TZOFFSETTO:+0100
TZNAME:CET
DTSTART:20231029T010000
END:STANDARD
BEGIN:DAYLIGHT
TZOFFSETFROM:+0100
TZOFFSETTO:+0200
TZNAME:CEST
DTSTART:20240331T010000
END:DAYLIGHT
BEGIN:STANDARD
TZOFFSETFROM:+0200
TZOFFSETTO:+0100
TZNAME:CET
DTSTART:20241027T010000
END:STANDARD
BEGIN:DAYLIGHT
TZOFFSETFROM:+0100
TZOFFSETTO:+0200
TZNAME:CEST
DTSTART:20250330T010000
END:DAYLIGHT
BEGIN:STANDARD
TZOFFSETFROM:+0200
TZOFFSETTO:+0100
TZNAME:CET
DTSTART:20251026T010000
END:STANDARD
BEGIN:DAYLIGHT
TZOFFSETFROM:+0100
TZOFFSETTO:+0200
TZNAME:CEST
DTSTART:20260329T010000
END:DAYLIGHT
BEGIN:STANDARD
TZOFFSETFROM:+0200
TZOFFSETTO:+0100
TZNAME:CET
DTSTART:20261025T010000
END:STANDARD
BEGIN:DAYLIGHT
TZOFFSETFROM:+0100
TZOFFSETTO:+0200
TZNAME:CEST
DTSTART:20270328T010000
END:DAYLIGHT
BEGIN:STANDARD
TZOFFSETFROM:+0200
TZOFFSETTO:+0100
TZNAME:CET
DTSTART:20271031T010000
END:STANDARD
END:VTIMEZONE
BEGIN:VEVENT
DTSTART;TZID=Europe/Luxembourg:20260321T093000
DTEND;TZID=Europe/Luxembourg:20260321T140000
DTSTAMP:20260421T224456
CREATED:20260128T103404Z
LAST-MODIFIED:20260128T103404Z
UID:10001641-1774085400-1774101600@www.kaerjeng.lu
SUMMARY:Grouss Botz - Ëmweltkommissioun
DESCRIPTION:
URL:https://www.kaerjeng.lu/evenement/grouss-botz-emweltkommissioun-4/
LOCATION:Bascharage – Um Dribbel
CATEGORIES:Agenda
ATTACH;FMTTYPE=image/jpeg:https://www.kaerjeng.lu/wp-content/uploads/2026/01/cover.jpg
END:VEVENT
BEGIN:VEVENT
DTSTART;TZID=Europe/Luxembourg:20260319T193000
DTEND;TZID=Europe/Luxembourg:20260319T210000
DTSTAMP:20260421T224456
CREATED:20251218T104703Z
LAST-MODIFIED:20260312T145503Z
UID:10001613-1773948600-1773954000@www.kaerjeng.lu
SUMMARY:Assemblée générale - Croix-Rouge Bascharage
DESCRIPTION:
URL:https://www.kaerjeng.lu/evenement/assemblee-generale-croix-rouge-bascharage-4/
LOCATION:Bascharage – Um Dribbel
CATEGORIES:Agenda
ATTACH;FMTTYPE=image/jpeg:https://www.kaerjeng.lu/wp-content/uploads/2026/03/Affiche_AG-Croix-Rouge-2026.jpg
END:VEVENT
BEGIN:VEVENT
DTSTART;TZID=Europe/Luxembourg:20260207T150000
DTEND;TZID=Europe/Luxembourg:20260207T230000
DTSTAMP:20260421T224456
CREATED:20251217T164856Z
LAST-MODIFIED:20260122T134641Z
UID:10001595-1770476400-1770505200@www.kaerjeng.lu
SUMMARY:Après-Ski Party - U.N. Käerjeng'97
DESCRIPTION:
URL:https://www.kaerjeng.lu/evenement/apres-ski-party-u-n-kaerjeng97-2/
LOCATION:Bascharage – Um Dribbel
CATEGORIES:Agenda
ATTACH;FMTTYPE=image/jpeg:https://www.kaerjeng.lu/wp-content/uploads/2025/12/Apres-Ski-UNK-2026.jpg
END:VEVENT
BEGIN:VEVENT
DTSTART;VALUE=DATE:20260110
DTEND;VALUE=DATE:20260112
DTSTAMP:20260421T224456
CREATED:20251217T134751Z
LAST-MODIFIED:20251224T093940Z
UID:10001582-1768003200-1768175999@www.kaerjeng.lu
SUMMARY:Club-Cup	- U.N. Käerjeng'97
DESCRIPTION:
URL:https://www.kaerjeng.lu/evenement/club-cup-u-n-kaerjeng97/
LOCATION:Bascharage – Um Dribbel
CATEGORIES:Agenda
ATTACH;FMTTYPE=image/jpeg:https://www.kaerjeng.lu/wp-content/uploads/2025/12/Club-Cup.jpg
END:VEVENT
BEGIN:VEVENT
DTSTART;TZID=Europe/Luxembourg:20250913T103000
DTEND;TZID=Europe/Luxembourg:20250913T163000
DTSTAMP:20260421T224456
CREATED:20250909T100325Z
LAST-MODIFIED:20250909T100325Z
UID:10001563-1757759400-1757781000@www.kaerjeng.lu
SUMMARY:Season Opening - Handball Käerjeng
DESCRIPTION:
URL:https://www.kaerjeng.lu/evenement/season-opening-handball-kaerjeng-2/
LOCATION:Bascharage – Um Dribbel
CATEGORIES:Agenda
ATTACH;FMTTYPE=image/jpeg:https://www.kaerjeng.lu/wp-content/uploads/2025/09/Season-Opening-HBK-2025.jpg
END:VEVENT
BEGIN:VEVENT
DTSTART;VALUE=DATE:20250905
DTEND;VALUE=DATE:20250908
DTSTAMP:20260421T224456
CREATED:20250115T102941Z
LAST-MODIFIED:20250716T070220Z
UID:10001493-1757030400-1757289599@www.kaerjeng.lu
SUMMARY:Jugend-Cup - UN Käerjeng'97
DESCRIPTION:
URL:https://www.kaerjeng.lu/evenement/jugend-cup-un-kaerjeng97-3/
LOCATION:Bascharage – Um Dribbel
CATEGORIES:Agenda
ATTACH;FMTTYPE=image/jpeg:https://www.kaerjeng.lu/wp-content/uploads/2025/01/Jugend-Cup-2025.jpg
END:VEVENT
BEGIN:VEVENT
DTSTART;TZID=Europe/Luxembourg:20250717T180000
DTEND;TZID=Europe/Luxembourg:20250717T210000
DTSTAMP:20260421T224456
CREATED:20250513T092743Z
LAST-MODIFIED:20250530T141557Z
UID:10001552-1752775200-1752786000@www.kaerjeng.lu
SUMMARY:Assemblée générale - Handball Käerjeng
DESCRIPTION:
URL:https://www.kaerjeng.lu/evenement/assemblee-generale-handball-kaerjeng-5/
LOCATION:Bascharage – Um Dribbel
CATEGORIES:Agenda
ATTACH;FMTTYPE=image/jpeg:https://www.kaerjeng.lu/wp-content/uploads/2021/08/AG.jpg
END:VEVENT
BEGIN:VEVENT
DTSTART;TZID=Europe/Luxembourg:20250712T100000
DTEND;TZID=Europe/Luxembourg:20250712T170000
DTSTAMP:20260421T224456
CREATED:20250702T095109Z
LAST-MODIFIED:20250702T095109Z
UID:10001559-1752314400-1752339600@www.kaerjeng.lu
SUMMARY:Funky League - U.N. Käerjeng'97
DESCRIPTION:
URL:https://www.kaerjeng.lu/evenement/funky-league-u-n-kaerjeng97/
LOCATION:Bascharage – Um Dribbel
CATEGORIES:Agenda
ATTACH;FMTTYPE=image/jpeg:https://www.kaerjeng.lu/wp-content/uploads/2025/07/Affiche-Funky-League.jpeg
END:VEVENT
BEGIN:VEVENT
DTSTART;TZID=Europe/Luxembourg:20250705T100000
DTEND;TZID=Europe/Luxembourg:20250705T120000
DTSTAMP:20260421T224456
CREATED:20250115T084709Z
LAST-MODIFIED:20250115T084709Z
UID:10001473-1751709600-1751716800@www.kaerjeng.lu
SUMMARY:Assemblée générale - UN Käerjeng'97
DESCRIPTION:
URL:https://www.kaerjeng.lu/evenement/assemblee-generale-un-kaerjeng97-2/
LOCATION:Bascharage – Um Dribbel
CATEGORIES:Agenda
ATTACH;FMTTYPE=image/jpeg:https://www.kaerjeng.lu/wp-content/uploads/2021/08/AG.jpg
END:VEVENT
BEGIN:VEVENT
DTSTART;TZID=Europe/Luxembourg:20250509T090000
DTEND;TZID=Europe/Luxembourg:20250509T180000
DTSTAMP:20260421T224456
CREATED:20250115T075205Z
LAST-MODIFIED:20250115T075205Z
UID:10001444-1746781200-1746813600@www.kaerjeng.lu
SUMMARY:Family Day - UN Käerjeng'97
DESCRIPTION:
URL:https://www.kaerjeng.lu/evenement/family-day-un-kaerjeng97-2/
LOCATION:Bascharage – Um Dribbel
CATEGORIES:Agenda
ATTACH;FMTTYPE=image/jpeg:https://www.kaerjeng.lu/wp-content/uploads/2020/10/event.jpg
END:VEVENT
BEGIN:VEVENT
DTSTART;TZID=Europe/Luxembourg:20250413T090000
DTEND;TZID=Europe/Luxembourg:20250413T170000
DTSTAMP:20260421T224456
CREATED:20250114T160423Z
LAST-MODIFIED:20250318T140539Z
UID:10001434-1744534800-1744563600@www.kaerjeng.lu
SUMMARY:Tournoi Nico Schonnen - DT Féngig
DESCRIPTION:
URL:https://www.kaerjeng.lu/evenement/tournoi-nico-schonnen-dt-fengig/
LOCATION:Bascharage – Um Dribbel
CATEGORIES:Agenda
ATTACH;FMTTYPE=image/jpeg:https://www.kaerjeng.lu/wp-content/uploads/2020/10/event.jpg
END:VEVENT
BEGIN:VEVENT
DTSTART;TZID=Europe/Luxembourg:20250326T190000
DTEND;TZID=Europe/Luxembourg:20250326T200000
DTSTAMP:20260421T224456
CREATED:20241217T145102Z
LAST-MODIFIED:20241217T145102Z
UID:10001424-1743015600-1743019200@www.kaerjeng.lu
SUMMARY:Assemblée générale - Croix-Rouge Bascharage
DESCRIPTION:
URL:https://www.kaerjeng.lu/evenement/assemblee-generale-croix-rouge-bascharage-3/
LOCATION:Bascharage – Um Dribbel
CATEGORIES:Agenda
ATTACH;FMTTYPE=image/jpeg:https://www.kaerjeng.lu/wp-content/uploads/2021/08/AG.jpg
END:VEVENT
BEGIN:VEVENT
DTSTART;TZID=Europe/Luxembourg:20250315T090000
DTEND;TZID=Europe/Luxembourg:20250315T140000
DTSTAMP:20260421T224456
CREATED:20241217T144021Z
LAST-MODIFIED:20250225T093555Z
UID:10001414-1742029200-1742047200@www.kaerjeng.lu
SUMMARY:Fréijoersbotz - Ëmweltkommissioun
DESCRIPTION:
URL:https://www.kaerjeng.lu/evenement/freijoersbotz-emweltkommissioun-2/
LOCATION:Bascharage – Um Dribbel
CATEGORIES:Agenda
ATTACH;FMTTYPE=image/jpeg:https://www.kaerjeng.lu/wp-content/uploads/2025/02/freijoersbotz.jpg
END:VEVENT
BEGIN:VEVENT
DTSTART;TZID=Europe/Luxembourg:20250201T150000
DTEND;TZID=Europe/Luxembourg:20250201T220000
DTSTAMP:20260421T224456
CREATED:20241217T133104Z
LAST-MODIFIED:20250128T124600Z
UID:10001390-1738422000-1738447200@www.kaerjeng.lu
SUMMARY:Après-Ski Party - U.N. Käerjeng'97
DESCRIPTION:
URL:https://www.kaerjeng.lu/evenement/apres-ski-party-u-n-kaerjeng97/
LOCATION:Bascharage – Um Dribbel
CATEGORIES:Agenda
ATTACH;FMTTYPE=image/jpeg:https://www.kaerjeng.lu/wp-content/uploads/2025/01/IMG-20250128-WA0000.jpg
END:VEVENT
BEGIN:VEVENT
DTSTART;TZID=Europe/Luxembourg:20250111T090000
DTEND;TZID=Europe/Luxembourg:20250112T190000
DTSTAMP:20260421T224456
CREATED:20241217T125951Z
LAST-MODIFIED:20250107T105841Z
UID:10001376-1736586000-1736708400@www.kaerjeng.lu
SUMMARY:Club-Cup - UN Käerjeng'97
DESCRIPTION:
URL:https://www.kaerjeng.lu/evenement/club-cup-un-kaerjeng97-2/
LOCATION:Bascharage – Um Dribbel
CATEGORIES:Agenda
END:VEVENT
BEGIN:VEVENT
DTSTART;TZID=Europe/Luxembourg:20240915T113000
DTEND;TZID=Europe/Luxembourg:20240915T180000
DTSTAMP:20260421T224456
CREATED:20240902T094708Z
LAST-MODIFIED:20240902T095619Z
UID:10001359-1726399800-1726423200@www.kaerjeng.lu
SUMMARY:Season Opening - Handball Käerjeng
DESCRIPTION:SEASON OPENING beim Handball Käerjeng \nFir all Spillerinen\, Spiller\, Elteren\, Frënn\, Sponsoren a Supporter vum HBK \nUfank ass um 11:30 Auer mat Apero a Mëttegiessen. \n7 Meter Contest \nFotoshooting vun alle Spillerinnen a Spiller\, an dat vun alle Kategorien. \nAb 16 Auer : Five-a-side Handball\, Team Präsentatioun Dammen an Hären. \nFir Iessen an Drénken ass wéi ëmmer gesuergt.
URL:https://www.kaerjeng.lu/evenement/season-opening-handball-kaerjeng/
LOCATION:Bascharage – Um Dribbel
CATEGORIES:Agenda
ATTACH;FMTTYPE=image/jpeg:https://www.kaerjeng.lu/wp-content/uploads/2024/09/SeasonOpeningHBK-20240915-KalennerGemeng-.jpg
END:VEVENT
BEGIN:VEVENT
DTSTART;VALUE=DATE:20240905
DTEND;VALUE=DATE:20240909
DTSTAMP:20260421T224456
CREATED:20240104T155146Z
LAST-MODIFIED:20240826T145219Z
UID:10001259-1725494400-1725839999@www.kaerjeng.lu
SUMMARY:Jugend-Cup - U.N. Käerjeng'97
DESCRIPTION:
URL:https://www.kaerjeng.lu/evenement/jugend-cup-u-n-kaerjeng97-2/
LOCATION:Bascharage – Um Dribbel
CATEGORIES:Agenda
ATTACH;FMTTYPE=image/jpeg:https://www.kaerjeng.lu/wp-content/uploads/2024/08/Jugendcup-UNK-2024.jpg
END:VEVENT
BEGIN:VEVENT
DTSTART;TZID=Europe/Luxembourg:20240711T190000
DTEND;TZID=Europe/Luxembourg:20240711T210000
DTSTAMP:20260421T224456
CREATED:20240701T122437Z
LAST-MODIFIED:20240701T122437Z
UID:10001339-1720724400-1720731600@www.kaerjeng.lu
SUMMARY:Assemblée générale - Handball Käerjeng
DESCRIPTION:
URL:https://www.kaerjeng.lu/evenement/assemblee-generale-handball-kaerjeng-4/
LOCATION:Bascharage – Um Dribbel
CATEGORIES:Agenda
ATTACH;FMTTYPE=image/jpeg:https://www.kaerjeng.lu/wp-content/uploads/2021/08/AG.jpg
END:VEVENT
BEGIN:VEVENT
DTSTART;TZID=Europe/Luxembourg:20240707T133000
DTEND;TZID=Europe/Luxembourg:20240707T180000
DTSTAMP:20260421T224456
CREATED:20240404T123453Z
LAST-MODIFIED:20240701T122717Z
UID:10001327-1720359000-1720375200@www.kaerjeng.lu
SUMMARY:Mémorial Lüss Fusulier - U.N. Käerjeng'97
DESCRIPTION:
URL:https://www.kaerjeng.lu/evenement/memorial-luss-fususlier-u-n-kaerjeng97/
LOCATION:Bascharage – Um Dribbel
CATEGORIES:Agenda
ATTACH;FMTTYPE=image/jpeg:https://www.kaerjeng.lu/wp-content/uploads/2024/07/Mémorial.jpg
END:VEVENT
BEGIN:VEVENT
DTSTART;TZID=Europe/Luxembourg:20240706T100000
DTEND;TZID=Europe/Luxembourg:20240706T120000
DTSTAMP:20260421T224456
CREATED:20240701T122259Z
LAST-MODIFIED:20240701T122259Z
UID:10001338-1720260000-1720267200@www.kaerjeng.lu
SUMMARY:Assemblée générale - U.N. Käerjeng'97
DESCRIPTION:
URL:https://www.kaerjeng.lu/evenement/assemblee-generale-u-n-kaerjeng97-2/
LOCATION:Bascharage – Um Dribbel
CATEGORIES:Agenda
ATTACH;FMTTYPE=image/jpeg:https://www.kaerjeng.lu/wp-content/uploads/2021/08/AG.jpg
END:VEVENT
BEGIN:VEVENT
DTSTART;TZID=Europe/Luxembourg:20240328T200000
DTEND;TZID=Europe/Luxembourg:20240328T220000
DTSTAMP:20260421T224456
CREATED:20240301T092846Z
LAST-MODIFIED:20240301T092846Z
UID:10001315-1711656000-1711663200@www.kaerjeng.lu
SUMMARY:Assemblée générale – Croix-Rouge Bascharage
DESCRIPTION:
URL:https://www.kaerjeng.lu/evenement/assemblee-generale-croix-rouge-bascharage-2/
LOCATION:Bascharage – Um Dribbel
CATEGORIES:Agenda
ATTACH;FMTTYPE=image/jpeg:https://www.kaerjeng.lu/wp-content/uploads/2021/08/AG.jpg
END:VEVENT
BEGIN:VEVENT
DTSTART;TZID=Europe/Luxembourg:20240316T090000
DTEND;TZID=Europe/Luxembourg:20240316T140000
DTSTAMP:20260421T224456
CREATED:20240209T162119Z
LAST-MODIFIED:20240228T073251Z
UID:10001281-1710579600-1710597600@www.kaerjeng.lu
SUMMARY:Fréijoersbotz - Ëmweltkommissioun
DESCRIPTION:
URL:https://www.kaerjeng.lu/evenement/freijoersbotz-emweltkommissioun/
LOCATION:Bascharage – Um Dribbel
CATEGORIES:Agenda
ATTACH;FMTTYPE=image/jpeg:https://www.kaerjeng.lu/wp-content/uploads/2022/03/DSC_2420-Bearbeitet.jpg
END:VEVENT
BEGIN:VEVENT
DTSTART;VALUE=DATE:20230908
DTEND;VALUE=DATE:20230912
DTSTAMP:20260421T224456
CREATED:20230222T134245Z
LAST-MODIFIED:20230816T145513Z
UID:10001122-1694131200-1694476799@www.kaerjeng.lu
SUMMARY:Jugend-Cup - U.N. Käerjeng'97
DESCRIPTION:
URL:https://www.kaerjeng.lu/evenement/jugend-cup-un-kaerjeng97-2/
LOCATION:Bascharage – Um Dribbel
CATEGORIES:Agenda
ATTACH;FMTTYPE=image/jpeg:https://www.kaerjeng.lu/wp-content/uploads/2023/08/Jugendcup-UNK-2023.jpg
END:VEVENT
BEGIN:VEVENT
DTSTART;TZID=Europe/Luxembourg:20230902T100000
DTEND;TZID=Europe/Luxembourg:20230902T200000
DTSTAMP:20260421T224456
CREATED:20230817T065600Z
LAST-MODIFIED:20230817T065736Z
UID:10001165-1693648800-1693684800@www.kaerjeng.lu
SUMMARY:BeerPong - Käerjenger Bouwen
DESCRIPTION:
URL:https://www.kaerjeng.lu/evenement/beerpong-kaerjenger-bouwen/
LOCATION:Bascharage – Um Dribbel
CATEGORIES:Agenda
ATTACH;FMTTYPE=image/jpeg:https://www.kaerjeng.lu/wp-content/uploads/2023/08/Kaerjenger-Bouwen-BP-2023.jpg
END:VEVENT
BEGIN:VEVENT
DTSTART;TZID=Europe/Luxembourg:20230726T191500
DTEND;TZID=Europe/Luxembourg:20230726T210000
DTSTAMP:20260421T224456
CREATED:20230714T135447Z
LAST-MODIFIED:20230714T135447Z
UID:10001157-1690398900-1690405200@www.kaerjeng.lu
SUMMARY:Assemblée générale - Handball Käerjeng
DESCRIPTION:
URL:https://www.kaerjeng.lu/evenement/assemblee-generale-handball-kaerjeng-3/
LOCATION:Bascharage – Um Dribbel
CATEGORIES:Agenda
ATTACH;FMTTYPE=image/jpeg:https://www.kaerjeng.lu/wp-content/uploads/2021/08/AG.jpg
END:VEVENT
BEGIN:VEVENT
DTSTART;TZID=Europe/Luxembourg:20230708T100000
DTEND;TZID=Europe/Luxembourg:20230708T120000
DTSTAMP:20260421T224456
CREATED:20230222T133241Z
LAST-MODIFIED:20230222T133241Z
UID:10001111-1688810400-1688817600@www.kaerjeng.lu
SUMMARY:Assemblée générale - UN Käerjeng'97
DESCRIPTION:
URL:https://www.kaerjeng.lu/evenement/assemblee-generale-un-kaerjeng97/
LOCATION:Bascharage – Um Dribbel
CATEGORIES:Agenda
ATTACH;FMTTYPE=image/jpeg:https://www.kaerjeng.lu/wp-content/uploads/2021/08/AG.jpg
END:VEVENT
BEGIN:VEVENT
DTSTART;VALUE=DATE:20230509
DTEND;VALUE=DATE:20230510
DTSTAMP:20260421T224456
CREATED:20230126T152735Z
LAST-MODIFIED:20230503T141920Z
UID:10001106-1683590400-1683676799@www.kaerjeng.lu
SUMMARY:Club Cup - U.N. Käerjeng'97
DESCRIPTION:
URL:https://www.kaerjeng.lu/evenement/family-day-u-n-kaerjeng97/
LOCATION:Bascharage – Um Dribbel
CATEGORIES:Agenda
ATTACH;FMTTYPE=image/jpeg:https://www.kaerjeng.lu/wp-content/uploads/2023/05/Club-Cup-9.5.23-002.jpg
END:VEVENT
BEGIN:VEVENT
DTSTART;VALUE=DATE:20230412
DTEND;VALUE=DATE:20230415
DTSTAMP:20260421T224456
CREATED:20230126T152322Z
LAST-MODIFIED:20230328T073734Z
UID:10001103-1681257600-1681516799@www.kaerjeng.lu
SUMMARY:Handball Jugendcamp - Handball Käerjeng
DESCRIPTION:
URL:https://www.kaerjeng.lu/evenement/handball-jugendcamp-handball-kaerjeng/
LOCATION:Bascharage – Um Dribbel
CATEGORIES:Agenda
ATTACH;FMTTYPE=image/jpeg:https://www.kaerjeng.lu/wp-content/uploads/2023/03/Handballcamp-2023.jpg
END:VEVENT
BEGIN:VEVENT
DTSTART;TZID=Europe/Luxembourg:20230405T193000
DTEND;TZID=Europe/Luxembourg:20230405T213000
DTSTAMP:20260421T224456
CREATED:20230324T145158Z
LAST-MODIFIED:20230324T145158Z
UID:10001126-1680723000-1680730200@www.kaerjeng.lu
SUMMARY:Assemblée générale - Croix-Rouge Bascharage
DESCRIPTION:
URL:https://www.kaerjeng.lu/evenement/assemblee-generale-croix-rouge-bascharage/
LOCATION:Bascharage – Um Dribbel
CATEGORIES:Agenda
ATTACH;FMTTYPE=image/jpeg:https://www.kaerjeng.lu/wp-content/uploads/2021/08/AG.jpg
END:VEVENT
BEGIN:VEVENT
DTSTART;VALUE=DATE:20220909
DTEND;VALUE=DATE:20220912
DTSTAMP:20260421T224456
CREATED:20220718T074250Z
LAST-MODIFIED:20220829T092707Z
UID:10001008-1662681600-1662940799@www.kaerjeng.lu
SUMMARY:Jugend-Cup - UN Käerjeng'97
DESCRIPTION:
URL:https://www.kaerjeng.lu/evenement/jugend-cup-un-kaerjeng97/
LOCATION:Bascharage – Um Dribbel
CATEGORIES:Agenda
ATTACH;FMTTYPE=image/jpeg:https://www.kaerjeng.lu/wp-content/uploads/2022/08/Jugend-Cup-2022.jpg
END:VEVENT
END:VCALENDAR