BEGIN:VCALENDAR
VERSION:2.0
PRODID:-//Käerjeng - ECPv6.15.17.1//NONSGML v1.0//EN
CALSCALE:GREGORIAN
METHOD:PUBLISH
X-ORIGINAL-URL:https://www.kaerjeng.lu
X-WR-CALDESC:Évènements pour Käerjeng
REFRESH-INTERVAL;VALUE=DURATION:PT1H
X-Robots-Tag:noindex
X-PUBLISHED-TTL:PT1H
BEGIN:VTIMEZONE
TZID:Europe/Luxembourg
BEGIN:DAYLIGHT
TZOFFSETFROM:+0100
TZOFFSETTO:+0200
TZNAME:CEST
DTSTART:20190331T010000
END:DAYLIGHT
BEGIN:STANDARD
TZOFFSETFROM:+0200
TZOFFSETTO:+0100
TZNAME:CET
DTSTART:20191027T010000
END:STANDARD
BEGIN:DAYLIGHT
TZOFFSETFROM:+0100
TZOFFSETTO:+0200
TZNAME:CEST
DTSTART:20200329T010000
END:DAYLIGHT
BEGIN:STANDARD
TZOFFSETFROM:+0200
TZOFFSETTO:+0100
TZNAME:CET
DTSTART:20201025T010000
END:STANDARD
BEGIN:DAYLIGHT
TZOFFSETFROM:+0100
TZOFFSETTO:+0200
TZNAME:CEST
DTSTART:20210328T010000
END:DAYLIGHT
BEGIN:STANDARD
TZOFFSETFROM:+0200
TZOFFSETTO:+0100
TZNAME:CET
DTSTART:20211031T010000
END:STANDARD
BEGIN:DAYLIGHT
TZOFFSETFROM:+0100
TZOFFSETTO:+0200
TZNAME:CEST
DTSTART:20220327T010000
END:DAYLIGHT
BEGIN:STANDARD
TZOFFSETFROM:+0200
TZOFFSETTO:+0100
TZNAME:CET
DTSTART:20221030T010000
END:STANDARD
BEGIN:DAYLIGHT
TZOFFSETFROM:+0100
TZOFFSETTO:+0200
TZNAME:CEST
DTSTART:20230326T010000
END:DAYLIGHT
BEGIN:STANDARD
TZOFFSETFROM:+0200
TZOFFSETTO:+0100
TZNAME:CET
DTSTART:20231029T010000
END:STANDARD
BEGIN:DAYLIGHT
TZOFFSETFROM:+0100
TZOFFSETTO:+0200
TZNAME:CEST
DTSTART:20240331T010000
END:DAYLIGHT
BEGIN:STANDARD
TZOFFSETFROM:+0200
TZOFFSETTO:+0100
TZNAME:CET
DTSTART:20241027T010000
END:STANDARD
BEGIN:DAYLIGHT
TZOFFSETFROM:+0100
TZOFFSETTO:+0200
TZNAME:CEST
DTSTART:20250330T010000
END:DAYLIGHT
BEGIN:STANDARD
TZOFFSETFROM:+0200
TZOFFSETTO:+0100
TZNAME:CET
DTSTART:20251026T010000
END:STANDARD
BEGIN:DAYLIGHT
TZOFFSETFROM:+0100
TZOFFSETTO:+0200
TZNAME:CEST
DTSTART:20260329T010000
END:DAYLIGHT
BEGIN:STANDARD
TZOFFSETFROM:+0200
TZOFFSETTO:+0100
TZNAME:CET
DTSTART:20261025T010000
END:STANDARD
END:VTIMEZONE
BEGIN:VEVENT
DTSTART;VALUE=DATE:20250627
DTEND;VALUE=DATE:20250630
DTSTAMP:20260422T024928
CREATED:20250221T161055Z
LAST-MODIFIED:20250625T132028Z
UID:10001538-1750982400-1751241599@www.kaerjeng.lu
SUMMARY:Bëschfest  - Handball Käerjeng
DESCRIPTION:
URL:https://www.kaerjeng.lu/evenement/beschfest-handball-kaerjeng-3/
LOCATION:Bascharage – Bommertbësch
CATEGORIES:Agenda
ATTACH;FMTTYPE=image/jpeg:https://www.kaerjeng.lu/wp-content/uploads/2025/02/Beschfest-HBK-2025.jpg
END:VEVENT
BEGIN:VEVENT
DTSTART;VALUE=DATE:20250614
DTEND;VALUE=DATE:20250616
DTSTAMP:20260422T024928
CREATED:20250115T082230Z
LAST-MODIFIED:20250606T075511Z
UID:10001464-1749859200-1750031999@www.kaerjeng.lu
SUMMARY:Bëschfest  - Guiden a Scouten
DESCRIPTION:
URL:https://www.kaerjeng.lu/evenement/beschfest-guiden-a-scouten/
LOCATION:Bascharage – Bommertbësch
CATEGORIES:Agenda
ATTACH;FMTTYPE=image/jpeg:https://www.kaerjeng.lu/wp-content/uploads/2025/05/Flyer-Beschfest-2025-Pubquiz-a-Familljerallye-Guiden-a-Scouten_Page_1.jpg
END:VEVENT
BEGIN:VEVENT
DTSTART;VALUE=DATE:20250607
DTEND;VALUE=DATE:20250610
DTSTAMP:20260422T024928
CREATED:20250115T081434Z
LAST-MODIFIED:20250523T092433Z
UID:10001457-1749254400-1749513599@www.kaerjeng.lu
SUMMARY:Bëschfest	- Käerjenger Bouwen
DESCRIPTION:
URL:https://www.kaerjeng.lu/evenement/beschfest-kaerjenger-bouwen-3/
LOCATION:Bascharage – Bommertbësch
CATEGORIES:Agenda
ATTACH;FMTTYPE=image/jpeg:https://www.kaerjeng.lu/wp-content/uploads/2025/05/Beschfest-KB-2025.jpg
END:VEVENT
BEGIN:VEVENT
DTSTART;TZID=Europe/Luxembourg:20250501T090000
DTEND;TZID=Europe/Luxembourg:20250501T120000
DTSTAMP:20260422T024928
CREATED:20250115T074802Z
LAST-MODIFIED:20250115T074802Z
UID:10001440-1746090000-1746100800@www.kaerjeng.lu
SUMMARY:1. Mee Feier
DESCRIPTION:
URL:https://www.kaerjeng.lu/evenement/1-mee-feier-5/
LOCATION:Bascharage – Bommertbësch
CATEGORIES:Agenda
ATTACH;FMTTYPE=image/jpeg:https://www.kaerjeng.lu/wp-content/uploads/2020/10/event.jpg
END:VEVENT
BEGIN:VEVENT
DTSTART;VALUE=DATE:20240614
DTEND;VALUE=DATE:20240616
DTSTAMP:20260422T024928
CREATED:20240404T122619Z
LAST-MODIFIED:20240527T133309Z
UID:10001326-1718323200-1718495999@www.kaerjeng.lu
SUMMARY:Bëschfest - U.N. Käerjeng'97
DESCRIPTION:
URL:https://www.kaerjeng.lu/evenement/beschfest-u-n-kaerjeng97-3/
LOCATION:Bascharage – Bommertbësch
CATEGORIES:Agenda
ATTACH;FMTTYPE=image/jpeg:https://www.kaerjeng.lu/wp-content/uploads/2024/04/UNK-afficheur_288x360-px_04-24_Bëschfester6-1.jpg
END:VEVENT
BEGIN:VEVENT
DTSTART;VALUE=DATE:20240608
DTEND;VALUE=DATE:20240610
DTSTAMP:20260422T024928
CREATED:20240404T122309Z
LAST-MODIFIED:20240424T143438Z
UID:10001324-1717804800-1717977599@www.kaerjeng.lu
SUMMARY:Bëschfest - Handball Käerjeng
DESCRIPTION:
URL:https://www.kaerjeng.lu/evenement/beschfest-handball-kaerjeng-2/
LOCATION:Bascharage – Bommertbësch
CATEGORIES:Agenda
ATTACH;FMTTYPE=image/jpeg:https://www.kaerjeng.lu/wp-content/uploads/2024/04/HBK-afficheur_288x360-px_04-24_Bëschfester5.jpg
END:VEVENT
BEGIN:VEVENT
DTSTART;VALUE=DATE:20240601
DTEND;VALUE=DATE:20240603
DTSTAMP:20260422T024928
CREATED:20240404T122031Z
LAST-MODIFIED:20240424T143504Z
UID:10001323-1717200000-1717372799@www.kaerjeng.lu
SUMMARY:Bëschfest - Käerjenger Guiden a Scouten
DESCRIPTION:
URL:https://www.kaerjeng.lu/evenement/beschfest-kaerjenger-guiden-a-scouten-2/
LOCATION:Bascharage – Bommertbësch
CATEGORIES:Agenda
ATTACH;FMTTYPE=image/jpeg:https://www.kaerjeng.lu/wp-content/uploads/2024/04/KGS-afficheur_288x360-px_04-24_Bëschfester4.jpg
END:VEVENT
BEGIN:VEVENT
DTSTART;VALUE=DATE:20240525
DTEND;VALUE=DATE:20240527
DTSTAMP:20260422T024928
CREATED:20240404T121754Z
LAST-MODIFIED:20240424T143529Z
UID:10001322-1716595200-1716767999@www.kaerjeng.lu
SUMMARY:Bëschfest - DT Nidderkäerjeng
DESCRIPTION:
URL:https://www.kaerjeng.lu/evenement/beschfest-dt-nidderkaerjeng-3/
LOCATION:Bascharage – Bommertbësch
CATEGORIES:Agenda
ATTACH;FMTTYPE=image/jpeg:https://www.kaerjeng.lu/wp-content/uploads/2024/04/DTN-afficheur_288x360-px_04-24_Bëschfester3.jpg
END:VEVENT
BEGIN:VEVENT
DTSTART;VALUE=DATE:20240518
DTEND;VALUE=DATE:20240521
DTSTAMP:20260422T024928
CREATED:20240404T121630Z
LAST-MODIFIED:20240424T143559Z
UID:10001321-1715990400-1716249599@www.kaerjeng.lu
SUMMARY:Bëschfest - Käerjenger Bouwen
DESCRIPTION:
URL:https://www.kaerjeng.lu/evenement/beschfest-kaerjenger-bouwen-2/
LOCATION:Bascharage – Bommertbësch
CATEGORIES:Agenda
ATTACH;FMTTYPE=image/jpeg:https://www.kaerjeng.lu/wp-content/uploads/2024/04/KB-afficheur_288x360-px_04-24_Bëschfester2.jpg
END:VEVENT
BEGIN:VEVENT
DTSTART;VALUE=DATE:20240511
DTEND;VALUE=DATE:20240513
DTSTAMP:20260422T024928
CREATED:20240404T114423Z
LAST-MODIFIED:20240425T081347Z
UID:10001319-1715385600-1715558399@www.kaerjeng.lu
SUMMARY:Bëschfest - Harmonie Hautcharage
DESCRIPTION:
URL:https://www.kaerjeng.lu/evenement/beschfest-harmonie-hautcharage-2/
LOCATION:Bascharage – Bommertbësch
CATEGORIES:Agenda
ATTACH;FMTTYPE=image/jpeg:https://www.kaerjeng.lu/wp-content/uploads/2024/04/Flyer-Poulet_Harmonie-Hautscharage-Beschfest-2024.jpg
END:VEVENT
BEGIN:VEVENT
DTSTART;VALUE=DATE:20240501
DTEND;VALUE=DATE:20240502
DTSTAMP:20260422T024928
CREATED:20240104T142114Z
LAST-MODIFIED:20240104T142154Z
UID:10001224-1714521600-1714607999@www.kaerjeng.lu
SUMMARY:1. Mee Feier
DESCRIPTION:
URL:https://www.kaerjeng.lu/evenement/1-mee-feier-4/
LOCATION:Bascharage – Bommertbësch
CATEGORIES:Agenda
ATTACH;FMTTYPE=image/jpeg:https://www.kaerjeng.lu/wp-content/uploads/2020/10/event.jpg
END:VEVENT
BEGIN:VEVENT
DTSTART;TZID=Europe/Luxembourg:20230721T110000
DTEND;TZID=Europe/Luxembourg:20230723T230000
DTSTAMP:20260422T024928
CREATED:20230515T133801Z
LAST-MODIFIED:20230717T133116Z
UID:10001144-1689937200-1690153200@www.kaerjeng.lu
SUMMARY:Bëschfest - Käerjenger Theater
DESCRIPTION:
URL:https://www.kaerjeng.lu/evenement/beschfest-kaerjenger-theater-2/
LOCATION:Bascharage – Bommertbësch
CATEGORIES:Agenda
ATTACH;FMTTYPE=image/jpeg:https://www.kaerjeng.lu/wp-content/uploads/2023/07/Beschfest-KT.jpg
END:VEVENT
BEGIN:VEVENT
DTSTART;TZID=Europe/Luxembourg:20230708T110000
DTEND;TZID=Europe/Luxembourg:20230709T230000
DTSTAMP:20260422T024928
CREATED:20230515T132407Z
LAST-MODIFIED:20230526T092846Z
UID:10001143-1688814000-1688943600@www.kaerjeng.lu
SUMMARY:Bëschfest - U.N. Käerjeng'97
DESCRIPTION:
URL:https://www.kaerjeng.lu/evenement/beschfest-u-n-kaerjeng97-2/
LOCATION:Bascharage – Bommertbësch
CATEGORIES:Agenda
ATTACH;FMTTYPE=image/jpeg:https://www.kaerjeng.lu/wp-content/uploads/2023/05/affiche_A3_05-23_Bëschfester_Kaerjenger-Bouwen-scaled.jpg
END:VEVENT
BEGIN:VEVENT
DTSTART;TZID=Europe/Luxembourg:20230701T110000
DTEND;TZID=Europe/Luxembourg:20230702T230000
DTSTAMP:20260422T024928
CREATED:20230515T131810Z
LAST-MODIFIED:20230526T093047Z
UID:10001140-1688209200-1688338800@www.kaerjeng.lu
SUMMARY:Bëschfest - Käerjenger Guiden a Scouten
DESCRIPTION:
URL:https://www.kaerjeng.lu/evenement/beschfest-kaerjenger-guiden-a-scouten/
LOCATION:Bascharage – Bommertbësch
CATEGORIES:Agenda
ATTACH;FMTTYPE=image/jpeg:https://www.kaerjeng.lu/wp-content/uploads/2023/05/affiche_A3_05-23_Bëschfester_Kaerjenger-Bouwen-scaled.jpg
END:VEVENT
BEGIN:VEVENT
DTSTART;TZID=Europe/Luxembourg:20230602T110000
DTEND;TZID=Europe/Luxembourg:20230604T230000
DTSTAMP:20260422T024928
CREATED:20230515T131324Z
LAST-MODIFIED:20230526T092612Z
UID:10001138-1685703600-1685919600@www.kaerjeng.lu
SUMMARY:Bëschfest - DT Nidderkäerjeng
DESCRIPTION:
URL:https://www.kaerjeng.lu/evenement/beschfest-dt-nidderkaerjeng-2/
LOCATION:Bascharage – Bommertbësch
CATEGORIES:Agenda
ATTACH;FMTTYPE=image/jpeg:https://www.kaerjeng.lu/wp-content/uploads/2023/05/affiche_A3_05-23_Bëschfester_DT-Nidderkäerjeng.jpg
END:VEVENT
BEGIN:VEVENT
DTSTART;TZID=Europe/Luxembourg:20230527T113000
DTEND;TZID=Europe/Luxembourg:20230529T230000
DTSTAMP:20260422T024928
CREATED:20230515T100802Z
LAST-MODIFIED:20230525T073607Z
UID:10001136-1685187000-1685401200@www.kaerjeng.lu
SUMMARY:Bëschfest - Käerjenger Bouwen
DESCRIPTION:
URL:https://www.kaerjeng.lu/evenement/beschfest-kaerjenger-bouwen/
LOCATION:Bascharage – Bommertbësch
CATEGORIES:Agenda
ATTACH;FMTTYPE=image/jpeg:https://www.kaerjeng.lu/wp-content/uploads/2023/05/affiche_A3_05-23_Bëschfester.jpg
END:VEVENT
BEGIN:VEVENT
DTSTART;TZID=Europe/Luxembourg:20230514T100000
DTEND;TZID=Europe/Luxembourg:20230514T220000
DTSTAMP:20260422T024928
CREATED:20230510T153436Z
LAST-MODIFIED:20230510T153436Z
UID:10001132-1684058400-1684101600@www.kaerjeng.lu
SUMMARY:Bëschfest - CSV Käerjeng
DESCRIPTION:
URL:https://www.kaerjeng.lu/evenement/beschfest-csv-kaerjeng/
LOCATION:Bascharage – Bommertbësch
CATEGORIES:Agenda
ATTACH;FMTTYPE=image/jpeg:https://www.kaerjeng.lu/wp-content/uploads/2023/05/CSV-Fest-14.05..jpg
END:VEVENT
BEGIN:VEVENT
DTSTART;TZID=Europe/Luxembourg:20230501T090000
DTEND;TZID=Europe/Luxembourg:20230501T110000
DTSTAMP:20260422T024928
CREATED:20230126T152639Z
LAST-MODIFIED:20230126T152639Z
UID:10001105-1682931600-1682938800@www.kaerjeng.lu
SUMMARY:1. Mee Feier - Veräiner Uewer- an Nidderkäerjeng
DESCRIPTION:
URL:https://www.kaerjeng.lu/evenement/1-mee-feier-verainer-uewer-an-nidderkaerjeng/
LOCATION:Bascharage – Bommertbësch
CATEGORIES:Agenda
ATTACH;FMTTYPE=image/jpeg:https://www.kaerjeng.lu/wp-content/uploads/2020/10/event.jpg
END:VEVENT
BEGIN:VEVENT
DTSTART;TZID=Europe/Luxembourg:20220501T090000
DTEND;TZID=Europe/Luxembourg:20220501T120000
DTSTAMP:20260422T024928
CREATED:20220420T133911Z
LAST-MODIFIED:20220420T133911Z
UID:10000967-1651395600-1651406400@www.kaerjeng.lu
SUMMARY:1. Mee Feier
DESCRIPTION:
URL:https://www.kaerjeng.lu/evenement/1-mee-feier-3/
LOCATION:Bascharage – Bommertbësch
CATEGORIES:Agenda
ATTACH;FMTTYPE=image/jpeg:https://www.kaerjeng.lu/wp-content/uploads/2020/10/event.jpg
END:VEVENT
BEGIN:VEVENT
DTSTART;VALUE=DATE:20210625
DTEND;VALUE=DATE:20210629
DTSTAMP:20260422T024928
CREATED:20210601T102427Z
LAST-MODIFIED:20210601T102427Z
UID:10000785-1624579200-1624841999@www.kaerjeng.lu
SUMMARY:Bëschfest - Harmonie Municipale Bascharage
DESCRIPTION:
URL:https://www.kaerjeng.lu/evenement/beschfest-harmonie-municipale-bascharage/
LOCATION:Bascharage – Bommertbësch
CATEGORIES:Agenda
ATTACH;FMTTYPE=image/jpeg:https://www.kaerjeng.lu/wp-content/uploads/2020/10/event.jpg
END:VEVENT
BEGIN:VEVENT
DTSTART;VALUE=DATE:20210618
DTEND;VALUE=DATE:20210622
DTSTAMP:20260422T024928
CREATED:20210601T101354Z
LAST-MODIFIED:20210601T101354Z
UID:10000783-1623974400-1624237199@www.kaerjeng.lu
SUMMARY:Bëschfest - U.N. Käerjeng'97 Vétérans
DESCRIPTION:
URL:https://www.kaerjeng.lu/evenement/beschfest-u-n-kaerjeng97-veterans/
LOCATION:Bascharage – Bommertbësch
CATEGORIES:Agenda
ATTACH;FMTTYPE=image/jpeg:https://www.kaerjeng.lu/wp-content/uploads/2020/10/event.jpg
END:VEVENT
BEGIN:VEVENT
DTSTART;VALUE=DATE:20210611
DTEND;VALUE=DATE:20210615
DTSTAMP:20260422T024928
CREATED:20210601T101134Z
LAST-MODIFIED:20210601T101134Z
UID:10000782-1623369600-1623632399@www.kaerjeng.lu
SUMMARY:Bëschfest - DT Nidderkäerjeng
DESCRIPTION:
URL:https://www.kaerjeng.lu/evenement/beschfest-dt-nidderkaerjeng/
LOCATION:Bascharage – Bommertbësch
CATEGORIES:Agenda
ATTACH;FMTTYPE=image/jpeg:https://www.kaerjeng.lu/wp-content/uploads/2020/10/event.jpg
END:VEVENT
BEGIN:VEVENT
DTSTART;TZID=Europe/Luxembourg:20200501T090000
DTEND;TZID=Europe/Luxembourg:20200501T120000
DTSTAMP:20260422T024928
CREATED:20200318T083214Z
LAST-MODIFIED:20200318T083214Z
UID:10000737-1588323600-1588334400@www.kaerjeng.lu
SUMMARY:1. Mee Feier - Gemeng Käerjeng
DESCRIPTION:
URL:https://www.kaerjeng.lu/evenement/1-mee-feier-2/
LOCATION:Bascharage – Bommertbësch
ATTACH;FMTTYPE=image/png:https://www.kaerjeng.lu/wp-content/uploads/2020/05/event.png
END:VEVENT
END:VCALENDAR