BEGIN:VCALENDAR
VERSION:2.0
PRODID:-//Käerjeng - ECPv6.15.17.1//NONSGML v1.0//EN
CALSCALE:GREGORIAN
METHOD:PUBLISH
X-ORIGINAL-URL:https://www.kaerjeng.lu
X-WR-CALDESC:Évènements pour Käerjeng
REFRESH-INTERVAL;VALUE=DURATION:PT1H
X-Robots-Tag:noindex
X-PUBLISHED-TTL:PT1H
BEGIN:VTIMEZONE
TZID:Europe/Luxembourg
BEGIN:DAYLIGHT
TZOFFSETFROM:+0100
TZOFFSETTO:+0200
TZNAME:CEST
DTSTART:20250330T010000
END:DAYLIGHT
BEGIN:STANDARD
TZOFFSETFROM:+0200
TZOFFSETTO:+0100
TZNAME:CET
DTSTART:20251026T010000
END:STANDARD
BEGIN:DAYLIGHT
TZOFFSETFROM:+0100
TZOFFSETTO:+0200
TZNAME:CEST
DTSTART:20260329T010000
END:DAYLIGHT
BEGIN:STANDARD
TZOFFSETFROM:+0200
TZOFFSETTO:+0100
TZNAME:CET
DTSTART:20261025T010000
END:STANDARD
BEGIN:DAYLIGHT
TZOFFSETFROM:+0100
TZOFFSETTO:+0200
TZNAME:CEST
DTSTART:20270328T010000
END:DAYLIGHT
BEGIN:STANDARD
TZOFFSETFROM:+0200
TZOFFSETTO:+0100
TZNAME:CET
DTSTART:20271031T010000
END:STANDARD
END:VTIMEZONE
BEGIN:VEVENT
DTSTART;TZID=Europe/Luxembourg:20260323T190000
DTEND;TZID=Europe/Luxembourg:20260323T210000
DTSTAMP:20260421T183824
CREATED:20251218T105911Z
LAST-MODIFIED:20260128T103519Z
UID:10001623-1774292400-1774299600@www.kaerjeng.lu
SUMMARY:Assemblée générale - natur&ëmwelt Kënzeg-Féngeg-Grass
DESCRIPTION:
URL:https://www.kaerjeng.lu/evenement/assemblee-generale-natur-an-emwelt/
LOCATION:Clemency – Salle des Fêtes
CATEGORIES:Agenda
ATTACH;FMTTYPE=image/jpeg:https://www.kaerjeng.lu/wp-content/uploads/2021/08/AG.jpg
END:VEVENT
BEGIN:VEVENT
DTSTART;TZID=Europe/Luxembourg:20260326T193000
DTEND;TZID=Europe/Luxembourg:20260326T230000
DTSTAMP:20260421T183824
CREATED:20260310T081809Z
LAST-MODIFIED:20260310T081809Z
UID:10001720-1774553400-1774566000@www.kaerjeng.lu
SUMMARY:Gala des Lauréats - Käerjenger Musekschoul
DESCRIPTION:
URL:https://www.kaerjeng.lu/evenement/gala-des-laureats-kaerjenger-musekschoul/
LOCATION:Clemency – Salle des Fêtes
CATEGORIES:Agenda
ATTACH;FMTTYPE=image/jpeg:https://www.kaerjeng.lu/wp-content/uploads/2026/03/KMS-Gala-Concert-2026.jpg
END:VEVENT
BEGIN:VEVENT
DTSTART;TZID=Europe/Luxembourg:20260327T180000
DTEND;TZID=Europe/Luxembourg:20260327T220000
DTSTAMP:20260421T183824
CREATED:20251218T110121Z
LAST-MODIFIED:20260324T132102Z
UID:10001625-1774634400-1774648800@www.kaerjeng.lu
SUMMARY:Winter Closing - CSV Käerjeng
DESCRIPTION:
URL:https://www.kaerjeng.lu/evenement/winter-closing-csv-kaerjeng/
LOCATION:Clemency – Salle des Fêtes
CATEGORIES:Agenda
ATTACH;FMTTYPE=image/jpeg:https://www.kaerjeng.lu/wp-content/uploads/2026/03/CSV-Winter-Closing-2026.jpg
END:VEVENT
BEGIN:VEVENT
DTSTART;TZID=Europe/Luxembourg:20260328T090000
DTEND;TZID=Europe/Luxembourg:20260328T120000
DTSTAMP:20260421T183824
CREATED:20260313T104701Z
LAST-MODIFIED:20260313T152102Z
UID:10001722-1774688400-1774699200@www.kaerjeng.lu
SUMMARY:Repair Café
DESCRIPTION:
URL:https://www.kaerjeng.lu/evenement/repair-cafe-6/
LOCATION:Bascharage – Eco Center
CATEGORIES:Agenda
ATTACH;FMTTYPE=image/jpeg:https://www.kaerjeng.lu/wp-content/uploads/2026/03/affiche_repair-cafe-2026.jpg
END:VEVENT
BEGIN:VEVENT
DTSTART;TZID=Europe/Luxembourg:20260329T100000
DTEND;TZID=Europe/Luxembourg:20260329T120000
DTSTAMP:20260421T183824
CREATED:20251218T110226Z
LAST-MODIFIED:20260313T083153Z
UID:10001626-1774778400-1774785600@www.kaerjeng.lu
SUMMARY:Assemblée générale - Harmonie Clemency
DESCRIPTION:
URL:https://www.kaerjeng.lu/evenement/assemblee-generale-harmonie-clemency-2/
LOCATION:Clemency – Salle des Fêtes
CATEGORIES:Agenda
ATTACH;FMTTYPE=image/jpeg:https://www.kaerjeng.lu/wp-content/uploads/2021/08/AG.jpg
END:VEVENT
BEGIN:VEVENT
DTSTART;TZID=Europe/Luxembourg:20260329T100000
DTEND;TZID=Europe/Luxembourg:20260329T140000
DTSTAMP:20260421T183824
CREATED:20260323T080352Z
LAST-MODIFIED:20260323T080352Z
UID:10001723-1774778400-1774792800@www.kaerjeng.lu
SUMMARY:Run with us - Käerjenger Bouwen
DESCRIPTION:
URL:https://www.kaerjeng.lu/evenement/run-with-us-kaerjenger-bouwen/
LOCATION:Bascharage – Op Acker
CATEGORIES:Agenda
ATTACH;FMTTYPE=image/jpeg:https://www.kaerjeng.lu/wp-content/uploads/2026/03/Run-with-us-KB-2026.jpg
END:VEVENT
BEGIN:VEVENT
DTSTART;TZID=Europe/Luxembourg:20260329T110000
DTEND;TZID=Europe/Luxembourg:20260329T120000
DTSTAMP:20260421T183824
CREATED:20251218T110333Z
LAST-MODIFIED:20260313T083353Z
UID:10001627-1774782000-1774785600@www.kaerjeng.lu
SUMMARY:Assemblée générale - Playmo-Frënn Lëtzebuerg
DESCRIPTION:
URL:https://www.kaerjeng.lu/evenement/assemblee-generale-playmo-frenn-letzebuerg-3/
LOCATION:Hautcharage – L’Angolo d’Oro
CATEGORIES:Agenda
ATTACH;FMTTYPE=image/jpeg:https://www.kaerjeng.lu/wp-content/uploads/2021/08/AG.jpg
END:VEVENT
END:VCALENDAR