BEGIN:VCALENDAR
VERSION:2.0
PRODID:-//Käerjeng - ECPv6.15.17.1//NONSGML v1.0//EN
CALSCALE:GREGORIAN
METHOD:PUBLISH
X-WR-CALNAME:Käerjeng
X-ORIGINAL-URL:https://www.kaerjeng.lu
X-WR-CALDESC:Évènements pour Käerjeng
REFRESH-INTERVAL;VALUE=DURATION:PT1H
X-Robots-Tag:noindex
X-PUBLISHED-TTL:PT1H
BEGIN:VTIMEZONE
TZID:Europe/Luxembourg
BEGIN:DAYLIGHT
TZOFFSETFROM:+0100
TZOFFSETTO:+0200
TZNAME:CEST
DTSTART:20250330T010000
END:DAYLIGHT
BEGIN:STANDARD
TZOFFSETFROM:+0200
TZOFFSETTO:+0100
TZNAME:CET
DTSTART:20251026T010000
END:STANDARD
BEGIN:DAYLIGHT
TZOFFSETFROM:+0100
TZOFFSETTO:+0200
TZNAME:CEST
DTSTART:20260329T010000
END:DAYLIGHT
BEGIN:STANDARD
TZOFFSETFROM:+0200
TZOFFSETTO:+0100
TZNAME:CET
DTSTART:20261025T010000
END:STANDARD
BEGIN:DAYLIGHT
TZOFFSETFROM:+0100
TZOFFSETTO:+0200
TZNAME:CEST
DTSTART:20270328T010000
END:DAYLIGHT
BEGIN:STANDARD
TZOFFSETFROM:+0200
TZOFFSETTO:+0100
TZNAME:CET
DTSTART:20271031T010000
END:STANDARD
END:VTIMEZONE
BEGIN:VEVENT
DTSTART;TZID=Europe/Luxembourg:20260126T190000
DTEND;TZID=Europe/Luxembourg:20260126T210000
DTSTAMP:20260421T172607
CREATED:20260113T093931Z
LAST-MODIFIED:20260113T094026Z
UID:10001634-1769454000-1769461200@www.kaerjeng.lu
SUMMARY:Assemblée générale - TC Kënzeg-Féngeg
DESCRIPTION:
URL:https://www.kaerjeng.lu/evenement/assemblee-generale-tc-keinzig/
LOCATION:Clemency – Terrain de football
CATEGORIES:Agenda
ATTACH;FMTTYPE=image/jpeg:https://www.kaerjeng.lu/wp-content/uploads/2021/08/AG.jpg
END:VEVENT
BEGIN:VEVENT
DTSTART;TZID=Europe/Luxembourg:20260131T100000
DTEND;TZID=Europe/Luxembourg:20260131T160000
DTSTAMP:20260421T172607
CREATED:20260121T153654Z
LAST-MODIFIED:20260121T153654Z
UID:10001637-1769853600-1769875200@www.kaerjeng.lu
SUMMARY:Vide grenier - Käerjenger Kleederkummer
DESCRIPTION:
URL:https://www.kaerjeng.lu/evenement/vide-grenier-kaerjenger-kleederkummer-3/
LOCATION:Bascharage – rue de la Poste
CATEGORIES:Agenda
ATTACH;FMTTYPE=image/jpeg:https://www.kaerjeng.lu/wp-content/uploads/2026/01/Vide-grenier-Kleederkummer-01_26_Page_1.jpg
END:VEVENT
BEGIN:VEVENT
DTSTART;TZID=Europe/Luxembourg:20260131T193000
DTEND;TZID=Europe/Luxembourg:20260131T210000
DTSTAMP:20260421T172607
CREATED:20251217T135734Z
LAST-MODIFIED:20260123T083601Z
UID:10001586-1769887800-1769893200@www.kaerjeng.lu
SUMMARY:Assemblée générale - Féngiger Gesank
DESCRIPTION:
URL:https://www.kaerjeng.lu/evenement/assemblee-generale-fengeger-gesank-2/
LOCATION:Fingig – Salle des Fêtes
CATEGORIES:Agenda
ATTACH;FMTTYPE=image/jpeg:https://www.kaerjeng.lu/wp-content/uploads/2021/08/AG.jpg
END:VEVENT
BEGIN:VEVENT
DTSTART;TZID=Europe/Luxembourg:20260131T200000
DTEND;TZID=Europe/Luxembourg:20260131T230000
DTSTAMP:20260421T172607
CREATED:20251217T140152Z
LAST-MODIFIED:20251217T140313Z
UID:10001587-1769889600-1769900400@www.kaerjeng.lu
SUMMARY:Theater "Mord am Kéinzig-Express" - Harmonie Clemency
DESCRIPTION:
URL:https://www.kaerjeng.lu/evenement/theater-mord-am-keinzig-express-harmonie-clemency/2026-01-31/
LOCATION:Clemency – Salle des Fêtes
CATEGORIES:Agenda
ATTACH;FMTTYPE=image/jpeg:https://www.kaerjeng.lu/wp-content/uploads/2025/12/Theater-HK-2026.jpg
END:VEVENT
BEGIN:VEVENT
DTSTART;TZID=Europe/Luxembourg:20260201T090000
DTEND;TZID=Europe/Luxembourg:20260201T170000
DTSTAMP:20260421T172607
CREATED:20251217T140453Z
LAST-MODIFIED:20260122T133341Z
UID:10001590-1769936400-1769965200@www.kaerjeng.lu
SUMMARY:Flou- a Sammlermaart - HMB Supporters
DESCRIPTION:
URL:https://www.kaerjeng.lu/evenement/flou-a-sammlermaart-hmb-supporters/
LOCATION:Käerjenger Treff\, 54c\, avenue de Luxembourg\, Bascharage\, Luxembourg
CATEGORIES:Agenda
ATTACH;FMTTYPE=image/jpeg:https://www.kaerjeng.lu/wp-content/uploads/2026/01/Kopie-von-HMB-Supporters_FlouSammler-Bourse_01.2026-Flyer-A4_20260121_191232_0000.jpg
END:VEVENT
END:VCALENDAR