BEGIN:VCALENDAR
VERSION:2.0
PRODID:-//Käerjeng - ECPv6.15.17.1//NONSGML v1.0//EN
CALSCALE:GREGORIAN
METHOD:PUBLISH
X-ORIGINAL-URL:https://www.kaerjeng.lu
X-WR-CALDESC:Évènements pour Käerjeng
REFRESH-INTERVAL;VALUE=DURATION:PT1H
X-Robots-Tag:noindex
X-PUBLISHED-TTL:PT1H
BEGIN:VTIMEZONE
TZID:Europe/Luxembourg
BEGIN:DAYLIGHT
TZOFFSETFROM:+0100
TZOFFSETTO:+0200
TZNAME:CEST
DTSTART:20250330T010000
END:DAYLIGHT
BEGIN:STANDARD
TZOFFSETFROM:+0200
TZOFFSETTO:+0100
TZNAME:CET
DTSTART:20251026T010000
END:STANDARD
BEGIN:DAYLIGHT
TZOFFSETFROM:+0100
TZOFFSETTO:+0200
TZNAME:CEST
DTSTART:20260329T010000
END:DAYLIGHT
BEGIN:STANDARD
TZOFFSETFROM:+0200
TZOFFSETTO:+0100
TZNAME:CET
DTSTART:20261025T010000
END:STANDARD
BEGIN:DAYLIGHT
TZOFFSETFROM:+0100
TZOFFSETTO:+0200
TZNAME:CEST
DTSTART:20270328T010000
END:DAYLIGHT
BEGIN:STANDARD
TZOFFSETFROM:+0200
TZOFFSETTO:+0100
TZNAME:CET
DTSTART:20271031T010000
END:STANDARD
END:VTIMEZONE
BEGIN:VEVENT
DTSTART;TZID=Europe/Luxembourg:20260123T190000
DTEND;TZID=Europe/Luxembourg:20260123T210000
DTSTAMP:20260422T010539
CREATED:20251217T135425Z
LAST-MODIFIED:20251217T135425Z
UID:10001583-1769194800-1769202000@www.kaerjeng.lu
SUMMARY:Assemblée générale - Murphy's Racing Team
DESCRIPTION:
URL:https://www.kaerjeng.lu/evenement/assemblee-generale-murphys-racing-team-5/
LOCATION:Käerjenger Treff\, 54c\, avenue de Luxembourg\, Bascharage\, Luxembourg
CATEGORIES:Agenda
ATTACH;FMTTYPE=image/jpeg:https://www.kaerjeng.lu/wp-content/uploads/2021/08/AG.jpg
END:VEVENT
BEGIN:VEVENT
DTSTART;TZID=Europe/Luxembourg:20260123T200000
DTEND;TZID=Europe/Luxembourg:20260123T210000
DTSTAMP:20260422T010539
CREATED:20260116T072601Z
LAST-MODIFIED:20260116T072601Z
UID:10001635-1769198400-1769202000@www.kaerjeng.lu
SUMMARY:Assemblée générale - Harmonie Municipale Bascharage
DESCRIPTION:
URL:https://www.kaerjeng.lu/evenement/assemblee-generale-harmonie-municipale-bascharage-6/
LOCATION:Bascharage
CATEGORIES:Agenda
ATTACH;FMTTYPE=image/jpeg:https://www.kaerjeng.lu/wp-content/uploads/2021/08/AG.jpg
END:VEVENT
BEGIN:VEVENT
DTSTART;TZID=Europe/Luxembourg:20260124T103000
DTEND;TZID=Europe/Luxembourg:20260124T120000
DTSTAMP:20260422T010539
CREATED:20251217T135525Z
LAST-MODIFIED:20251217T135525Z
UID:10001584-1769250600-1769256000@www.kaerjeng.lu
SUMMARY:Assemblée générale - Käerjenger Theater
DESCRIPTION:
URL:https://www.kaerjeng.lu/evenement/assemblee-generale-kaerjenger-theater-6/
LOCATION:Käerjenger Treff\, 54c\, avenue de Luxembourg\, Bascharage\, Luxembourg
CATEGORIES:Agenda
ATTACH;FMTTYPE=image/jpeg:https://www.kaerjeng.lu/wp-content/uploads/2021/08/AG.jpg
END:VEVENT
BEGIN:VEVENT
DTSTART;TZID=Europe/Luxembourg:20260125T120000
DTEND;TZID=Europe/Luxembourg:20260125T170000
DTSTAMP:20260422T010539
CREATED:20251217T135627Z
LAST-MODIFIED:20260113T095438Z
UID:10001585-1769342400-1769360400@www.kaerjeng.lu
SUMMARY:Hierken- an Träipenfest - DT Féngig
DESCRIPTION:
URL:https://www.kaerjeng.lu/evenement/hierken-an-traipenfest-dt-fengig-2/
LOCATION:Fingig – Salle des Fêtes
CATEGORIES:Agenda
ATTACH;FMTTYPE=image/jpeg:https://www.kaerjeng.lu/wp-content/uploads/2025/12/Hierken-an-Träipen-26.jpg
END:VEVENT
END:VCALENDAR