BEGIN:VCALENDAR
VERSION:2.0
PRODID:-//Käerjeng - ECPv6.15.17.1//NONSGML v1.0//EN
CALSCALE:GREGORIAN
METHOD:PUBLISH
X-WR-CALNAME:Käerjeng
X-ORIGINAL-URL:https://www.kaerjeng.lu
X-WR-CALDESC:Évènements pour Käerjeng
REFRESH-INTERVAL;VALUE=DURATION:PT1H
X-Robots-Tag:noindex
X-PUBLISHED-TTL:PT1H
BEGIN:VTIMEZONE
TZID:Europe/Luxembourg
BEGIN:DAYLIGHT
TZOFFSETFROM:+0100
TZOFFSETTO:+0200
TZNAME:CEST
DTSTART:20240331T010000
END:DAYLIGHT
BEGIN:STANDARD
TZOFFSETFROM:+0200
TZOFFSETTO:+0100
TZNAME:CET
DTSTART:20241027T010000
END:STANDARD
BEGIN:DAYLIGHT
TZOFFSETFROM:+0100
TZOFFSETTO:+0200
TZNAME:CEST
DTSTART:20250330T010000
END:DAYLIGHT
BEGIN:STANDARD
TZOFFSETFROM:+0200
TZOFFSETTO:+0100
TZNAME:CET
DTSTART:20251026T010000
END:STANDARD
BEGIN:DAYLIGHT
TZOFFSETFROM:+0100
TZOFFSETTO:+0200
TZNAME:CEST
DTSTART:20260329T010000
END:DAYLIGHT
BEGIN:STANDARD
TZOFFSETFROM:+0200
TZOFFSETTO:+0100
TZNAME:CET
DTSTART:20261025T010000
END:STANDARD
END:VTIMEZONE
BEGIN:VEVENT
DTSTART;TZID=Europe/Luxembourg:20251127T110000
DTEND;TZID=Europe/Luxembourg:20251127T150000
DTSTAMP:20260424T175432
CREATED:20250129T094037Z
LAST-MODIFIED:20251104T072602Z
UID:10001520-1764241200-1764255600@www.kaerjeng.lu
SUMMARY:Rentnerfeier - 3. Alterskommissioun
DESCRIPTION:
URL:https://www.kaerjeng.lu/evenement/rentnerfeier-3-alterskommissioun-6/
LOCATION:Käerjenger Treff\, 54c\, avenue de Luxembourg\, Bascharage\, Luxembourg
CATEGORIES:Agenda
ATTACH;FMTTYPE=image/jpeg:https://www.kaerjeng.lu/wp-content/uploads/2025/01/cover-rentnerfeier1.jpg
END:VEVENT
BEGIN:VEVENT
DTSTART;TZID=Europe/Luxembourg:20251128T110000
DTEND;TZID=Europe/Luxembourg:20251128T150000
DTSTAMP:20260424T175432
CREATED:20250129T094124Z
LAST-MODIFIED:20251110T084003Z
UID:10001521-1764327600-1764342000@www.kaerjeng.lu
SUMMARY:Rentnerfeier - 3. Alterskommissioun
DESCRIPTION:
URL:https://www.kaerjeng.lu/evenement/rentnerfeier-3-alterskommissioun-7/
LOCATION:Clemency – Salle des Fêtes
CATEGORIES:Agenda
ATTACH;FMTTYPE=image/jpeg:https://www.kaerjeng.lu/wp-content/uploads/2025/01/info-aktuell_A4_10-25_fête-pour-retraites_28-11-BAT_Page_1.jpg
END:VEVENT
BEGIN:VEVENT
DTSTART;TZID=Europe/Luxembourg:20251128T180000
DTEND;TZID=Europe/Luxembourg:20251129T010000
DTSTAMP:20260424T175432
CREATED:20250926T145048Z
LAST-MODIFIED:20251117T101741Z
UID:10001568-1764352800-1764378000@www.kaerjeng.lu
SUMMARY:Après-Ski - KaBoule
DESCRIPTION:
URL:https://www.kaerjeng.lu/evenement/apres-ski-bal-kaboule/
LOCATION:Bascharage – Brauerei
CATEGORIES:Agenda
ATTACH;FMTTYPE=image/jpeg:https://www.kaerjeng.lu/wp-content/uploads/2025/11/Apes-Ski-Party-Kaboule-2025.jpg
END:VEVENT
BEGIN:VEVENT
DTSTART;TZID=Europe/Luxembourg:20251129T090000
DTEND;TZID=Europe/Luxembourg:20251129T120000
DTSTAMP:20260424T175432
CREATED:20250425T090025Z
LAST-MODIFIED:20251117T090239Z
UID:10001551-1764406800-1764417600@www.kaerjeng.lu
SUMMARY:Repair Café
DESCRIPTION:
URL:https://www.kaerjeng.lu/evenement/repair-cafe-5/
LOCATION:Bascharage – Eco Center
CATEGORIES:Agenda
ATTACH;FMTTYPE=image/jpeg:https://www.kaerjeng.lu/wp-content/uploads/2025/11/affiche_A3_11-25_repair-cafe-BAT.jpg
END:VEVENT
BEGIN:VEVENT
DTSTART;TZID=Europe/Luxembourg:20251129T190000
DTEND;TZID=Europe/Luxembourg:20251129T230000
DTSTAMP:20260424T175432
CREATED:20250129T101903Z
LAST-MODIFIED:20251110T075739Z
UID:10001522-1764442800-1764457200@www.kaerjeng.lu
SUMMARY:Wanterconcert - Harmonie Hautcharage
DESCRIPTION:
URL:https://www.kaerjeng.lu/evenement/wanterconcert-harmonie-hautcharage-5/
LOCATION:Hautcharage – Eglise
CATEGORIES:Agenda
ATTACH;FMTTYPE=image/jpeg:https://www.kaerjeng.lu/wp-content/uploads/2025/11/Wanterconcert-Harmonei-Hautcharage-2025.jpg
END:VEVENT
BEGIN:VEVENT
DTSTART;TZID=Europe/Luxembourg:20251129T200000
DTEND;TZID=Europe/Luxembourg:20251129T220000
DTSTAMP:20260424T175432
CREATED:20251009T144143Z
LAST-MODIFIED:20251009T144143Z
UID:10001569-1764446400-1764453600@www.kaerjeng.lu
SUMMARY:Songs for Charity - Ensemble Vocal Vivace
DESCRIPTION:
URL:https://www.kaerjeng.lu/evenement/songs-for-charity-ensemble-vocal-vivace-3/
LOCATION:Bascharage – Eglise
CATEGORIES:Agenda
ATTACH;FMTTYPE=image/jpeg:https://www.kaerjeng.lu/wp-content/uploads/2025/10/Songs-for-Charity-Vivace-2025.jpg
END:VEVENT
BEGIN:VEVENT
DTSTART;TZID=Europe/Luxembourg:20251130T080000
DTEND;TZID=Europe/Luxembourg:20251130T170000
DTSTAMP:20260424T175432
CREATED:20250129T102155Z
LAST-MODIFIED:20251014T085628Z
UID:10001524-1764489600-1764522000@www.kaerjeng.lu
SUMMARY:Tournoi Challenge Nicole Rischard	- DT Nidderkäerjeng
DESCRIPTION:
URL:https://www.kaerjeng.lu/evenement/tournoi-challenge-nicole-rischard-dt-nidderkaerjeng-5/
LOCATION:Bascharage – Op Acker
CATEGORIES:Agenda
ATTACH;FMTTYPE=image/jpeg:https://www.kaerjeng.lu/wp-content/uploads/2020/10/event.jpg
END:VEVENT
BEGIN:VEVENT
DTSTART;TZID=Europe/Luxembourg:20251130T110000
DTEND;TZID=Europe/Luxembourg:20251130T190000
DTSTAMP:20260424T175432
CREATED:20251121T144455Z
LAST-MODIFIED:20251121T144455Z
UID:10001580-1764500400-1764529200@www.kaerjeng.lu
SUMMARY:Wanterfeeling - Café de la Place Hautcharage
DESCRIPTION:
URL:https://www.kaerjeng.lu/evenement/wanterfeeling-cafe-de-la-place-hautcharage/
LOCATION:Hautcharage – Um Paesch
CATEGORIES:Agenda
ATTACH;FMTTYPE=image/jpeg:https://www.kaerjeng.lu/wp-content/uploads/2025/11/WINTER-feeling.jpg
END:VEVENT
END:VCALENDAR