BEGIN:VCALENDAR
VERSION:2.0
PRODID:-//Käerjeng - ECPv6.15.17.1//NONSGML v1.0//EN
CALSCALE:GREGORIAN
METHOD:PUBLISH
X-WR-CALNAME:Käerjeng
X-ORIGINAL-URL:https://www.kaerjeng.lu
X-WR-CALDESC:Évènements pour Käerjeng
REFRESH-INTERVAL;VALUE=DURATION:PT1H
X-Robots-Tag:noindex
X-PUBLISHED-TTL:PT1H
BEGIN:VTIMEZONE
TZID:Europe/Luxembourg
BEGIN:DAYLIGHT
TZOFFSETFROM:+0100
TZOFFSETTO:+0200
TZNAME:CEST
DTSTART:20240331T010000
END:DAYLIGHT
BEGIN:STANDARD
TZOFFSETFROM:+0200
TZOFFSETTO:+0100
TZNAME:CET
DTSTART:20241027T010000
END:STANDARD
BEGIN:DAYLIGHT
TZOFFSETFROM:+0100
TZOFFSETTO:+0200
TZNAME:CEST
DTSTART:20250330T010000
END:DAYLIGHT
BEGIN:STANDARD
TZOFFSETFROM:+0200
TZOFFSETTO:+0100
TZNAME:CET
DTSTART:20251026T010000
END:STANDARD
BEGIN:DAYLIGHT
TZOFFSETFROM:+0100
TZOFFSETTO:+0200
TZNAME:CEST
DTSTART:20260329T010000
END:DAYLIGHT
BEGIN:STANDARD
TZOFFSETFROM:+0200
TZOFFSETTO:+0100
TZNAME:CET
DTSTART:20261025T010000
END:STANDARD
END:VTIMEZONE
BEGIN:VEVENT
DTSTART;TZID=Europe/Luxembourg:20251121T190000
DTEND;TZID=Europe/Luxembourg:20251121T220000
DTSTAMP:20260424T175420
CREATED:20250129T093827Z
LAST-MODIFIED:20251107T153256Z
UID:10001518-1763751600-1763762400@www.kaerjeng.lu
SUMMARY:Vernissage Salon d'auteurs - Fotosfrënn Käerjeng
DESCRIPTION:
URL:https://www.kaerjeng.lu/evenement/vernissage-salon-dauteurs-fotosfrenn-kaerjeng-2/
LOCATION:Käerjenger Treff\, 54c\, avenue de Luxembourg\, Bascharage\, Luxembourg
CATEGORIES:Agenda
ATTACH;FMTTYPE=image/jpeg:https://www.kaerjeng.lu/wp-content/uploads/2025/01/25_Affiche-Salon-dauteurs-Romain-Nero-copy-2.jpg
END:VEVENT
BEGIN:VEVENT
DTSTART;VALUE=DATE:20251122
DTEND;VALUE=DATE:20251123
DTSTAMP:20260424T175420
CREATED:20250129T093522Z
LAST-MODIFIED:20251104T072123Z
UID:10001515-1763769600-1763855999@www.kaerjeng.lu
SUMMARY:Dag vum Bam - Ëmweltkommissioun
DESCRIPTION:
URL:https://www.kaerjeng.lu/evenement/dag-vum-bam-emweltkommissioun-5/
CATEGORIES:Agenda
ATTACH;FMTTYPE=image/jpeg:https://www.kaerjeng.lu/wp-content/uploads/2025/01/info-aktuell_A4_10-25_Dag-vum-Bam-BAT_Page_1.jpg
END:VEVENT
BEGIN:VEVENT
DTSTART;TZID=Europe/Luxembourg:20251122T130000
DTEND;TZID=Europe/Luxembourg:20251123T173000
DTSTAMP:20260424T175420
CREATED:20250129T093940Z
LAST-MODIFIED:20251022T074929Z
UID:10001519-1763816400-1763919000@www.kaerjeng.lu
SUMMARY:Wantermaart - Käerjenger Guiden a Scouten
DESCRIPTION:
URL:https://www.kaerjeng.lu/evenement/wantermaart-kaerjenger-guiden-a-scouten/
LOCATION:Clemency – Salle des Fêtes
CATEGORIES:Agenda
ATTACH;FMTTYPE=image/jpeg:https://www.kaerjeng.lu/wp-content/uploads/2025/10/Wantermaart-2025_Page_1.jpg
END:VEVENT
END:VCALENDAR