BEGIN:VCALENDAR
VERSION:2.0
PRODID:-//Käerjeng - ECPv5.9.0//NONSGML v1.0//EN
CALSCALE:GREGORIAN
METHOD:PUBLISH
X-WR-CALNAME:Käerjeng
X-ORIGINAL-URL:https://www.kaerjeng.lu
X-WR-CALDESC:évènements pour Käerjeng
BEGIN:VTIMEZONE
TZID:Europe/Luxembourg
BEGIN:DAYLIGHT
TZOFFSETFROM:+0100
TZOFFSETTO:+0200
TZNAME:CEST
DTSTART:20210328T010000
END:DAYLIGHT
BEGIN:STANDARD
TZOFFSETFROM:+0200
TZOFFSETTO:+0100
TZNAME:CET
DTSTART:20211031T010000
END:STANDARD
END:VTIMEZONE
BEGIN:VEVENT
DTSTART;VALUE=DATE:20210918
DTEND;VALUE=DATE:20210919
DTSTAMP:20211011T135323
CREATED:20210713T132107Z
LAST-MODIFIED:20210813T143744Z
UID:20972-1631923200-1632009599@www.kaerjeng.lu
SUMMARY:Trëppeltour - Ëmweltkommissioun
DESCRIPTION:
URL:https://www.kaerjeng.lu/evenement/treppeltour-3-alterskommissioun/
LOCATION:Fingig Salle des Fêtes
CATEGORIES:Agenda
ATTACH;FMTTYPE=image/jpeg:https://www.kaerjeng.lu/wp-content/uploads/2020/10/event.jpg
END:VEVENT
BEGIN:VEVENT
DTSTART;VALUE=DATE:20210918
DTEND;VALUE=DATE:20210920
DTSTAMP:20211011T135323
CREATED:20210713T132252Z
LAST-MODIFIED:20210913T085059Z
UID:20974-1631923200-1632095999@www.kaerjeng.lu
SUMMARY:Grillfest - Harmonie Municipale Bascharage
DESCRIPTION:
URL:https://www.kaerjeng.lu/evenement/grillfest-harmonie-municipale-bascharage/
LOCATION:Käerjenger Treff\, 54c\, avenue de Luxembourg\, Bascharage\, Luxembourg
CATEGORIES:Agenda
ATTACH;FMTTYPE=image/jpeg:https://www.kaerjeng.lu/wp-content/uploads/2021/09/HMB2.jpg
END:VEVENT
BEGIN:VEVENT
DTSTART;TZID=Europe/Luxembourg:20210919T080000
DTEND;TZID=Europe/Luxembourg:20210919T170000
DTSTAMP:20211011T135323
CREATED:20210813T150632Z
LAST-MODIFIED:20210813T150637Z
UID:21236-1632038400-1632070800@www.kaerjeng.lu
SUMMARY:Vëlostour mat Quiz - Mobilitéitskommissioun
DESCRIPTION:
URL:https://www.kaerjeng.lu/evenement/velostour-mat-quiz-mobiliteitskommissioun/
LOCATION:Bascharage – Place Claus Cito
CATEGORIES:Agenda
ATTACH;FMTTYPE=image/jpeg:https://www.kaerjeng.lu/wp-content/uploads/2020/10/event.jpg
END:VEVENT
BEGIN:VEVENT
DTSTART;TZID=Europe/Luxembourg:20210919T090000
DTEND;TZID=Europe/Luxembourg:20210919T170000
DTSTAMP:20211011T135323
CREATED:20210713T132514Z
LAST-MODIFIED:20210913T085025Z
UID:20976-1632042000-1632070800@www.kaerjeng.lu
SUMMARY:Flou- a Sammlertreff - HMB Supporters
DESCRIPTION:
URL:https://www.kaerjeng.lu/evenement/flou-a-sammlertreff-hmb-supporters/
LOCATION:Käerjenger Treff\, 54c\, avenue de Luxembourg\, Bascharage\, Luxembourg
CATEGORIES:Agenda
ATTACH;FMTTYPE=image/jpeg:https://www.kaerjeng.lu/wp-content/uploads/2021/09/HMB1.jpg
END:VEVENT
END:VCALENDAR