BEGIN:VCALENDAR
VERSION:2.0
PRODID:-//Käerjeng - ECPv5.9.0//NONSGML v1.0//EN
CALSCALE:GREGORIAN
METHOD:PUBLISH
X-WR-CALNAME:Käerjeng
X-ORIGINAL-URL:https://www.kaerjeng.lu
X-WR-CALDESC:évènements pour Käerjeng
BEGIN:VTIMEZONE
TZID:Europe/Luxembourg
BEGIN:DAYLIGHT
TZOFFSETFROM:+0100
TZOFFSETTO:+0200
TZNAME:CEST
DTSTART:20210328T010000
END:DAYLIGHT
BEGIN:STANDARD
TZOFFSETFROM:+0200
TZOFFSETTO:+0100
TZNAME:CET
DTSTART:20211031T010000
END:STANDARD
END:VTIMEZONE
BEGIN:VEVENT
DTSTART;TZID=Europe/Luxembourg:20210903T200000
DTEND;TZID=Europe/Luxembourg:20210903T220000
DTSTAMP:20211011T134049
CREATED:20210813T133524Z
LAST-MODIFIED:20210818T130129Z
UID:21225-1630699200-1630706400@www.kaerjeng.lu
SUMMARY:40 Joer Jumelage Gaflenz - Concert
DESCRIPTION:
URL:https://www.kaerjeng.lu/evenement/40-joer-jumelage-gaflenz-concert/
LOCATION:Gaflenz (A)
CATEGORIES:Agenda
ATTACH;FMTTYPE=image/jpeg:https://www.kaerjeng.lu/wp-content/uploads/2021/08/Logo-Gemeinde-Gaflenz.jpg
END:VEVENT
BEGIN:VEVENT
DTSTART;TZID=Europe/Luxembourg:20210904T100000
DTEND;TZID=Europe/Luxembourg:20210904T170000
DTSTAMP:20211011T134049
CREATED:20210813T133639Z
LAST-MODIFIED:20210818T130105Z
UID:21227-1630749600-1630774800@www.kaerjeng.lu
SUMMARY:40 Joer Jumelage Gaflenz - Forsteralm
DESCRIPTION:
URL:https://www.kaerjeng.lu/evenement/40-joer-jumelage-gaflenz-forsteralm/
LOCATION:Gaflenz (A)
CATEGORIES:Agenda
ATTACH;FMTTYPE=image/jpeg:https://www.kaerjeng.lu/wp-content/uploads/2021/08/Logo-Gemeinde-Gaflenz.jpg
END:VEVENT
BEGIN:VEVENT
DTSTART;TZID=Europe/Luxembourg:20210904T190000
DTEND;TZID=Europe/Luxembourg:20210904T230000
DTSTAMP:20211011T134049
CREATED:20210813T133812Z
LAST-MODIFIED:20210818T130039Z
UID:21229-1630782000-1630796400@www.kaerjeng.lu
SUMMARY:40 Joer Jumelage Gaflenz - Festivités officielles
DESCRIPTION:
URL:https://www.kaerjeng.lu/evenement/40-joer-jumelage-gaflenz-festivites-officielles/
LOCATION:Gaflenz (A)
CATEGORIES:Agenda
ATTACH;FMTTYPE=image/jpeg:https://www.kaerjeng.lu/wp-content/uploads/2021/08/Logo-Gemeinde-Gaflenz.jpg
END:VEVENT
END:VCALENDAR