BEGIN:VCALENDAR
VERSION:2.0
PRODID:-//Käerjeng - ECPv6.15.17.1//NONSGML v1.0//EN
CALSCALE:GREGORIAN
METHOD:PUBLISH
X-ORIGINAL-URL:https://www.kaerjeng.lu
X-WR-CALDESC:Évènements pour Käerjeng
REFRESH-INTERVAL;VALUE=DURATION:PT1H
X-Robots-Tag:noindex
X-PUBLISHED-TTL:PT1H
BEGIN:VTIMEZONE
TZID:Europe/Luxembourg
BEGIN:DAYLIGHT
TZOFFSETFROM:+0100
TZOFFSETTO:+0200
TZNAME:CEST
DTSTART:20250330T010000
END:DAYLIGHT
BEGIN:STANDARD
TZOFFSETFROM:+0200
TZOFFSETTO:+0100
TZNAME:CET
DTSTART:20251026T010000
END:STANDARD
BEGIN:DAYLIGHT
TZOFFSETFROM:+0100
TZOFFSETTO:+0200
TZNAME:CEST
DTSTART:20260329T010000
END:DAYLIGHT
BEGIN:STANDARD
TZOFFSETFROM:+0200
TZOFFSETTO:+0100
TZNAME:CET
DTSTART:20261025T010000
END:STANDARD
BEGIN:DAYLIGHT
TZOFFSETFROM:+0100
TZOFFSETTO:+0200
TZNAME:CEST
DTSTART:20270328T010000
END:DAYLIGHT
BEGIN:STANDARD
TZOFFSETFROM:+0200
TZOFFSETTO:+0100
TZNAME:CET
DTSTART:20271031T010000
END:STANDARD
END:VTIMEZONE
BEGIN:VEVENT
DTSTART;TZID=Europe/Luxembourg:20260430T210000
DTEND;TZID=Europe/Luxembourg:20260501T010000
DTSTAMP:20260421T151203
CREATED:20260326T082749Z
LAST-MODIFIED:20260326T082749Z
UID:10001725-1777582800-1777597200@www.kaerjeng.lu
SUMMARY:Passoa Bal - U.N. Käerjeng'97
DESCRIPTION:
URL:https://www.kaerjeng.lu/evenement/passoa-bal-u-n-kaerjeng97/
LOCATION:Bascharage – Café des Sports
CATEGORIES:Agenda
ATTACH;FMTTYPE=image/jpeg:https://www.kaerjeng.lu/wp-content/uploads/2026/03/Passoabal.jpg
END:VEVENT
BEGIN:VEVENT
DTSTART;VALUE=DATE:20260501
DTEND;VALUE=DATE:20260502
DTSTAMP:20260421T151203
CREATED:20260128T104304Z
LAST-MODIFIED:20260409T135133Z
UID:10001644-1777593600-1777679999@www.kaerjeng.lu
SUMMARY:1. Meefeier - DT Féngig
DESCRIPTION:
URL:https://www.kaerjeng.lu/evenement/1-meefeier-dt-fengig/
LOCATION:Fingig
CATEGORIES:Agenda
ATTACH;FMTTYPE=image/jpeg:https://www.kaerjeng.lu/wp-content/uploads/2026/04/1.-Mee-2026.jpg
END:VEVENT
BEGIN:VEVENT
DTSTART;VALUE=DATE:20260501
DTEND;VALUE=DATE:20260502
DTSTAMP:20260421T151203
CREATED:20260128T105343Z
LAST-MODIFIED:20260128T105343Z
UID:10001647-1777593600-1777679999@www.kaerjeng.lu
SUMMARY:1. Meefeier - Veräiner Uewer- a Nidderkäerjeng
DESCRIPTION:
URL:https://www.kaerjeng.lu/evenement/1-meefeier-verainer-uewer-a-nidderkaerjeng/
LOCATION:Bascharage
CATEGORIES:Agenda
ATTACH;FMTTYPE=image/jpeg:https://www.kaerjeng.lu/wp-content/uploads/2020/10/event.jpg
END:VEVENT
BEGIN:VEVENT
DTSTART;TZID=Europe/Luxembourg:20260502T090000
DTEND;TZID=Europe/Luxembourg:20260502T190000
DTSTAMP:20260421T151203
CREATED:20260128T104347Z
LAST-MODIFIED:20260413T121215Z
UID:10001645-1777712400-1777748400@www.kaerjeng.lu
SUMMARY:Cars&Grill - Murphy's Racing Team
DESCRIPTION:
URL:https://www.kaerjeng.lu/evenement/carsgrill-murphys-racing-team/
LOCATION:Clemency – Salle des Fêtes
CATEGORIES:Agenda
ATTACH;FMTTYPE=image/jpeg:https://www.kaerjeng.lu/wp-content/uploads/2026/01/Cars-Grill-Murphys-Racing-Team-2026.jpg
END:VEVENT
BEGIN:VEVENT
DTSTART;TZID=Europe/Luxembourg:20260503T150000
DTEND;TZID=Europe/Luxembourg:20260503T160000
DTSTAMP:20260421T151203
CREATED:20260128T104445Z
LAST-MODIFIED:20260415T100753Z
UID:10001646-1777820400-1777824000@www.kaerjeng.lu
SUMMARY:Assemblée générale - Gaart an Heem Kéinzig-Féngeg
DESCRIPTION:
URL:https://www.kaerjeng.lu/evenement/assemblee-generale-gaart-an-heem-keinzig-fengig/
LOCATION:Clemency – Salle des Fêtes
CATEGORIES:Agenda
ATTACH;FMTTYPE=image/jpeg:https://www.kaerjeng.lu/wp-content/uploads/2021/08/AG.jpg
END:VEVENT
BEGIN:VEVENT
DTSTART;TZID=Europe/Luxembourg:20260509T113000
DTEND;TZID=Europe/Luxembourg:20260509T180000
DTSTAMP:20260421T151203
CREATED:20260128T152121Z
LAST-MODIFIED:20260128T152121Z
UID:10001648-1778326200-1778349600@www.kaerjeng.lu
SUMMARY:Journée de l'Intégration - Commission de la cohésion sociale
DESCRIPTION:
URL:https://www.kaerjeng.lu/evenement/journee-de-lintegration-commission-de-la-cohesion-sociale/
LOCATION:Käerjenger Treff\, 54c\, avenue de Luxembourg\, Bascharage\, Luxembourg
CATEGORIES:Agenda
ATTACH;FMTTYPE=image/jpeg:https://www.kaerjeng.lu/wp-content/uploads/2025/04/save-the-date_01-26_Journée-de-lIntégration_FR.jpg
END:VEVENT
BEGIN:VEVENT
DTSTART;TZID=Europe/Luxembourg:20260509T200000
DTEND;TZID=Europe/Luxembourg:20260509T230000
DTSTAMP:20260421T151203
CREATED:20260128T152224Z
LAST-MODIFIED:20260128T152224Z
UID:10001649-1778356800-1778367600@www.kaerjeng.lu
SUMMARY:Gala Concert - Harmonie Clemency
DESCRIPTION:
URL:https://www.kaerjeng.lu/evenement/gala-concert-harmonie-clemency-3/
LOCATION:Clemency – Salle des Fêtes
CATEGORIES:Agenda
ATTACH;FMTTYPE=image/jpeg:https://www.kaerjeng.lu/wp-content/uploads/2020/10/event.jpg
END:VEVENT
BEGIN:VEVENT
DTSTART;TZID=Europe/Luxembourg:20260510T090000
DTEND;TZID=Europe/Luxembourg:20260510T170000
DTSTAMP:20260421T151203
CREATED:20260128T152303Z
LAST-MODIFIED:20260413T062855Z
UID:10001650-1778403600-1778432400@www.kaerjeng.lu
SUMMARY:Floumaart - Handball Käerjeng
DESCRIPTION:
URL:https://www.kaerjeng.lu/evenement/floumaart-handball-kaerjeng-3/
LOCATION:Käerjenger Treff\, 54c\, avenue de Luxembourg\, Bascharage\, Luxembourg
CATEGORIES:Agenda
ATTACH;FMTTYPE=image/jpeg:https://www.kaerjeng.lu/wp-content/uploads/2026/04/Copie-de-Green-Pink-Bold-Vintage-Flea-Market-Poster-1080-x-1350-px-10.jpg
END:VEVENT
BEGIN:VEVENT
DTSTART;VALUE=DATE:20260514
DTEND;VALUE=DATE:20260519
DTSTAMP:20260421T151203
CREATED:20260128T152401Z
LAST-MODIFIED:20260128T152401Z
UID:10001651-1778716800-1779148799@www.kaerjeng.lu
SUMMARY:Käerjenger Kiermes
DESCRIPTION:
URL:https://www.kaerjeng.lu/evenement/kaerjenger-kiermes-5/
LOCATION:Bascharage – Place Schuman
CATEGORIES:Agenda
ATTACH;FMTTYPE=image/jpeg:https://www.kaerjeng.lu/wp-content/uploads/2020/10/event.jpg
END:VEVENT
BEGIN:VEVENT
DTSTART;VALUE=DATE:20260516
DTEND;VALUE=DATE:20260517
DTSTAMP:20260421T151203
CREATED:20260128T152456Z
LAST-MODIFIED:20260128T152456Z
UID:10001652-1778889600-1778975999@www.kaerjeng.lu
SUMMARY:Fairtrade Breakfast - Fairtrade Group
DESCRIPTION:
URL:https://www.kaerjeng.lu/evenement/fairtrade-breakfast-fairtrade-group/
LOCATION:Bascharage – Musekschoul
CATEGORIES:Agenda
ATTACH;FMTTYPE=image/jpeg:https://www.kaerjeng.lu/wp-content/uploads/2020/10/event.jpg
END:VEVENT
BEGIN:VEVENT
DTSTART;TZID=Europe/Luxembourg:20260516T180000
DTEND;TZID=Europe/Luxembourg:20260516T190000
DTSTAMP:20260421T151203
CREATED:20260128T152621Z
LAST-MODIFIED:20260128T152621Z
UID:10001653-1778954400-1778958000@www.kaerjeng.lu
SUMMARY:Assemblée générale - DT Féngig
DESCRIPTION:
URL:https://www.kaerjeng.lu/evenement/assemblee-generale-dt-fengig-3/
LOCATION:Fingig – Salle des Fêtes
CATEGORIES:Agenda
ATTACH;FMTTYPE=image/jpeg:https://www.kaerjeng.lu/wp-content/uploads/2021/08/AG.jpg
END:VEVENT
BEGIN:VEVENT
DTSTART;VALUE=DATE:20260522
DTEND;VALUE=DATE:20260526
DTSTAMP:20260421T151203
CREATED:20260128T152738Z
LAST-MODIFIED:20260128T152738Z
UID:10001654-1779408000-1779753599@www.kaerjeng.lu
SUMMARY:Kéinziger Kiermes - Kéinzeger Fräschen
DESCRIPTION:
URL:https://www.kaerjeng.lu/evenement/keinziger-kiermes-keinzeger-fraschen/
LOCATION:Clemency – Place de la Gare
CATEGORIES:Agenda
ATTACH;FMTTYPE=image/jpeg:https://www.kaerjeng.lu/wp-content/uploads/2020/10/event.jpg
END:VEVENT
BEGIN:VEVENT
DTSTART;TZID=Europe/Luxembourg:20260523T100000
DTEND;TZID=Europe/Luxembourg:20260523T160000
DTSTAMP:20260421T151203
CREATED:20260128T152839Z
LAST-MODIFIED:20260128T152839Z
UID:10001655-1779530400-1779552000@www.kaerjeng.lu
SUMMARY:Kräiderwanderung - Gaart an Heem Uewerkäerjeng
DESCRIPTION:
URL:https://www.kaerjeng.lu/evenement/kraiderwanderung-gaart-an-heem-uewerkaerjeng-2/
LOCATION:Hautcharage – Centre Polyvalent
CATEGORIES:Agenda
ATTACH;FMTTYPE=image/jpeg:https://www.kaerjeng.lu/wp-content/uploads/2020/10/event.jpg
END:VEVENT
BEGIN:VEVENT
DTSTART;TZID=Europe/Luxembourg:20260531T110000
DTEND;TZID=Europe/Luxembourg:20260531T180000
DTSTAMP:20260421T151203
CREATED:20260128T153017Z
LAST-MODIFIED:20260415T101328Z
UID:10001656-1780225200-1780250400@www.kaerjeng.lu
SUMMARY:Sprëtzefest - Amicale des Anciens Sapeurs-Pompiers de Clémency Fingig
DESCRIPTION:
URL:https://www.kaerjeng.lu/evenement/spretzefest-amicale-des-anciens-sapeurs-pompiers-de-clemency-fingig/
LOCATION:Fingig – Salle des Fêtes
CATEGORIES:Agenda
ATTACH;FMTTYPE=image/jpeg:https://www.kaerjeng.lu/wp-content/uploads/2026/04/Spretzefest-Fengeg.jpg
END:VEVENT
END:VCALENDAR