BEGIN:VCALENDAR
VERSION:2.0
PRODID:-//Käerjeng - ECPv6.15.17.1//NONSGML v1.0//EN
CALSCALE:GREGORIAN
METHOD:PUBLISH
X-ORIGINAL-URL:https://www.kaerjeng.lu
X-WR-CALDESC:Évènements pour Käerjeng
REFRESH-INTERVAL;VALUE=DURATION:PT1H
X-Robots-Tag:noindex
X-PUBLISHED-TTL:PT1H
BEGIN:VTIMEZONE
TZID:Europe/Luxembourg
BEGIN:DAYLIGHT
TZOFFSETFROM:+0100
TZOFFSETTO:+0200
TZNAME:CEST
DTSTART:20250330T010000
END:DAYLIGHT
BEGIN:STANDARD
TZOFFSETFROM:+0200
TZOFFSETTO:+0100
TZNAME:CET
DTSTART:20251026T010000
END:STANDARD
BEGIN:DAYLIGHT
TZOFFSETFROM:+0100
TZOFFSETTO:+0200
TZNAME:CEST
DTSTART:20260329T010000
END:DAYLIGHT
BEGIN:STANDARD
TZOFFSETFROM:+0200
TZOFFSETTO:+0100
TZNAME:CET
DTSTART:20261025T010000
END:STANDARD
BEGIN:DAYLIGHT
TZOFFSETFROM:+0100
TZOFFSETTO:+0200
TZNAME:CEST
DTSTART:20270328T010000
END:DAYLIGHT
BEGIN:STANDARD
TZOFFSETFROM:+0200
TZOFFSETTO:+0100
TZNAME:CET
DTSTART:20271031T010000
END:STANDARD
END:VTIMEZONE
BEGIN:VEVENT
DTSTART;TZID=Europe/Luxembourg:20260201T090000
DTEND;TZID=Europe/Luxembourg:20260201T170000
DTSTAMP:20260421T161846
CREATED:20251217T140453Z
LAST-MODIFIED:20260122T133341Z
UID:10001590-1769936400-1769965200@www.kaerjeng.lu
SUMMARY:Flou- a Sammlermaart - HMB Supporters
DESCRIPTION:
URL:https://www.kaerjeng.lu/evenement/flou-a-sammlermaart-hmb-supporters/
LOCATION:Käerjenger Treff\, 54c\, avenue de Luxembourg\, Bascharage\, Luxembourg
CATEGORIES:Agenda
ATTACH;FMTTYPE=image/jpeg:https://www.kaerjeng.lu/wp-content/uploads/2026/01/Kopie-von-HMB-Supporters_FlouSammler-Bourse_01.2026-Flyer-A4_20260121_191232_0000.jpg
END:VEVENT
BEGIN:VEVENT
DTSTART;TZID=Europe/Luxembourg:20260202T163000
DTEND;TZID=Europe/Luxembourg:20260202T190000
DTSTAMP:20260421T161846
CREATED:20251217T140751Z
LAST-MODIFIED:20251217T140751Z
UID:10001592-1770049800-1770058800@www.kaerjeng.lu
SUMMARY:Mir gi liichten - Jugendtreff Käerjeng
DESCRIPTION:
URL:https://www.kaerjeng.lu/evenement/mir-gi-liichten-jugendtreff-kaerjeng-2/
LOCATION:Bascharage
CATEGORIES:Agenda
ATTACH;FMTTYPE=image/jpeg:https://www.kaerjeng.lu/wp-content/uploads/2020/10/event.jpg
END:VEVENT
BEGIN:VEVENT
DTSTART;TZID=Europe/Luxembourg:20260202T164500
DTEND;TZID=Europe/Luxembourg:20260202T190000
DTSTAMP:20260421T161846
CREATED:20251217T140550Z
LAST-MODIFIED:20260122T134008Z
UID:10001591-1770050700-1770058800@www.kaerjeng.lu
SUMMARY:Liichtmëssdag - Elterevereenegung Kéinzig-Féngig
DESCRIPTION:
URL:https://www.kaerjeng.lu/evenement/mir-gi-liichten-elterevereenegung-keinzig-fengig/
CATEGORIES:Agenda
ATTACH;FMTTYPE=image/jpeg:https://www.kaerjeng.lu/wp-content/uploads/2026/01/Liichtmessdag-Kenzeg-2026.jpg
END:VEVENT
BEGIN:VEVENT
DTSTART;TZID=Europe/Luxembourg:20260204T193000
DTEND;TZID=Europe/Luxembourg:20260204T210000
DTSTAMP:20260421T161846
CREATED:20251217T164504Z
LAST-MODIFIED:20251217T164504Z
UID:10001593-1770233400-1770238800@www.kaerjeng.lu
SUMMARY:Assemblée générale - Ensemble vocal Vivace
DESCRIPTION:
URL:https://www.kaerjeng.lu/evenement/assemblee-generale-ensemble-vocal-vivace-6/
LOCATION:Käerjenger Treff\, 54c\, avenue de Luxembourg\, Bascharage\, Luxembourg
CATEGORIES:Agenda
ATTACH;FMTTYPE=image/jpeg:https://www.kaerjeng.lu/wp-content/uploads/2021/08/AG.jpg
END:VEVENT
BEGIN:VEVENT
DTSTART;TZID=Europe/Luxembourg:20260206T200000
DTEND;TZID=Europe/Luxembourg:20260206T210000
DTSTAMP:20260421T161846
CREATED:20251217T164719Z
LAST-MODIFIED:20260123T095453Z
UID:10001594-1770408000-1770411600@www.kaerjeng.lu
SUMMARY:Assemblée générale - Amicale des Anciens Sapeurs-Pompiers de Clemency-Fingig
DESCRIPTION:
URL:https://www.kaerjeng.lu/evenement/assemblee-generale-amicale-des-anciens-sapeurs-pompiers-de-clemency-fingig/
LOCATION:Clemency – Salle des Fêtes
CATEGORIES:Agenda
ATTACH;FMTTYPE=image/jpeg:https://www.kaerjeng.lu/wp-content/uploads/2021/08/AG.jpg
END:VEVENT
BEGIN:VEVENT
DTSTART;TZID=Europe/Luxembourg:20260206T200000
DTEND;TZID=Europe/Luxembourg:20260206T230000
DTSTAMP:20260421T161846
CREATED:20251217T140152Z
LAST-MODIFIED:20251217T140313Z
UID:10001588-1770408000-1770418800@www.kaerjeng.lu
SUMMARY:Theater "Mord am Kéinzig-Express" - Harmonie Clemency
DESCRIPTION:
URL:https://www.kaerjeng.lu/evenement/theater-mord-am-keinzig-express-harmonie-clemency/2026-02-06/
LOCATION:Clemency – Salle des Fêtes
CATEGORIES:Agenda
ATTACH;FMTTYPE=image/jpeg:https://www.kaerjeng.lu/wp-content/uploads/2025/12/Theater-HK-2026.jpg
END:VEVENT
BEGIN:VEVENT
DTSTART;TZID=Europe/Luxembourg:20260207T150000
DTEND;TZID=Europe/Luxembourg:20260207T230000
DTSTAMP:20260421T161846
CREATED:20251217T164856Z
LAST-MODIFIED:20260122T134641Z
UID:10001595-1770476400-1770505200@www.kaerjeng.lu
SUMMARY:Après-Ski Party - U.N. Käerjeng'97
DESCRIPTION:
URL:https://www.kaerjeng.lu/evenement/apres-ski-party-u-n-kaerjeng97-2/
LOCATION:Bascharage – Um Dribbel
CATEGORIES:Agenda
ATTACH;FMTTYPE=image/jpeg:https://www.kaerjeng.lu/wp-content/uploads/2025/12/Apres-Ski-UNK-2026.jpg
END:VEVENT
BEGIN:VEVENT
DTSTART;TZID=Europe/Luxembourg:20260207T200000
DTEND;TZID=Europe/Luxembourg:20260207T230000
DTSTAMP:20260421T161846
CREATED:20251217T140152Z
LAST-MODIFIED:20251217T140313Z
UID:10001589-1770494400-1770505200@www.kaerjeng.lu
SUMMARY:Theater "Mord am Kéinzig-Express" - Harmonie Clemency
DESCRIPTION:
URL:https://www.kaerjeng.lu/evenement/theater-mord-am-keinzig-express-harmonie-clemency/2026-02-07/
LOCATION:Clemency – Salle des Fêtes
CATEGORIES:Agenda
ATTACH;FMTTYPE=image/jpeg:https://www.kaerjeng.lu/wp-content/uploads/2025/12/Theater-HK-2026.jpg
END:VEVENT
BEGIN:VEVENT
DTSTART;TZID=Europe/Luxembourg:20260208T100000
DTEND;TZID=Europe/Luxembourg:20260208T120000
DTSTAMP:20260421T161846
CREATED:20251218T103006Z
LAST-MODIFIED:20251218T103006Z
UID:10001596-1770544800-1770552000@www.kaerjeng.lu
SUMMARY:Assemblée générale - Harmonie Hautcharage
DESCRIPTION:
URL:https://www.kaerjeng.lu/evenement/assemblee-generale-harmonie-hautcharage-5/
LOCATION:Hautcharage – Centre Polyvalent
CATEGORIES:Agenda
ATTACH;FMTTYPE=image/jpeg:https://www.kaerjeng.lu/wp-content/uploads/2021/08/AG.jpg
END:VEVENT
BEGIN:VEVENT
DTSTART;TZID=Europe/Luxembourg:20260208T100000
DTEND;TZID=Europe/Luxembourg:20260208T120000
DTSTAMP:20260421T161846
CREATED:20251218T103102Z
LAST-MODIFIED:20251218T103102Z
UID:10001597-1770544800-1770552000@www.kaerjeng.lu
SUMMARY:Assemblée générale - Frënn vun der Uewerkäerjenger Musek
DESCRIPTION:
URL:https://www.kaerjeng.lu/evenement/assemblee-generale-frenn-vun-der-uewerkaerjenger-musek/
LOCATION:Hautcharage – Centre Polyvalent
CATEGORIES:Agenda
ATTACH;FMTTYPE=image/jpeg:https://www.kaerjeng.lu/wp-content/uploads/2021/08/AG.jpg
END:VEVENT
BEGIN:VEVENT
DTSTART;TZID=Europe/Luxembourg:20260208T110000
DTEND;TZID=Europe/Luxembourg:20260208T160000
DTSTAMP:20260421T161846
CREATED:20260120T073731Z
LAST-MODIFIED:20260120T073731Z
UID:10001636-1770548400-1770566400@www.kaerjeng.lu
SUMMARY:Kanner-Floumaart in Concert
DESCRIPTION:
URL:https://www.kaerjeng.lu/evenement/kanner-floumaart-in-concert/
LOCATION:Käerjenger Treff\, 54c\, avenue de Luxembourg\, Bascharage\, Luxembourg
CATEGORIES:Agenda
ATTACH;FMTTYPE=image/jpeg:https://www.kaerjeng.lu/wp-content/uploads/2026/01/Kannerfloumaart-HMB-2026.jpg
END:VEVENT
BEGIN:VEVENT
DTSTART;TZID=Europe/Luxembourg:20260211T171600
DTEND;TZID=Europe/Luxembourg:20260211T171600
DTSTAMP:20260421T161846
CREATED:20260211T083547Z
LAST-MODIFIED:20260211T161728Z
UID:10001716-1770830160-1770830160@www.kaerjeng.lu
SUMMARY:Sproochecafé op Lëtzebuergesch
DESCRIPTION:
URL:https://www.kaerjeng.lu/evenement/sproochecafe-op-letzebuergesch-2/2026-02-11/
LOCATION:Bascharage – rue de la Poste
CATEGORIES:Agenda
ATTACH;FMTTYPE=image/jpeg:https://www.kaerjeng.lu/wp-content/uploads/2024/12/afficheur_150x220-px_Sproochecafé_23-02.jpg
END:VEVENT
BEGIN:VEVENT
DTSTART;TZID=Europe/Luxembourg:20260218T100000
DTEND;TZID=Europe/Luxembourg:20260222T180000
DTSTAMP:20260421T161846
CREATED:20260126T072149Z
LAST-MODIFIED:20260126T072149Z
UID:10001638-1771408800-1771783200@www.kaerjeng.lu
SUMMARY:Lénger Sprangschlass - DT Lénger
DESCRIPTION:
URL:https://www.kaerjeng.lu/evenement/lenger-sprangschlass-dt-lenger/
LOCATION:Linger – Hall sportif
CATEGORIES:Agenda
ATTACH;FMTTYPE=image/jpeg:https://www.kaerjeng.lu/wp-content/uploads/2026/01/DT-Lenger-Sprangschlass-2026.jpg
END:VEVENT
BEGIN:VEVENT
DTSTART;TZID=Europe/Luxembourg:20260221T180000
DTEND;TZID=Europe/Luxembourg:20260221T230000
DTSTAMP:20260421T161846
CREATED:20251218T103255Z
LAST-MODIFIED:20260114T104251Z
UID:10001598-1771696800-1771714800@www.kaerjeng.lu
SUMMARY:Buergbrennen - Kéinziger Fräschen
DESCRIPTION:
URL:https://www.kaerjeng.lu/evenement/buergbrennen-keinziger-fraschen/
LOCATION:Clemency – Waassertuerm
CATEGORIES:Agenda
ATTACH;FMTTYPE=image/jpeg:https://www.kaerjeng.lu/wp-content/uploads/2026/01/flyer_buergbrennen-KF-2026.jpg
END:VEVENT
BEGIN:VEVENT
DTSTART;TZID=Europe/Luxembourg:20260222T103000
DTEND;TZID=Europe/Luxembourg:20260222T120000
DTSTAMP:20260421T161846
CREATED:20251218T103506Z
LAST-MODIFIED:20251218T103506Z
UID:10001600-1771756200-1771761600@www.kaerjeng.lu
SUMMARY:Assemblée générale - ES Clemency
DESCRIPTION:
URL:https://www.kaerjeng.lu/evenement/assemblee-generale-es-clemency/
LOCATION:Clemency – Terrain de football
CATEGORIES:Agenda
ATTACH;FMTTYPE=image/jpeg:https://www.kaerjeng.lu/wp-content/uploads/2021/08/AG.jpg
END:VEVENT
BEGIN:VEVENT
DTSTART;TZID=Europe/Luxembourg:20260222T183000
DTEND;TZID=Europe/Luxembourg:20260222T230000
DTSTAMP:20260421T161846
CREATED:20251218T103359Z
LAST-MODIFIED:20260127T074205Z
UID:10001599-1771785000-1771801200@www.kaerjeng.lu
SUMMARY:Buergbrennen - Féngiger Jugend
DESCRIPTION:
URL:https://www.kaerjeng.lu/evenement/buergbrennen-fengiger-jugend-4/
LOCATION:Fingig
CATEGORIES:Agenda
ATTACH;FMTTYPE=image/jpeg:https://www.kaerjeng.lu/wp-content/uploads/2026/01/Buergbrennen-Fingig-2026.jpg
END:VEVENT
BEGIN:VEVENT
DTSTART;TZID=Europe/Luxembourg:20260223T190000
DTEND;TZID=Europe/Luxembourg:20260223T210000
DTSTAMP:20260421T161846
CREATED:20260211T083547Z
LAST-MODIFIED:20260211T161728Z
UID:10001575-1771873200-1771880400@www.kaerjeng.lu
SUMMARY:Sproochecafé op Lëtzebuergesch
DESCRIPTION:
URL:https://www.kaerjeng.lu/evenement/sproochecafe-op-letzebuergesch-2/2026-02-23/
LOCATION:Bascharage – rue de la Poste
CATEGORIES:Agenda
ATTACH;FMTTYPE=image/jpeg:https://www.kaerjeng.lu/wp-content/uploads/2024/12/afficheur_150x220-px_Sproochecafé_23-02.jpg
END:VEVENT
BEGIN:VEVENT
DTSTART;TZID=Europe/Luxembourg:20260227T200000
DTEND;TZID=Europe/Luxembourg:20260228T010000
DTSTAMP:20260421T161846
CREATED:20260217T074834Z
LAST-MODIFIED:20260217T074834Z
UID:10001717-1772222400-1772240400@www.kaerjeng.lu
SUMMARY:Fuerz de bal - Käerjenger Bouwen
DESCRIPTION:
URL:https://www.kaerjeng.lu/evenement/fuerz-de-bal-kaerjenger-bouwen-3/
LOCATION:Bascharage – Brauerei
CATEGORIES:Agenda
ATTACH;FMTTYPE=image/jpeg:https://www.kaerjeng.lu/wp-content/uploads/2026/02/Fuerz-de-bal-2026.jpg
END:VEVENT
BEGIN:VEVENT
DTSTART;TZID=Europe/Luxembourg:20260228T140000
DTEND;TZID=Europe/Luxembourg:20260228T170000
DTSTAMP:20260421T161846
CREATED:20251218T103645Z
LAST-MODIFIED:20251218T103645Z
UID:10001602-1772287200-1772298000@www.kaerjeng.lu
SUMMARY:Hämmelsmarsch - Féngeger Gesank
DESCRIPTION:
URL:https://www.kaerjeng.lu/evenement/hammelsmarsch-fengeger-gesank-2/
LOCATION:Fingig
CATEGORIES:Agenda
ATTACH;FMTTYPE=image/jpeg:https://www.kaerjeng.lu/wp-content/uploads/2020/10/event.jpg
END:VEVENT
BEGIN:VEVENT
DTSTART;TZID=Europe/Luxembourg:20260228T140000
DTEND;TZID=Europe/Luxembourg:20260228T180000
DTSTAMP:20260421T161846
CREATED:20251218T103735Z
LAST-MODIFIED:20260122T133851Z
UID:10001603-1772287200-1772301600@www.kaerjeng.lu
SUMMARY:Kannerfuesbal - Elterevereenegung Kéinzig-Féngig
DESCRIPTION:
URL:https://www.kaerjeng.lu/evenement/kannerfuesbal-elterevereenegung-keinzig-fengig/
LOCATION:Clemency – Salle des Fêtes
CATEGORIES:Agenda
ATTACH;FMTTYPE=image/jpeg:https://www.kaerjeng.lu/wp-content/uploads/2026/01/Kannerfuesbal-2026-Keinzig.jpg
END:VEVENT
END:VCALENDAR