BEGIN:VCALENDAR
VERSION:2.0
PRODID:-//Käerjeng - ECPv6.15.17.1//NONSGML v1.0//EN
CALSCALE:GREGORIAN
METHOD:PUBLISH
X-WR-CALNAME:Käerjeng
X-ORIGINAL-URL:https://www.kaerjeng.lu
X-WR-CALDESC:Évènements pour Käerjeng
REFRESH-INTERVAL;VALUE=DURATION:PT1H
X-Robots-Tag:noindex
X-PUBLISHED-TTL:PT1H
BEGIN:VTIMEZONE
TZID:Europe/Luxembourg
BEGIN:DAYLIGHT
TZOFFSETFROM:+0100
TZOFFSETTO:+0200
TZNAME:CEST
DTSTART:20250330T010000
END:DAYLIGHT
BEGIN:STANDARD
TZOFFSETFROM:+0200
TZOFFSETTO:+0100
TZNAME:CET
DTSTART:20251026T010000
END:STANDARD
BEGIN:DAYLIGHT
TZOFFSETFROM:+0100
TZOFFSETTO:+0200
TZNAME:CEST
DTSTART:20260329T010000
END:DAYLIGHT
BEGIN:STANDARD
TZOFFSETFROM:+0200
TZOFFSETTO:+0100
TZNAME:CET
DTSTART:20261025T010000
END:STANDARD
BEGIN:DAYLIGHT
TZOFFSETFROM:+0100
TZOFFSETTO:+0200
TZNAME:CEST
DTSTART:20270328T010000
END:DAYLIGHT
BEGIN:STANDARD
TZOFFSETFROM:+0200
TZOFFSETTO:+0100
TZNAME:CET
DTSTART:20271031T010000
END:STANDARD
END:VTIMEZONE
BEGIN:VEVENT
DTSTART;VALUE=DATE:20260514
DTEND;VALUE=DATE:20260519
DTSTAMP:20260421T134845
CREATED:20260128T152401Z
LAST-MODIFIED:20260128T152401Z
UID:10001651-1778716800-1779148799@www.kaerjeng.lu
SUMMARY:Käerjenger Kiermes
DESCRIPTION:
URL:https://www.kaerjeng.lu/evenement/kaerjenger-kiermes-5/
LOCATION:Bascharage – Place Schuman
CATEGORIES:Agenda
ATTACH;FMTTYPE=image/jpeg:https://www.kaerjeng.lu/wp-content/uploads/2020/10/event.jpg
END:VEVENT
BEGIN:VEVENT
DTSTART;VALUE=DATE:20260516
DTEND;VALUE=DATE:20260517
DTSTAMP:20260421T134845
CREATED:20260128T152456Z
LAST-MODIFIED:20260128T152456Z
UID:10001652-1778889600-1778975999@www.kaerjeng.lu
SUMMARY:Fairtrade Breakfast - Fairtrade Group
DESCRIPTION:
URL:https://www.kaerjeng.lu/evenement/fairtrade-breakfast-fairtrade-group/
LOCATION:Bascharage – Musekschoul
CATEGORIES:Agenda
ATTACH;FMTTYPE=image/jpeg:https://www.kaerjeng.lu/wp-content/uploads/2020/10/event.jpg
END:VEVENT
BEGIN:VEVENT
DTSTART;TZID=Europe/Luxembourg:20260516T180000
DTEND;TZID=Europe/Luxembourg:20260516T190000
DTSTAMP:20260421T134845
CREATED:20260128T152621Z
LAST-MODIFIED:20260128T152621Z
UID:10001653-1778954400-1778958000@www.kaerjeng.lu
SUMMARY:Assemblée générale - DT Féngig
DESCRIPTION:
URL:https://www.kaerjeng.lu/evenement/assemblee-generale-dt-fengig-3/
LOCATION:Fingig – Salle des Fêtes
CATEGORIES:Agenda
ATTACH;FMTTYPE=image/jpeg:https://www.kaerjeng.lu/wp-content/uploads/2021/08/AG.jpg
END:VEVENT
BEGIN:VEVENT
DTSTART;VALUE=DATE:20260522
DTEND;VALUE=DATE:20260526
DTSTAMP:20260421T134845
CREATED:20260128T152738Z
LAST-MODIFIED:20260128T152738Z
UID:10001654-1779408000-1779753599@www.kaerjeng.lu
SUMMARY:Kéinziger Kiermes - Kéinzeger Fräschen
DESCRIPTION:
URL:https://www.kaerjeng.lu/evenement/keinziger-kiermes-keinzeger-fraschen/
LOCATION:Clemency – Place de la Gare
CATEGORIES:Agenda
ATTACH;FMTTYPE=image/jpeg:https://www.kaerjeng.lu/wp-content/uploads/2020/10/event.jpg
END:VEVENT
BEGIN:VEVENT
DTSTART;TZID=Europe/Luxembourg:20260523T100000
DTEND;TZID=Europe/Luxembourg:20260523T160000
DTSTAMP:20260421T134845
CREATED:20260128T152839Z
LAST-MODIFIED:20260128T152839Z
UID:10001655-1779530400-1779552000@www.kaerjeng.lu
SUMMARY:Kräiderwanderung - Gaart an Heem Uewerkäerjeng
DESCRIPTION:
URL:https://www.kaerjeng.lu/evenement/kraiderwanderung-gaart-an-heem-uewerkaerjeng-2/
LOCATION:Hautcharage – Centre Polyvalent
CATEGORIES:Agenda
ATTACH;FMTTYPE=image/jpeg:https://www.kaerjeng.lu/wp-content/uploads/2020/10/event.jpg
END:VEVENT
BEGIN:VEVENT
DTSTART;TZID=Europe/Luxembourg:20260531T110000
DTEND;TZID=Europe/Luxembourg:20260531T180000
DTSTAMP:20260421T134845
CREATED:20260128T153017Z
LAST-MODIFIED:20260415T101328Z
UID:10001656-1780225200-1780250400@www.kaerjeng.lu
SUMMARY:Sprëtzefest - Amicale des Anciens Sapeurs-Pompiers de Clémency Fingig
DESCRIPTION:
URL:https://www.kaerjeng.lu/evenement/spretzefest-amicale-des-anciens-sapeurs-pompiers-de-clemency-fingig/
LOCATION:Fingig – Salle des Fêtes
CATEGORIES:Agenda
ATTACH;FMTTYPE=image/jpeg:https://www.kaerjeng.lu/wp-content/uploads/2026/04/Spretzefest-Fengeg.jpg
END:VEVENT
BEGIN:VEVENT
DTSTART;TZID=Europe/Luxembourg:20260604T193000
DTEND;TZID=Europe/Luxembourg:20260604T230000
DTSTAMP:20260421T134845
CREATED:20260327T075355Z
LAST-MODIFIED:20260327T075355Z
UID:10001726-1780601400-1780614000@www.kaerjeng.lu
SUMMARY:Music in Moments - Käerjenger Museksschoul
DESCRIPTION:
URL:https://www.kaerjeng.lu/evenement/music-in-moments-kaerjenger-museksschoul/
LOCATION:Käerjenger Treff\, 54c\, avenue de Luxembourg\, Bascharage\, Luxembourg
CATEGORIES:Agenda
ATTACH;FMTTYPE=image/jpeg:https://www.kaerjeng.lu/wp-content/uploads/2026/03/KMS-Concert-2026-2.jpg
END:VEVENT
BEGIN:VEVENT
DTSTART;TZID=Europe/Luxembourg:20260605T190000
DTEND;TZID=Europe/Luxembourg:20260605T200000
DTSTAMP:20260421T134845
CREATED:20260128T153129Z
LAST-MODIFIED:20260128T153129Z
UID:10001657-1780686000-1780689600@www.kaerjeng.lu
SUMMARY:Assemblée générale - DT Nidderkäerjeng
DESCRIPTION:
URL:https://www.kaerjeng.lu/evenement/assemblee-generale-dt-nidderkaerjeng-8/
LOCATION:Bascharage – Op Acker
CATEGORIES:Agenda
ATTACH;FMTTYPE=image/jpeg:https://www.kaerjeng.lu/wp-content/uploads/2021/08/AG.jpg
END:VEVENT
BEGIN:VEVENT
DTSTART;VALUE=DATE:20260606
DTEND;VALUE=DATE:20260607
DTSTAMP:20260421T134845
CREATED:20260128T153304Z
LAST-MODIFIED:20260128T153304Z
UID:10001658-1780704000-1780790399@www.kaerjeng.lu
SUMMARY:En Dag an der Natur - Ëmweltkommissioun
DESCRIPTION:
URL:https://www.kaerjeng.lu/evenement/en-dag-an-der-natur-emweltkommissioun-2/
CATEGORIES:Agenda
ATTACH;FMTTYPE=image/jpeg:https://www.kaerjeng.lu/wp-content/uploads/2020/10/event.jpg
END:VEVENT
BEGIN:VEVENT
DTSTART;TZID=Europe/Luxembourg:20260606T103000
DTEND;TZID=Europe/Luxembourg:20260606T170000
DTSTAMP:20260421T134845
CREATED:20260414T120641Z
LAST-MODIFIED:20260414T120641Z
UID:10001729-1780741800-1780765200@www.kaerjeng.lu
SUMMARY:Portes ouvertes - SIACH
DESCRIPTION:
URL:https://www.kaerjeng.lu/evenement/portes-ouvertes-siach/
CATEGORIES:Agenda
ATTACH;FMTTYPE=image/jpeg:https://www.kaerjeng.lu/wp-content/uploads/2026/04/Affiche-PO_2026_fin.jpg
END:VEVENT
BEGIN:VEVENT
DTSTART;TZID=Europe/Luxembourg:20260608T200000
DTEND;TZID=Europe/Luxembourg:20260608T230000
DTSTAMP:20260421T134845
CREATED:20260310T081403Z
LAST-MODIFIED:20260310T081403Z
UID:10001719-1780948800-1780959600@www.kaerjeng.lu
SUMMARY:"All Toun zielt" - Käerjenger Musekschoul
DESCRIPTION:
URL:https://www.kaerjeng.lu/evenement/all-toun-zielt-kaerjenger-musekschoul/
LOCATION:Käerjenger Treff\, 54c\, avenue de Luxembourg\, Bascharage\, Luxembourg
CATEGORIES:Agenda
ATTACH;FMTTYPE=image/jpeg:https://www.kaerjeng.lu/wp-content/uploads/2026/03/KMS-Concert-2026.jpg
END:VEVENT
BEGIN:VEVENT
DTSTART;VALUE=DATE:20260612
DTEND;VALUE=DATE:20260613
DTSTAMP:20260421T134845
CREATED:20260129T085534Z
LAST-MODIFIED:20260129T085534Z
UID:10001659-1781222400-1781308799@www.kaerjeng.lu
SUMMARY:Assemblée générale - DT Lénger
DESCRIPTION:
URL:https://www.kaerjeng.lu/evenement/assemblee-generale-dt-lenger-4/
LOCATION:Linger – Hall sportif
CATEGORIES:Agenda
ATTACH;FMTTYPE=image/jpeg:https://www.kaerjeng.lu/wp-content/uploads/2021/08/AG.jpg
END:VEVENT
BEGIN:VEVENT
DTSTART;TZID=Europe/Luxembourg:20260612T170000
DTEND;TZID=Europe/Luxembourg:20260612T230000
DTSTAMP:20260421T134845
CREATED:20260129T085623Z
LAST-MODIFIED:20260129T085623Z
UID:10001660-1781283600-1781305200@www.kaerjeng.lu
SUMMARY:Cornhole Turnéier - CSV Käerjeng
DESCRIPTION:
URL:https://www.kaerjeng.lu/evenement/cornhole-turneier-csv-kaerjeng-2/
LOCATION:Hautcharage – Um Paesch
CATEGORIES:Agenda
ATTACH;FMTTYPE=image/jpeg:https://www.kaerjeng.lu/wp-content/uploads/2020/10/event.jpg
END:VEVENT
BEGIN:VEVENT
DTSTART;TZID=Europe/Luxembourg:20260613T090000
DTEND;TZID=Europe/Luxembourg:20260613T150000
DTSTAMP:20260421T134845
CREATED:20260129T085727Z
LAST-MODIFIED:20260319T105526Z
UID:10001661-1781341200-1781362800@www.kaerjeng.lu
SUMMARY:Porte-Ouverte - Käerjenger Museksschoul
DESCRIPTION:
URL:https://www.kaerjeng.lu/evenement/porte-ouverte-kaerjenger-museksschoul-2/
LOCATION:Bascharage – Musekschoul
CATEGORIES:Agenda
ATTACH;FMTTYPE=image/jpeg:https://www.kaerjeng.lu/wp-content/uploads/2026/03/Porte-ouverte-KMS-2026.jpg
END:VEVENT
BEGIN:VEVENT
DTSTART;TZID=Europe/Luxembourg:20260614T080000
DTEND;TZID=Europe/Luxembourg:20260614T170000
DTSTAMP:20260421T134845
CREATED:20260129T085820Z
LAST-MODIFIED:20260129T085820Z
UID:10001662-1781424000-1781456400@www.kaerjeng.lu
SUMMARY:Marche gourmande - DT Féngig
DESCRIPTION:
URL:https://www.kaerjeng.lu/evenement/marche-gourmande-dt-fengig-3/
LOCATION:Fingig
CATEGORIES:Agenda
ATTACH;FMTTYPE=image/jpeg:https://www.kaerjeng.lu/wp-content/uploads/2020/10/event.jpg
END:VEVENT
BEGIN:VEVENT
DTSTART;TZID=Europe/Luxembourg:20260622T180000
DTEND;TZID=Europe/Luxembourg:20260623T010000
DTSTAMP:20260421T134845
CREATED:20260129T085922Z
LAST-MODIFIED:20260129T094235Z
UID:10001663-1782151200-1782176400@www.kaerjeng.lu
SUMMARY:Virowend vun Nationalfeierdag
DESCRIPTION:
URL:https://www.kaerjeng.lu/evenement/virowend-vun-nationalfeierdag-4/
LOCATION:Bascharage – Place Claus Cito
CATEGORIES:Agenda
ATTACH;FMTTYPE=image/jpeg:https://www.kaerjeng.lu/wp-content/uploads/2020/10/event.jpg
END:VEVENT
BEGIN:VEVENT
DTSTART;VALUE=DATE:20260703
DTEND;VALUE=DATE:20260704
DTSTAMP:20260421T134845
CREATED:20260129T090041Z
LAST-MODIFIED:20260129T090041Z
UID:10001664-1783036800-1783123199@www.kaerjeng.lu
SUMMARY:Roude Feierowend - LSAP Käerjeng
DESCRIPTION:
URL:https://www.kaerjeng.lu/evenement/roude-feierowend-lsap-kaerjeng/
LOCATION:Clemency – Salle des Fêtes
CATEGORIES:Agenda
ATTACH;FMTTYPE=image/jpeg:https://www.kaerjeng.lu/wp-content/uploads/2020/10/event.jpg
END:VEVENT
BEGIN:VEVENT
DTSTART;VALUE=DATE:20260704
DTEND;VALUE=DATE:20260705
DTSTAMP:20260421T134845
CREATED:20260129T090144Z
LAST-MODIFIED:20260129T090144Z
UID:10001665-1783123200-1783209599@www.kaerjeng.lu
SUMMARY:Assemblée générale - U.N. Käerjeng'97
DESCRIPTION:
URL:https://www.kaerjeng.lu/evenement/assemblee-generale-u-n-kaerjeng97-3/
LOCATION:Bascharage – Um Dribbel
CATEGORIES:Agenda
ATTACH;FMTTYPE=image/jpeg:https://www.kaerjeng.lu/wp-content/uploads/2021/08/AG.jpg
END:VEVENT
BEGIN:VEVENT
DTSTART;VALUE=DATE:20260705
DTEND;VALUE=DATE:20260706
DTSTAMP:20260421T134845
CREATED:20260129T090232Z
LAST-MODIFIED:20260129T090232Z
UID:10001666-1783209600-1783295999@www.kaerjeng.lu
SUMMARY:Kannerconcert - Harmonie Municipale Bascharage
DESCRIPTION:
URL:https://www.kaerjeng.lu/evenement/kannerconcert-harmonie-municipale-bascharage/
LOCATION:Käerjenger Treff\, 54c\, avenue de Luxembourg\, Bascharage\, Luxembourg
CATEGORIES:Agenda
ATTACH;FMTTYPE=image/jpeg:https://www.kaerjeng.lu/wp-content/uploads/2020/10/event.jpg
END:VEVENT
BEGIN:VEVENT
DTSTART;VALUE=DATE:20260705
DTEND;VALUE=DATE:20260706
DTSTAMP:20260421T134845
CREATED:20260129T093637Z
LAST-MODIFIED:20260129T093637Z
UID:10001667-1783209600-1783295999@www.kaerjeng.lu
SUMMARY:Duerffest - DT Lénger
DESCRIPTION:
URL:https://www.kaerjeng.lu/evenement/duerffest-dt-lenger-3/
LOCATION:Linger – Hall sportif
CATEGORIES:Agenda
ATTACH;FMTTYPE=image/jpeg:https://www.kaerjeng.lu/wp-content/uploads/2020/10/event.jpg
END:VEVENT
BEGIN:VEVENT
DTSTART;VALUE=DATE:20260711
DTEND;VALUE=DATE:20260712
DTSTAMP:20260421T134845
CREATED:20260129T093804Z
LAST-MODIFIED:20260129T093804Z
UID:10001668-1783728000-1783814399@www.kaerjeng.lu
SUMMARY:Paellasowend - TC Kéinzig-Féngig
DESCRIPTION:
URL:https://www.kaerjeng.lu/evenement/paellasowend-tc-keinzig-fengig-2/
LOCATION:Clemency – Place de la Gare
CATEGORIES:Agenda
ATTACH;FMTTYPE=image/jpeg:https://www.kaerjeng.lu/wp-content/uploads/2020/10/event.jpg
END:VEVENT
BEGIN:VEVENT
DTSTART;VALUE=DATE:20260711
DTEND;VALUE=DATE:20260712
DTSTAMP:20260421T134845
CREATED:20260413T063630Z
LAST-MODIFIED:20260413T063630Z
UID:10001727-1783728000-1783814399@www.kaerjeng.lu
SUMMARY:Marche "Ënnerwee" - Croix-Rouge Bascharage
DESCRIPTION:
URL:https://www.kaerjeng.lu/evenement/marche-ennerwee-croix-rouge-bascharage-2/
LOCATION:Clemency – Salle des Fêtes
CATEGORIES:Agenda
ATTACH;FMTTYPE=image/jpeg:https://www.kaerjeng.lu/wp-content/uploads/2026/04/WhatsApp-Image-2026-04-09-at-18.46.18.jpeg
END:VEVENT
BEGIN:VEVENT
DTSTART;VALUE=DATE:20260712
DTEND;VALUE=DATE:20260713
DTSTAMP:20260421T134845
CREATED:20260129T093848Z
LAST-MODIFIED:20260129T093848Z
UID:10001669-1783814400-1783900799@www.kaerjeng.lu
SUMMARY:Grillfest - Féngeger Gesank
DESCRIPTION:
URL:https://www.kaerjeng.lu/evenement/grillfest-fengeger-gesank-2/
LOCATION:Fingig
CATEGORIES:Agenda
ATTACH;FMTTYPE=image/jpeg:https://www.kaerjeng.lu/wp-content/uploads/2020/10/event.jpg
END:VEVENT
BEGIN:VEVENT
DTSTART;VALUE=DATE:20260713
DTEND;VALUE=DATE:20260714
DTSTAMP:20260421T134845
CREATED:20260129T093930Z
LAST-MODIFIED:20260129T093930Z
UID:10001670-1783900800-1783987199@www.kaerjeng.lu
SUMMARY:Diplom Iwwerreechung - Käerjenger Museksschoul
DESCRIPTION:
URL:https://www.kaerjeng.lu/evenement/diplom-iwwerreechung-kaerjenger-museksschoul/
LOCATION:Käerjenger Treff\, 54c\, avenue de Luxembourg\, Bascharage\, Luxembourg
CATEGORIES:Agenda
ATTACH;FMTTYPE=image/jpeg:https://www.kaerjeng.lu/wp-content/uploads/2020/10/event.jpg
END:VEVENT
BEGIN:VEVENT
DTSTART;VALUE=DATE:20260714
DTEND;VALUE=DATE:20260715
DTSTAMP:20260421T134845
CREATED:20260129T094012Z
LAST-MODIFIED:20260129T094012Z
UID:10001671-1783987200-1784073599@www.kaerjeng.lu
SUMMARY:Käerjeng Live - Demie-finale FIFA WM2026
DESCRIPTION:
URL:https://www.kaerjeng.lu/evenement/kaerjeng-live-demie-finale-fifa-wm2026/
LOCATION:Bascharage – Place Claus Cito
CATEGORIES:Agenda
ATTACH;FMTTYPE=image/jpeg:https://www.kaerjeng.lu/wp-content/uploads/2020/10/event.jpg
END:VEVENT
BEGIN:VEVENT
DTSTART;VALUE=DATE:20260715
DTEND;VALUE=DATE:20260716
DTSTAMP:20260421T134845
CREATED:20260129T094111Z
LAST-MODIFIED:20260129T094111Z
UID:10001672-1784073600-1784159999@www.kaerjeng.lu
SUMMARY:Käerjeng Live - Demie-finale FIFA WM2026
DESCRIPTION:
URL:https://www.kaerjeng.lu/evenement/kaerjeng-live-demie-finale-fifa-wm2026-2/
LOCATION:Bascharage – Place Claus Cito
CATEGORIES:Agenda
ATTACH;FMTTYPE=image/jpeg:https://www.kaerjeng.lu/wp-content/uploads/2020/10/event.jpg
END:VEVENT
BEGIN:VEVENT
DTSTART;VALUE=DATE:20260717
DTEND;VALUE=DATE:20260718
DTSTAMP:20260421T134845
CREATED:20260129T094336Z
LAST-MODIFIED:20260129T094336Z
UID:10001673-1784246400-1784332799@www.kaerjeng.lu
SUMMARY:Afterwork - Kéinzeger Fräschen
DESCRIPTION:
URL:https://www.kaerjeng.lu/evenement/afterwork-keinzeger-fraschen/
LOCATION:Clemency – Salle des Fêtes
CATEGORIES:Agenda
ATTACH;FMTTYPE=image/jpeg:https://www.kaerjeng.lu/wp-content/uploads/2020/10/event.jpg
END:VEVENT
BEGIN:VEVENT
DTSTART;VALUE=DATE:20260719
DTEND;VALUE=DATE:20260720
DTSTAMP:20260421T134845
CREATED:20260129T094411Z
LAST-MODIFIED:20260129T094411Z
UID:10001674-1784419200-1784505599@www.kaerjeng.lu
SUMMARY:Käerjeng Live - Finale FIFA WM2026
DESCRIPTION:
URL:https://www.kaerjeng.lu/evenement/kaerjeng-live-finale-fifa-wm2026/
LOCATION:Bascharage – Place Claus Cito
CATEGORIES:Agenda
ATTACH;FMTTYPE=image/jpeg:https://www.kaerjeng.lu/wp-content/uploads/2020/10/event.jpg
END:VEVENT
BEGIN:VEVENT
DTSTART;VALUE=DATE:20260720
DTEND;VALUE=DATE:20260801
DTSTAMP:20260421T134845
CREATED:20260129T094513Z
LAST-MODIFIED:20260129T094513Z
UID:10001675-1784505600-1785542399@www.kaerjeng.lu
SUMMARY:Semaines Loisirs
DESCRIPTION:
URL:https://www.kaerjeng.lu/evenement/semaines-loisirs-2/
LOCATION:Käerjenger Treff\, 54c\, avenue de Luxembourg\, Bascharage\, Luxembourg
CATEGORIES:Agenda
ATTACH;FMTTYPE=image/jpeg:https://www.kaerjeng.lu/wp-content/uploads/2020/10/event.jpg
END:VEVENT
BEGIN:VEVENT
DTSTART;TZID=Europe/Luxembourg:20260803T133000
DTEND;TZID=Europe/Luxembourg:20260815T180000
DTSTAMP:20260421T134845
CREATED:20260129T094632Z
LAST-MODIFIED:20260129T094632Z
UID:10001676-1785763800-1786816800@www.kaerjeng.lu
SUMMARY:Käerjenger Fun Park
DESCRIPTION:
URL:https://www.kaerjeng.lu/evenement/kaerjenger-fun-park-4/
LOCATION:Bascharage – Op Acker
CATEGORIES:Agenda
ATTACH;FMTTYPE=image/jpeg:https://www.kaerjeng.lu/wp-content/uploads/2020/10/event.jpg
END:VEVENT
END:VCALENDAR