BEGIN:VCALENDAR
VERSION:2.0
PRODID:-//Käerjeng - ECPv6.15.17.1//NONSGML v1.0//EN
CALSCALE:GREGORIAN
METHOD:PUBLISH
X-WR-CALNAME:Käerjeng
X-ORIGINAL-URL:https://www.kaerjeng.lu
X-WR-CALDESC:Évènements pour Käerjeng
REFRESH-INTERVAL;VALUE=DURATION:PT1H
X-Robots-Tag:noindex
X-PUBLISHED-TTL:PT1H
BEGIN:VTIMEZONE
TZID:Europe/Luxembourg
BEGIN:DAYLIGHT
TZOFFSETFROM:+0100
TZOFFSETTO:+0200
TZNAME:CEST
DTSTART:20210328T010000
END:DAYLIGHT
BEGIN:STANDARD
TZOFFSETFROM:+0200
TZOFFSETTO:+0100
TZNAME:CET
DTSTART:20211031T010000
END:STANDARD
BEGIN:DAYLIGHT
TZOFFSETFROM:+0100
TZOFFSETTO:+0200
TZNAME:CEST
DTSTART:20220327T010000
END:DAYLIGHT
BEGIN:STANDARD
TZOFFSETFROM:+0200
TZOFFSETTO:+0100
TZNAME:CET
DTSTART:20221030T010000
END:STANDARD
BEGIN:DAYLIGHT
TZOFFSETFROM:+0100
TZOFFSETTO:+0200
TZNAME:CEST
DTSTART:20230326T010000
END:DAYLIGHT
BEGIN:STANDARD
TZOFFSETFROM:+0200
TZOFFSETTO:+0100
TZNAME:CET
DTSTART:20231029T010000
END:STANDARD
END:VTIMEZONE
BEGIN:VEVENT
DTSTART;TZID=Europe/Luxembourg:20221112T200000
DTEND;TZID=Europe/Luxembourg:20221112T230000
DTSTAMP:20260424T142538
CREATED:20220920T074507Z
LAST-MODIFIED:20221025T122205Z
UID:10000883-1668283200-1668294000@www.kaerjeng.lu
SUMMARY:150 Joer Ouvertures Concert - Harmonie Municipale Bascharage
DESCRIPTION:
URL:https://www.kaerjeng.lu/evenement/cacilieconcert-harmonie-municipale-bascharage-2/
LOCATION:Käerjenger Treff\, 54c\, avenue de Luxembourg\, Bascharage\, Luxembourg
CATEGORIES:Agenda
ATTACH;FMTTYPE=image/jpeg:https://www.kaerjeng.lu/wp-content/uploads/2022/10/Concert-douverture-HMB.jpg
END:VEVENT
BEGIN:VEVENT
DTSTART;TZID=Europe/Luxembourg:20221112T210000
DTEND;TZID=Europe/Luxembourg:20221113T030000
DTSTAMP:20260424T142538
CREATED:20220920T074426Z
LAST-MODIFIED:20221110T134128Z
UID:10000882-1668286800-1668308400@www.kaerjeng.lu
SUMMARY:Ski Opening - BBC Hedgehogs Bascharage
DESCRIPTION:
URL:https://www.kaerjeng.lu/evenement/u30-party-bbc-hedgehogs-bascharage/
LOCATION:Clemency – Salle des Fêtes
CATEGORIES:Agenda
ATTACH;FMTTYPE=image/jpeg:https://www.kaerjeng.lu/wp-content/uploads/2022/11/BBCHhogs-SkiOpening-20221112-842-1199.jpg
END:VEVENT
BEGIN:VEVENT
DTSTART;TZID=Europe/Luxembourg:20221113T090000
DTEND;TZID=Europe/Luxembourg:20221113T120000
DTSTAMP:20260424T142538
CREATED:20220920T074556Z
LAST-MODIFIED:20221031T095529Z
UID:10000884-1668330000-1668340800@www.kaerjeng.lu
SUMMARY:Dag vum Bam	- Ëmweltkommissioun
DESCRIPTION:
URL:https://www.kaerjeng.lu/evenement/dag-vum-bam-emweltkommissioun-2/
CATEGORIES:Agenda
ATTACH;FMTTYPE=image/jpeg:https://www.kaerjeng.lu/wp-content/uploads/2022/10/cover.jpg
END:VEVENT
BEGIN:VEVENT
DTSTART;TZID=Europe/Luxembourg:20221113T140000
DTEND;TZID=Europe/Luxembourg:20221113T180000
DTSTAMP:20260424T142538
CREATED:20220920T074651Z
LAST-MODIFIED:20220920T074651Z
UID:10001029-1668348000-1668362400@www.kaerjeng.lu
SUMMARY:Spillmomëtteg - Elterevereenegung Kënzeg-Féngeg
DESCRIPTION:
URL:https://www.kaerjeng.lu/evenement/spillmometteg-elterevereenegung-kenzeg-fengeg/
LOCATION:Clemency – Salle des Fêtes
CATEGORIES:Agenda
ATTACH;FMTTYPE=image/jpeg:https://www.kaerjeng.lu/wp-content/uploads/2020/10/event.jpg
END:VEVENT
END:VCALENDAR