BEGIN:VCALENDAR
VERSION:2.0
PRODID:-//Käerjeng - ECPv6.15.17.1//NONSGML v1.0//EN
CALSCALE:GREGORIAN
METHOD:PUBLISH
X-ORIGINAL-URL:https://www.kaerjeng.lu
X-WR-CALDESC:Évènements pour Käerjeng
REFRESH-INTERVAL;VALUE=DURATION:PT1H
X-Robots-Tag:noindex
X-PUBLISHED-TTL:PT1H
BEGIN:VTIMEZONE
TZID:Europe/Luxembourg
BEGIN:DAYLIGHT
TZOFFSETFROM:+0100
TZOFFSETTO:+0200
TZNAME:CEST
DTSTART:20210328T010000
END:DAYLIGHT
BEGIN:STANDARD
TZOFFSETFROM:+0200
TZOFFSETTO:+0100
TZNAME:CET
DTSTART:20211031T010000
END:STANDARD
BEGIN:DAYLIGHT
TZOFFSETFROM:+0100
TZOFFSETTO:+0200
TZNAME:CEST
DTSTART:20220327T010000
END:DAYLIGHT
BEGIN:STANDARD
TZOFFSETFROM:+0200
TZOFFSETTO:+0100
TZNAME:CET
DTSTART:20221030T010000
END:STANDARD
BEGIN:DAYLIGHT
TZOFFSETFROM:+0100
TZOFFSETTO:+0200
TZNAME:CEST
DTSTART:20230326T010000
END:DAYLIGHT
BEGIN:STANDARD
TZOFFSETFROM:+0200
TZOFFSETTO:+0100
TZNAME:CET
DTSTART:20231029T010000
END:STANDARD
END:VTIMEZONE
BEGIN:VEVENT
DTSTART;TZID=Europe/Luxembourg:20220801T133000
DTEND;TZID=Europe/Luxembourg:20220821T183000
DTSTAMP:20260422T215859
CREATED:20220614T094031Z
LAST-MODIFIED:20220614T094031Z
UID:10000993-1659360600-1661106600@www.kaerjeng.lu
SUMMARY:Käerjeng fir Kanner - Gemeng Käerjeng
DESCRIPTION:
URL:https://www.kaerjeng.lu/evenement/kaerjeng-fir-kanner-gemeng-kaerjeng/
LOCATION:Bascharage – Acker
CATEGORIES:Agenda
ATTACH;FMTTYPE=image/jpeg:https://www.kaerjeng.lu/wp-content/uploads/2022/06/Käerjenger-Fun-Park.jpg
END:VEVENT
BEGIN:VEVENT
DTSTART;VALUE=DATE:20220813
DTEND;VALUE=DATE:20220814
DTSTAMP:20260422T215859
CREATED:20220624T122912Z
LAST-MODIFIED:20220624T122912Z
UID:10000997-1660348800-1660435199@www.kaerjeng.lu
SUMMARY:Beerpong Tourneier - Käerjenger Bouwen
DESCRIPTION:
URL:https://www.kaerjeng.lu/evenement/beerpong-tourneier-kaerjenger-bouwen/
LOCATION:Bascharage – Café des Sports
CATEGORIES:Agenda
ATTACH;FMTTYPE=image/png:https://www.kaerjeng.lu/wp-content/uploads/2022/06/kbouwen.png
END:VEVENT
BEGIN:VEVENT
DTSTART;TZID=Europe/Luxembourg:20220814T160000
DTEND;TZID=Europe/Luxembourg:20220815T210000
DTSTAMP:20260422T215859
CREATED:20220718T073347Z
LAST-MODIFIED:20220718T073347Z
UID:10001001-1660492800-1660597200@www.kaerjeng.lu
SUMMARY:Tournoi Seniors - FC Etoile Sportive Clemency
DESCRIPTION:
URL:https://www.kaerjeng.lu/evenement/tournoi-seniors-fc-etoile-sportive-clemency/
LOCATION:Clemency – Terrain de football
CATEGORIES:Agenda
ATTACH;FMTTYPE=image/jpeg:https://www.kaerjeng.lu/wp-content/uploads/2020/10/event.jpg
END:VEVENT
END:VCALENDAR