BEGIN:VCALENDAR
VERSION:2.0
PRODID:-//Käerjeng - ECPv6.15.17.1//NONSGML v1.0//EN
CALSCALE:GREGORIAN
METHOD:PUBLISH
X-ORIGINAL-URL:https://www.kaerjeng.lu
X-WR-CALDESC:Évènements pour Käerjeng
REFRESH-INTERVAL;VALUE=DURATION:PT1H
X-Robots-Tag:noindex
X-PUBLISHED-TTL:PT1H
BEGIN:VTIMEZONE
TZID:Europe/Luxembourg
BEGIN:DAYLIGHT
TZOFFSETFROM:+0100
TZOFFSETTO:+0200
TZNAME:CEST
DTSTART:20210328T010000
END:DAYLIGHT
BEGIN:STANDARD
TZOFFSETFROM:+0200
TZOFFSETTO:+0100
TZNAME:CET
DTSTART:20211031T010000
END:STANDARD
BEGIN:DAYLIGHT
TZOFFSETFROM:+0100
TZOFFSETTO:+0200
TZNAME:CEST
DTSTART:20220327T010000
END:DAYLIGHT
BEGIN:STANDARD
TZOFFSETFROM:+0200
TZOFFSETTO:+0100
TZNAME:CET
DTSTART:20221030T010000
END:STANDARD
BEGIN:DAYLIGHT
TZOFFSETFROM:+0100
TZOFFSETTO:+0200
TZNAME:CEST
DTSTART:20230326T010000
END:DAYLIGHT
BEGIN:STANDARD
TZOFFSETFROM:+0200
TZOFFSETTO:+0100
TZNAME:CET
DTSTART:20231029T010000
END:STANDARD
END:VTIMEZONE
BEGIN:VEVENT
DTSTART;TZID=Europe/Luxembourg:20220614T080000
DTEND;TZID=Europe/Luxembourg:20220614T170000
DTSTAMP:20260423T003457
CREATED:20220525T145612Z
LAST-MODIFIED:20220525T145628Z
UID:10000970-1655193600-1655226000@www.kaerjeng.lu
SUMMARY:Coupe scolaire - Käerjenger Schoulen
DESCRIPTION:
URL:https://www.kaerjeng.lu/evenement/coupe-scolaire-kaerjenger-schoulen/
LOCATION:Bascharage – Op Acker
CATEGORIES:Agenda
ATTACH;FMTTYPE=image/jpeg:https://www.kaerjeng.lu/wp-content/uploads/2020/10/event.jpg
END:VEVENT
BEGIN:VEVENT
DTSTART;TZID=Europe/Luxembourg:20220615T193000
DTEND;TZID=Europe/Luxembourg:20220615T213000
DTSTAMP:20260423T003457
CREATED:20220614T082051Z
LAST-MODIFIED:20220614T082051Z
UID:10000979-1655321400-1655328600@www.kaerjeng.lu
SUMMARY:Assemblée générale - Chorale Ste Cécile Bascharage
DESCRIPTION:
URL:https://www.kaerjeng.lu/evenement/assemblee-generale-chorale-ste-cecile-bascharage/
LOCATION:Bascharage – Centre St. Willibrord
CATEGORIES:Agenda
ATTACH;FMTTYPE=image/jpeg:https://www.kaerjeng.lu/wp-content/uploads/2021/08/AG.jpg
END:VEVENT
BEGIN:VEVENT
DTSTART;TZID=Europe/Luxembourg:20220618T090000
DTEND;TZID=Europe/Luxembourg:20220618T140000
DTSTAMP:20260423T003457
CREATED:20220525T150202Z
LAST-MODIFIED:20220614T070344Z
UID:10000971-1655542800-1655560800@www.kaerjeng.lu
SUMMARY:Minett on Tour - Harmonie Kënzeg
DESCRIPTION:
URL:https://www.kaerjeng.lu/evenement/minett-on-tour-harmonie-kenzeg/
LOCATION:Clemency – Cour d’Ecole
CATEGORIES:Agenda
ATTACH;FMTTYPE=image/jpeg:https://www.kaerjeng.lu/wp-content/uploads/2022/06/Minett-on-Tour-2022_Page_1.jpg
END:VEVENT
BEGIN:VEVENT
DTSTART;TZID=Europe/Luxembourg:20220619T090000
DTEND;TZID=Europe/Luxembourg:20220619T160000
DTSTAMP:20260423T003457
CREATED:20220525T150310Z
LAST-MODIFIED:20220525T150525Z
UID:10000972-1655629200-1655654400@www.kaerjeng.lu
SUMMARY:Marche Gourmande - DT Féngeg
DESCRIPTION:
URL:https://www.kaerjeng.lu/evenement/marche-gourmande-dt-fengeg/
LOCATION:Fingig – Salle des Fêtes
CATEGORIES:Agenda
ATTACH;FMTTYPE=image/jpeg:https://www.kaerjeng.lu/wp-content/uploads/2020/10/event.jpg
END:VEVENT
BEGIN:VEVENT
DTSTART;TZID=Europe/Luxembourg:20220619T140000
DTEND;TZID=Europe/Luxembourg:20220619T180000
DTSTAMP:20260423T003457
CREATED:20220525T150637Z
LAST-MODIFIED:20220614T070853Z
UID:10000973-1655647200-1655661600@www.kaerjeng.lu
SUMMARY:Thé dansant - 3. Alterkommissioun
DESCRIPTION:
URL:https://www.kaerjeng.lu/evenement/the-dansant-3-alterkommissioun/
LOCATION:Käerjenger Treff\, 54c\, avenue de Luxembourg\, Bascharage\, Luxembourg
CATEGORIES:Agenda
ATTACH;FMTTYPE=image/jpeg:https://www.kaerjeng.lu/wp-content/uploads/2022/06/Thé-dansant-2022.jpg
END:VEVENT
END:VCALENDAR