BEGIN:VCALENDAR
VERSION:2.0
PRODID:-//Käerjeng - ECPv6.15.17.1//NONSGML v1.0//EN
CALSCALE:GREGORIAN
METHOD:PUBLISH
X-WR-CALNAME:Käerjeng
X-ORIGINAL-URL:https://www.kaerjeng.lu
X-WR-CALDESC:Évènements pour Käerjeng
REFRESH-INTERVAL;VALUE=DURATION:PT1H
X-Robots-Tag:noindex
X-PUBLISHED-TTL:PT1H
BEGIN:VTIMEZONE
TZID:Europe/Luxembourg
BEGIN:DAYLIGHT
TZOFFSETFROM:+0100
TZOFFSETTO:+0200
TZNAME:CEST
DTSTART:20210328T010000
END:DAYLIGHT
BEGIN:STANDARD
TZOFFSETFROM:+0200
TZOFFSETTO:+0100
TZNAME:CET
DTSTART:20211031T010000
END:STANDARD
BEGIN:DAYLIGHT
TZOFFSETFROM:+0100
TZOFFSETTO:+0200
TZNAME:CEST
DTSTART:20220327T010000
END:DAYLIGHT
BEGIN:STANDARD
TZOFFSETFROM:+0200
TZOFFSETTO:+0100
TZNAME:CET
DTSTART:20221030T010000
END:STANDARD
BEGIN:DAYLIGHT
TZOFFSETFROM:+0100
TZOFFSETTO:+0200
TZNAME:CEST
DTSTART:20230326T010000
END:DAYLIGHT
BEGIN:STANDARD
TZOFFSETFROM:+0200
TZOFFSETTO:+0100
TZNAME:CET
DTSTART:20231029T010000
END:STANDARD
END:VTIMEZONE
BEGIN:VEVENT
DTSTART;TZID=Europe/Luxembourg:20220526T140000
DTEND;TZID=Europe/Luxembourg:20220526T180000
DTSTAMP:20260423T003344
CREATED:20220419T150614Z
LAST-MODIFIED:20220419T150614Z
UID:10000957-1653573600-1653588000@www.kaerjeng.lu
SUMMARY:Tournoi de la bonne Entente - DT Féngeg
DESCRIPTION:
URL:https://www.kaerjeng.lu/evenement/tournoi-de-la-bonne-entente-dt-fengeg/
LOCATION:Fingig – Salle des Fêtes
CATEGORIES:Agenda
ATTACH;FMTTYPE=image/jpeg:https://www.kaerjeng.lu/wp-content/uploads/2020/10/event.jpg
END:VEVENT
BEGIN:VEVENT
DTSTART;TZID=Europe/Luxembourg:20220526T140000
DTEND;TZID=Europe/Luxembourg:20220530T230000
DTSTAMP:20260423T003344
CREATED:20220419T150726Z
LAST-MODIFIED:20220419T150726Z
UID:10000959-1653573600-1653951600@www.kaerjeng.lu
SUMMARY:Käerjenger Kiermes
DESCRIPTION:
URL:https://www.kaerjeng.lu/evenement/kaerjenger-kiermes-2/
LOCATION:Bascharage – Place Schuman
CATEGORIES:Agenda
ATTACH;FMTTYPE=image/jpeg:https://www.kaerjeng.lu/wp-content/uploads/2020/10/event.jpg
END:VEVENT
BEGIN:VEVENT
DTSTART;TZID=Europe/Luxembourg:20220527T143000
DTEND;TZID=Europe/Luxembourg:20220527T210000
DTSTAMP:20260423T003344
CREATED:20220419T150837Z
LAST-MODIFIED:20220420T134608Z
UID:10000961-1653661800-1653685200@www.kaerjeng.lu
SUMMARY:Remix Concert Esch2022 - Käerjenger Musekschoul
DESCRIPTION:
URL:https://www.kaerjeng.lu/evenement/remix-concert-esch2022-kaerjenger-musekschoul/
LOCATION:Käerjenger Treff\, 54c\, avenue de Luxembourg\, Bascharage\, Luxembourg
CATEGORIES:Agenda
ATTACH;FMTTYPE=image/jpeg:https://www.kaerjeng.lu/wp-content/uploads/2022/04/Remix-Concert-27.04.2022.jpg
END:VEVENT
BEGIN:VEVENT
DTSTART;TZID=Europe/Luxembourg:20220527T190000
DTEND;TZID=Europe/Luxembourg:20220527T210000
DTSTAMP:20260423T003344
CREATED:20220420T135013Z
LAST-MODIFIED:20220420T135013Z
UID:10000830-1653678000-1653685200@www.kaerjeng.lu
SUMMARY:Assemblée générale - DT Nidderkäerjeng
DESCRIPTION:
URL:https://www.kaerjeng.lu/evenement/assemblee-generale-dt-nidderkaerjeng-4/
LOCATION:Bascharage – Acker
CATEGORIES:Agenda
ATTACH;FMTTYPE=image/jpeg:https://www.kaerjeng.lu/wp-content/uploads/2021/08/AG.jpg
END:VEVENT
BEGIN:VEVENT
DTSTART;TZID=Europe/Luxembourg:20220528T093000
DTEND;TZID=Europe/Luxembourg:20220528T133000
DTSTAMP:20260423T003344
CREATED:20220420T134732Z
LAST-MODIFIED:20220420T134732Z
UID:10000828-1653730200-1653744600@www.kaerjeng.lu
SUMMARY:Remix Concert Esch2022 - Käerjenger Musekschoul
DESCRIPTION:
URL:https://www.kaerjeng.lu/evenement/remix-concert-esch2022-kaerjenger-musekschoul-2/
LOCATION:Käerjenger Treff\, 54c\, avenue de Luxembourg\, Bascharage\, Luxembourg
CATEGORIES:Agenda
ATTACH;FMTTYPE=image/jpeg:https://www.kaerjeng.lu/wp-content/uploads/2022/04/Remix-Concert-2022.jpg
END:VEVENT
BEGIN:VEVENT
DTSTART;TZID=Europe/Luxembourg:20220528T180000
DTEND;TZID=Europe/Luxembourg:20220528T200000
DTSTAMP:20260423T003344
CREATED:20220420T135225Z
LAST-MODIFIED:20220420T135225Z
UID:10000833-1653760800-1653768000@www.kaerjeng.lu
SUMMARY:Assemblée générale – DT Féngeg
DESCRIPTION:
URL:https://www.kaerjeng.lu/evenement/assemblee-generale-dt-fengeg/
LOCATION:Fingig – Salle des Fêtes
CATEGORIES:Agenda
ATTACH;FMTTYPE=image/jpeg:https://www.kaerjeng.lu/wp-content/uploads/2021/08/AG.jpg
END:VEVENT
BEGIN:VEVENT
DTSTART;TZID=Europe/Luxembourg:20220529T110000
DTEND;TZID=Europe/Luxembourg:20220529T170000
DTSTAMP:20260423T003344
CREATED:20220420T135339Z
LAST-MODIFIED:20220525T142837Z
UID:10000835-1653822000-1653843600@www.kaerjeng.lu
SUMMARY:Sprëtzefest - Amicale Anc. Pompiers Clemency-Fingig
DESCRIPTION:
URL:https://www.kaerjeng.lu/evenement/spretzefest-amicale-anc-pompiers-clemency-fingig/
LOCATION:Fingig – Salle des Fêtes
CATEGORIES:Agenda
END:VEVENT
END:VCALENDAR