BEGIN:VCALENDAR
VERSION:2.0
PRODID:-//Käerjeng - ECPv6.15.17.1//NONSGML v1.0//EN
CALSCALE:GREGORIAN
METHOD:PUBLISH
X-WR-CALNAME:Käerjeng
X-ORIGINAL-URL:https://www.kaerjeng.lu
X-WR-CALDESC:Évènements pour Käerjeng
REFRESH-INTERVAL;VALUE=DURATION:PT1H
X-Robots-Tag:noindex
X-PUBLISHED-TTL:PT1H
BEGIN:VTIMEZONE
TZID:Europe/Luxembourg
BEGIN:DAYLIGHT
TZOFFSETFROM:+0100
TZOFFSETTO:+0200
TZNAME:CEST
DTSTART:20210328T010000
END:DAYLIGHT
BEGIN:STANDARD
TZOFFSETFROM:+0200
TZOFFSETTO:+0100
TZNAME:CET
DTSTART:20211031T010000
END:STANDARD
BEGIN:DAYLIGHT
TZOFFSETFROM:+0100
TZOFFSETTO:+0200
TZNAME:CEST
DTSTART:20220327T010000
END:DAYLIGHT
BEGIN:STANDARD
TZOFFSETFROM:+0200
TZOFFSETTO:+0100
TZNAME:CET
DTSTART:20221030T010000
END:STANDARD
BEGIN:DAYLIGHT
TZOFFSETFROM:+0100
TZOFFSETTO:+0200
TZNAME:CEST
DTSTART:20230326T010000
END:DAYLIGHT
BEGIN:STANDARD
TZOFFSETFROM:+0200
TZOFFSETTO:+0100
TZNAME:CET
DTSTART:20231029T010000
END:STANDARD
END:VTIMEZONE
BEGIN:VEVENT
DTSTART;TZID=Europe/Luxembourg:20220507T103000
DTEND;TZID=Europe/Luxembourg:20220507T120000
DTSTAMP:20260424T114420
CREATED:20220314T131007Z
LAST-MODIFIED:20220314T131007Z
UID:10000942-1651919400-1651924800@www.kaerjeng.lu
SUMMARY:Assemblée générale - Käerjenger Theater
DESCRIPTION:
URL:https://www.kaerjeng.lu/evenement/assemblee-generale-kaerjenger-theater-2/
LOCATION:Käerjenger Treff\, 54c\, avenue de Luxembourg\, Bascharage\, Luxembourg
CATEGORIES:Agenda
ATTACH;FMTTYPE=image/jpeg:https://www.kaerjeng.lu/wp-content/uploads/2021/08/AG.jpg
END:VEVENT
BEGIN:VEVENT
DTSTART;TZID=Europe/Luxembourg:20220507T200000
DTEND;TZID=Europe/Luxembourg:20220507T230000
DTSTAMP:20260424T114420
CREATED:20220314T131143Z
LAST-MODIFIED:20220412T062840Z
UID:10000943-1651953600-1651964400@www.kaerjeng.lu
SUMMARY:Gala Concert - Harmonie Kéinzig
DESCRIPTION:
URL:https://www.kaerjeng.lu/evenement/gala-concert-harmonie-keinzig/
LOCATION:Clemency – Salle des Fêtes
CATEGORIES:Agenda
ATTACH;FMTTYPE=image/jpeg:https://www.kaerjeng.lu/wp-content/uploads/2022/04/Concert-Harmonie-Clemency-2022.jpg
END:VEVENT
BEGIN:VEVENT
DTSTART;TZID=Europe/Luxembourg:20220508T150000
DTEND;TZID=Europe/Luxembourg:20220508T190000
DTSTAMP:20260424T114420
CREATED:20220505T122340Z
LAST-MODIFIED:20220505T122340Z
UID:10000845-1652022000-1652036400@www.kaerjeng.lu
SUMMARY:Finale FLTT Audi Ligue DT Lénger - DT Hueschtert
DESCRIPTION:
URL:https://www.kaerjeng.lu/evenement/finale-fltt-audi-ligue-dt-lenger-dt-hueschtert/
LOCATION:Bascharage – Um Dribbel
CATEGORIES:Agenda
ATTACH;FMTTYPE=image/jpeg:https://www.kaerjeng.lu/wp-content/uploads/2020/06/DT-Lénger.jpg
END:VEVENT
END:VCALENDAR