BEGIN:VCALENDAR
VERSION:2.0
PRODID:-//Käerjeng - ECPv6.15.17.1//NONSGML v1.0//EN
CALSCALE:GREGORIAN
METHOD:PUBLISH
X-ORIGINAL-URL:https://www.kaerjeng.lu
X-WR-CALDESC:Évènements pour Käerjeng
REFRESH-INTERVAL;VALUE=DURATION:PT1H
X-Robots-Tag:noindex
X-PUBLISHED-TTL:PT1H
BEGIN:VTIMEZONE
TZID:Europe/Luxembourg
BEGIN:DAYLIGHT
TZOFFSETFROM:+0100
TZOFFSETTO:+0200
TZNAME:CEST
DTSTART:20210328T010000
END:DAYLIGHT
BEGIN:STANDARD
TZOFFSETFROM:+0200
TZOFFSETTO:+0100
TZNAME:CET
DTSTART:20211031T010000
END:STANDARD
BEGIN:DAYLIGHT
TZOFFSETFROM:+0100
TZOFFSETTO:+0200
TZNAME:CEST
DTSTART:20220327T010000
END:DAYLIGHT
BEGIN:STANDARD
TZOFFSETFROM:+0200
TZOFFSETTO:+0100
TZNAME:CET
DTSTART:20221030T010000
END:STANDARD
BEGIN:DAYLIGHT
TZOFFSETFROM:+0100
TZOFFSETTO:+0200
TZNAME:CEST
DTSTART:20230326T010000
END:DAYLIGHT
BEGIN:STANDARD
TZOFFSETFROM:+0200
TZOFFSETTO:+0100
TZNAME:CET
DTSTART:20231029T010000
END:STANDARD
END:VTIMEZONE
BEGIN:VEVENT
DTSTART;TZID=Europe/Luxembourg:20220429T180000
DTEND;TZID=Europe/Luxembourg:20220429T213000
DTSTAMP:20260423T003453
CREATED:20220314T130222Z
LAST-MODIFIED:20220314T130345Z
UID:10000939-1651255200-1651267800@www.kaerjeng.lu
SUMMARY:Assemblée générale - Amicale des marcheurs Bascharage
DESCRIPTION:
URL:https://www.kaerjeng.lu/evenement/assemblee-generale-amicale-des-marcheurs-bascharage/
LOCATION:Käerjenger Treff\, 54c\, avenue de Luxembourg\, Bascharage\, Luxembourg
CATEGORIES:Agenda
ATTACH;FMTTYPE=image/jpeg:https://www.kaerjeng.lu/wp-content/uploads/2021/08/AG.jpg
END:VEVENT
BEGIN:VEVENT
DTSTART;TZID=Europe/Luxembourg:20220430T090000
DTEND;TZID=Europe/Luxembourg:20220430T140000
DTSTAMP:20260423T003453
CREATED:20220420T133122Z
LAST-MODIFIED:20220420T133122Z
UID:10000963-1651309200-1651327200@www.kaerjeng.lu
SUMMARY:Workshop fir déi Jonk
DESCRIPTION:
URL:https://www.kaerjeng.lu/evenement/workshop-fir-dei-jonk/
LOCATION:Käerjenger Treff\, 54c\, avenue de Luxembourg\, Bascharage\, Luxembourg
CATEGORIES:Agenda
ATTACH;FMTTYPE=image/jpeg:https://www.kaerjeng.lu/wp-content/uploads/2022/04/flyer-A5_Jeunes-BAT.jpg
END:VEVENT
BEGIN:VEVENT
DTSTART;TZID=Europe/Luxembourg:20220430T190000
DTEND;TZID=Europe/Luxembourg:20220430T210000
DTSTAMP:20260423T003453
CREATED:20220420T133314Z
LAST-MODIFIED:20220420T133343Z
UID:10000965-1651345200-1651352400@www.kaerjeng.lu
SUMMARY:Assemblée générale - DT Hautcharage
DESCRIPTION:
URL:https://www.kaerjeng.lu/evenement/assemblee-generale-dt-hautcharage/
LOCATION:Hautcharage – Centre Polyvalent
CATEGORIES:Agenda
ATTACH;FMTTYPE=image/jpeg:https://www.kaerjeng.lu/wp-content/uploads/2021/08/AG.jpg
END:VEVENT
BEGIN:VEVENT
DTSTART;TZID=Europe/Luxembourg:20220430T200000
DTEND;TZID=Europe/Luxembourg:20220430T230000
DTSTAMP:20260423T003453
CREATED:20220314T130457Z
LAST-MODIFIED:20220426T082421Z
UID:10000940-1651348800-1651359600@www.kaerjeng.lu
SUMMARY:Gala Concert - Harmonie Hautcharage
DESCRIPTION:
URL:https://www.kaerjeng.lu/evenement/gala-concert-harmonie-hautcharage/
LOCATION:Käerjenger Treff\, 54c\, avenue de Luxembourg\, Bascharage\, Luxembourg
CATEGORIES:Agenda
ATTACH;FMTTYPE=image/jpeg:https://www.kaerjeng.lu/wp-content/uploads/2022/04/Harmonie-Hautcharage-Gala-Concert-2022.jpg
END:VEVENT
BEGIN:VEVENT
DTSTART;TZID=Europe/Luxembourg:20220501T090000
DTEND;TZID=Europe/Luxembourg:20220501T120000
DTSTAMP:20260423T003453
CREATED:20220420T133911Z
LAST-MODIFIED:20220420T133911Z
UID:10000967-1651395600-1651406400@www.kaerjeng.lu
SUMMARY:1. Mee Feier
DESCRIPTION:
URL:https://www.kaerjeng.lu/evenement/1-mee-feier-3/
LOCATION:Bascharage – Bommertbësch
CATEGORIES:Agenda
ATTACH;FMTTYPE=image/jpeg:https://www.kaerjeng.lu/wp-content/uploads/2020/10/event.jpg
END:VEVENT
BEGIN:VEVENT
DTSTART;TZID=Europe/Luxembourg:20220501T120000
DTEND;TZID=Europe/Luxembourg:20220501T170000
DTSTAMP:20260423T003453
CREATED:20220314T130633Z
LAST-MODIFIED:20220314T130633Z
UID:10000941-1651406400-1651424400@www.kaerjeng.lu
SUMMARY:1. Mee Feier - DT Féngeg
DESCRIPTION:
URL:https://www.kaerjeng.lu/evenement/1-mee-feier-dt-fengeg/
LOCATION:Fingig – Salle des Fêtes
CATEGORIES:Agenda
ATTACH;FMTTYPE=image/jpeg:https://www.kaerjeng.lu/wp-content/uploads/2020/10/event.jpg
END:VEVENT
END:VCALENDAR