BEGIN:VCALENDAR
VERSION:2.0
PRODID:-//Käerjeng - ECPv6.15.17.1//NONSGML v1.0//EN
CALSCALE:GREGORIAN
METHOD:PUBLISH
X-ORIGINAL-URL:https://www.kaerjeng.lu
X-WR-CALDESC:Évènements pour Käerjeng
REFRESH-INTERVAL;VALUE=DURATION:PT1H
X-Robots-Tag:noindex
X-PUBLISHED-TTL:PT1H
BEGIN:VTIMEZONE
TZID:Europe/Luxembourg
BEGIN:DAYLIGHT
TZOFFSETFROM:+0100
TZOFFSETTO:+0200
TZNAME:CEST
DTSTART:20220327T010000
END:DAYLIGHT
BEGIN:STANDARD
TZOFFSETFROM:+0200
TZOFFSETTO:+0100
TZNAME:CET
DTSTART:20221030T010000
END:STANDARD
BEGIN:DAYLIGHT
TZOFFSETFROM:+0100
TZOFFSETTO:+0200
TZNAME:CEST
DTSTART:20230326T010000
END:DAYLIGHT
BEGIN:STANDARD
TZOFFSETFROM:+0200
TZOFFSETTO:+0100
TZNAME:CET
DTSTART:20231029T010000
END:STANDARD
BEGIN:DAYLIGHT
TZOFFSETFROM:+0100
TZOFFSETTO:+0200
TZNAME:CEST
DTSTART:20240331T010000
END:DAYLIGHT
BEGIN:STANDARD
TZOFFSETFROM:+0200
TZOFFSETTO:+0100
TZNAME:CET
DTSTART:20241027T010000
END:STANDARD
END:VTIMEZONE
BEGIN:VEVENT
DTSTART;TZID=Europe/Luxembourg:20230318T080000
DTEND;TZID=Europe/Luxembourg:20230318T130000
DTSTAMP:20260424T142603
CREATED:20221220T090726Z
LAST-MODIFIED:20221220T090726Z
UID:10001076-1679126400-1679144400@www.kaerjeng.lu
SUMMARY:National Kongress - Natur an Ëmwelt ASBL
DESCRIPTION:
URL:https://www.kaerjeng.lu/evenement/national-kongress-natur-an-emwelt-asbl/
LOCATION:Käerjenger Treff\, 54c\, avenue de Luxembourg\, Bascharage\, Luxembourg
CATEGORIES:Agenda
ATTACH;FMTTYPE=image/jpeg:https://www.kaerjeng.lu/wp-content/uploads/2020/10/event.jpg
END:VEVENT
BEGIN:VEVENT
DTSTART;TZID=Europe/Luxembourg:20230319T150000
DTEND;TZID=Europe/Luxembourg:20230319T190000
DTSTAMP:20260424T142603
CREATED:20221220T090814Z
LAST-MODIFIED:20230310T102208Z
UID:10001077-1679238000-1679252400@www.kaerjeng.lu
SUMMARY:Youth in Concert - Frënn vun der Harmonie Hautcharage
DESCRIPTION:
URL:https://www.kaerjeng.lu/evenement/youth-in-concert-frenn-vun-der-harmonie-hautcharage/
LOCATION:Hautcharage – Centre Polyvalent
CATEGORIES:Agenda
ATTACH;FMTTYPE=image/jpeg:https://www.kaerjeng.lu/wp-content/uploads/2023/02/Youth-in-Concert-2023.jpg
END:VEVENT
BEGIN:VEVENT
DTSTART;TZID=Europe/Luxembourg:20230319T190000
DTEND;TZID=Europe/Luxembourg:20230319T220000
DTSTAMP:20260424T142603
CREATED:20221220T090900Z
LAST-MODIFIED:20230210T143640Z
UID:10001078-1679252400-1679263200@www.kaerjeng.lu
SUMMARY:Virstellung Carlo an Yannchen Hoffmann - Kulturkommissioun
DESCRIPTION:
URL:https://www.kaerjeng.lu/evenement/virstellung-carlo-an-yannchen-hoffmann-kulturkommissioun/
LOCATION:Käerjenger Treff\, 54c\, avenue de Luxembourg\, Bascharage\, Luxembourg
CATEGORIES:Agenda
ATTACH;FMTTYPE=image/jpeg:https://www.kaerjeng.lu/wp-content/uploads/2023/02/Artikel-visuel.jpg
END:VEVENT
BEGIN:VEVENT
DTSTART;VALUE=DATE:20230324
DTEND;VALUE=DATE:20230326
DTSTAMP:20260424T142603
CREATED:20221220T090951Z
LAST-MODIFIED:20230310T150856Z
UID:10001079-1679616000-1679788799@www.kaerjeng.lu
SUMMARY:Sketch FuFu - FC ES Clemency / TC Kéinzig-Féngeg
DESCRIPTION:
URL:https://www.kaerjeng.lu/evenement/sketch-fufu-fc-es-clemency-tc-keinzig-fengeg-2/
LOCATION:Clemency – Salle des Fêtes
CATEGORIES:Agenda
ATTACH;FMTTYPE=image/jpeg:https://www.kaerjeng.lu/wp-content/uploads/2023/03/Sketch-Fufu.jpg
END:VEVENT
BEGIN:VEVENT
DTSTART;TZID=Europe/Luxembourg:20230325T200000
DTEND;TZID=Europe/Luxembourg:20230325T230000
DTSTAMP:20260424T142603
CREATED:20221220T091034Z
LAST-MODIFIED:20230316T150507Z
UID:10001080-1679774400-1679785200@www.kaerjeng.lu
SUMMARY:Gala Concert - Harmonie Municipale Bascharage
DESCRIPTION:
URL:https://www.kaerjeng.lu/evenement/gala-concert-harmonie-municipale-bascharage-2/
LOCATION:Käerjenger Treff\, 54c\, avenue de Luxembourg\, Bascharage\, Luxembourg
CATEGORIES:Agenda
ATTACH;FMTTYPE=image/jpeg:https://www.kaerjeng.lu/wp-content/uploads/2023/03/Gala-Showconcert-HMB-2023.jpg
END:VEVENT
BEGIN:VEVENT
DTSTART;TZID=Europe/Luxembourg:20230326T110000
DTEND;TZID=Europe/Luxembourg:20230326T140000
DTSTAMP:20260424T142603
CREATED:20221220T091138Z
LAST-MODIFIED:20230222T124610Z
UID:10001081-1679828400-1679839200@www.kaerjeng.lu
SUMMARY:Assemblée générale - Playmo-Frënn
DESCRIPTION:
URL:https://www.kaerjeng.lu/evenement/assemblee-generale-playmo-frenn/
LOCATION:Clemency – Brasserie Op der Gare
CATEGORIES:Agenda
ATTACH;FMTTYPE=image/jpeg:https://www.kaerjeng.lu/wp-content/uploads/2021/08/AG.jpg
END:VEVENT
BEGIN:VEVENT
DTSTART;VALUE=DATE:20230403
DTEND;VALUE=DATE:20230406
DTSTAMP:20260424T142603
CREATED:20230222T125042Z
LAST-MODIFIED:20230328T073804Z
UID:10000956-1680480000-1680739199@www.kaerjeng.lu
SUMMARY:Camp de Basketball - BBC Hedgehogs Bascharage
DESCRIPTION:
URL:https://www.kaerjeng.lu/evenement/camp-de-basketball-bbc-hedgehogs-bascharage/
LOCATION:Bascharage – Op Acker
CATEGORIES:Agenda
ATTACH;FMTTYPE=image/jpeg:https://www.kaerjeng.lu/wp-content/uploads/2023/03/Basketballcamp-2023.jpg
END:VEVENT
BEGIN:VEVENT
DTSTART;VALUE=DATE:20230404
DTEND;VALUE=DATE:20230417
DTSTAMP:20260424T142603
CREATED:20230301T140954Z
LAST-MODIFIED:20230301T140954Z
UID:10001125-1680566400-1681689599@www.kaerjeng.lu
SUMMARY:Activités pour jeunes - JUVAK.lu
DESCRIPTION:
URL:https://www.kaerjeng.lu/evenement/activites-pour-jeunes-juvak-lu/
CATEGORIES:Agenda
ATTACH;FMTTYPE=image/jpeg:https://www.kaerjeng.lu/wp-content/uploads/2023/03/JUVAK-04.04.2023.jpg
END:VEVENT
BEGIN:VEVENT
DTSTART;TZID=Europe/Luxembourg:20230405T193000
DTEND;TZID=Europe/Luxembourg:20230405T213000
DTSTAMP:20260424T142603
CREATED:20230324T145158Z
LAST-MODIFIED:20230324T145158Z
UID:10001126-1680723000-1680730200@www.kaerjeng.lu
SUMMARY:Assemblée générale - Croix-Rouge Bascharage
DESCRIPTION:
URL:https://www.kaerjeng.lu/evenement/assemblee-generale-croix-rouge-bascharage/
LOCATION:Bascharage – Um Dribbel
CATEGORIES:Agenda
ATTACH;FMTTYPE=image/jpeg:https://www.kaerjeng.lu/wp-content/uploads/2021/08/AG.jpg
END:VEVENT
BEGIN:VEVENT
DTSTART;TZID=Europe/Luxembourg:20230407T110000
DTEND;TZID=Europe/Luxembourg:20230407T150000
DTSTAMP:20260424T142603
CREATED:20221220T091408Z
LAST-MODIFIED:20230323T150433Z
UID:10001082-1680865200-1680879600@www.kaerjeng.lu
SUMMARY:Gebake Fësch - Harmonie Kéinzig
DESCRIPTION:
URL:https://www.kaerjeng.lu/evenement/gebake-fesch-harmonie-keinzig-4/
LOCATION:Clemency
CATEGORIES:Agenda
ATTACH;FMTTYPE=image/jpeg:https://www.kaerjeng.lu/wp-content/uploads/2023/03/Gebacke-Fesch-2023.jpg
END:VEVENT
BEGIN:VEVENT
DTSTART;VALUE=DATE:20230412
DTEND;VALUE=DATE:20230415
DTSTAMP:20260424T142603
CREATED:20230126T152322Z
LAST-MODIFIED:20230328T073734Z
UID:10001103-1681257600-1681516799@www.kaerjeng.lu
SUMMARY:Handball Jugendcamp - Handball Käerjeng
DESCRIPTION:
URL:https://www.kaerjeng.lu/evenement/handball-jugendcamp-handball-kaerjeng/
LOCATION:Bascharage – Um Dribbel
CATEGORIES:Agenda
ATTACH;FMTTYPE=image/jpeg:https://www.kaerjeng.lu/wp-content/uploads/2023/03/Handballcamp-2023.jpg
END:VEVENT
BEGIN:VEVENT
DTSTART;VALUE=DATE:20230412
DTEND;VALUE=DATE:20230415
DTSTAMP:20260424T142603
CREATED:20230405T145523Z
LAST-MODIFIED:20230405T145523Z
UID:10001128-1681257600-1681516799@www.kaerjeng.lu
SUMMARY:Dëschtennis Stage - DT Lénger
DESCRIPTION:
URL:https://www.kaerjeng.lu/evenement/deschtennis-stage-dt-lenger/
LOCATION:Linger – Hall sportif
CATEGORIES:Agenda
ATTACH;FMTTYPE=image/jpeg:https://www.kaerjeng.lu/wp-content/uploads/2020/10/event.jpg
END:VEVENT
BEGIN:VEVENT
DTSTART;TZID=Europe/Luxembourg:20230415T100000
DTEND;TZID=Europe/Luxembourg:20230415T110000
DTSTAMP:20260424T142603
CREATED:20230405T150321Z
LAST-MODIFIED:20230405T150407Z
UID:10001129-1681552800-1681556400@www.kaerjeng.lu
SUMMARY:Brennholzverkaf 2023
DESCRIPTION:
URL:https://www.kaerjeng.lu/evenement/holzstee-2/
LOCATION:Clemency
CATEGORIES:Agenda
ATTACH;FMTTYPE=image/jpeg:https://www.kaerjeng.lu/wp-content/uploads/2023/04/info-aktuell_A4_02-23_Brennholzverkauf-BAT_Page_1.jpg
END:VEVENT
BEGIN:VEVENT
DTSTART;VALUE=DATE:20230421
DTEND;VALUE=DATE:20230424
DTSTAMP:20260424T142603
CREATED:20221220T091459Z
LAST-MODIFIED:20230328T072554Z
UID:10001083-1682035200-1682294399@www.kaerjeng.lu
SUMMARY:Salon des Vins - DT Nidderkäerjeng
DESCRIPTION:
URL:https://www.kaerjeng.lu/evenement/salon-des-vins-dt-nidderkaerjeng/
LOCATION:Käerjenger Treff\, 54c\, avenue de Luxembourg\, Bascharage\, Luxembourg
CATEGORIES:Agenda
ATTACH;FMTTYPE=image/png:https://www.kaerjeng.lu/wp-content/uploads/2023/03/Salon-des-vins-2023.png
END:VEVENT
BEGIN:VEVENT
DTSTART;TZID=Europe/Luxembourg:20230422T100000
DTEND;TZID=Europe/Luxembourg:20230422T170000
DTSTAMP:20260424T142603
CREATED:20221220T091626Z
LAST-MODIFIED:20230329T091312Z
UID:10001084-1682157600-1682182800@www.kaerjeng.lu
SUMMARY:Porte Ouverte mat Grillfest - Murphy's Racing Team
DESCRIPTION:
URL:https://www.kaerjeng.lu/evenement/porte-ouverte-mat-grillfest-murphys-racing-team/
LOCATION:Clemency – Place de la Gare
CATEGORIES:Agenda
ATTACH;FMTTYPE=image/jpeg:https://www.kaerjeng.lu/wp-content/uploads/2023/03/Racing-Team-Porte-ouverte-2023.jpg
END:VEVENT
BEGIN:VEVENT
DTSTART;TZID=Europe/Luxembourg:20230423T110000
DTEND;TZID=Europe/Luxembourg:20230423T170000
DTSTAMP:20260424T142603
CREATED:20230126T152457Z
LAST-MODIFIED:20230413T144108Z
UID:10001104-1682247600-1682269200@www.kaerjeng.lu
SUMMARY:10 Joer ECO-Center
DESCRIPTION:
URL:https://www.kaerjeng.lu/evenement/10-joer-eco-center/
LOCATION:Bascharage – Eco Center
CATEGORIES:Agenda
ATTACH;FMTTYPE=image/jpeg:https://www.kaerjeng.lu/wp-content/uploads/2023/04/flyer_A4_03-23_Eco-Center-10-ans-06.04._Page_1.jpg
END:VEVENT
BEGIN:VEVENT
DTSTART;VALUE=DATE:20230428
DTEND;VALUE=DATE:20230429
DTSTAMP:20260424T142603
CREATED:20230222T124829Z
LAST-MODIFIED:20230405T150922Z
UID:10000954-1682640000-1682726399@www.kaerjeng.lu
SUMMARY:Assemblée générale - Karate-Club Käerjeng
DESCRIPTION:
URL:https://www.kaerjeng.lu/evenement/assemblee-generale-karate-club-kaerjeng/
LOCATION:Bascharage – Op Acker
CATEGORIES:Agenda
ATTACH;FMTTYPE=image/jpeg:https://www.kaerjeng.lu/wp-content/uploads/2021/08/AG.jpg
END:VEVENT
BEGIN:VEVENT
DTSTART;TZID=Europe/Luxembourg:20230429T183000
DTEND;TZID=Europe/Luxembourg:20230429T203000
DTSTAMP:20260424T142603
CREATED:20230421T091839Z
LAST-MODIFIED:20230421T091839Z
UID:10001131-1682793000-1682800200@www.kaerjeng.lu
SUMMARY:Assemblée générale - Féngiger Jugend
DESCRIPTION:
URL:https://www.kaerjeng.lu/evenement/assemblee-generale-fengiger-jugend/
LOCATION:Fingig – Féngiger Stuff
CATEGORIES:Agenda
ATTACH;FMTTYPE=image/jpeg:https://www.kaerjeng.lu/wp-content/uploads/2021/08/AG.jpg
END:VEVENT
BEGIN:VEVENT
DTSTART;TZID=Europe/Luxembourg:20230430T193000
DTEND;TZID=Europe/Luxembourg:20230430T230000
DTSTAMP:20260424T142603
CREATED:20221220T091758Z
LAST-MODIFIED:20230417T144235Z
UID:10001085-1682883000-1682895600@www.kaerjeng.lu
SUMMARY:Galaconcert - Harmonie Hautcharage
DESCRIPTION:
URL:https://www.kaerjeng.lu/evenement/galaconcert-harmonie-hautcharage/
LOCATION:Käerjenger Treff\, 54c\, avenue de Luxembourg\, Bascharage\, Luxembourg
CATEGORIES:Agenda
ATTACH;FMTTYPE=image/jpeg:https://www.kaerjeng.lu/wp-content/uploads/2023/04/Affiche-Harmonie-Hautcharage-30.04.2023.jpg
END:VEVENT
BEGIN:VEVENT
DTSTART;TZID=Europe/Luxembourg:20230501T090000
DTEND;TZID=Europe/Luxembourg:20230501T110000
DTSTAMP:20260424T142603
CREATED:20230126T152639Z
LAST-MODIFIED:20230126T152639Z
UID:10001105-1682931600-1682938800@www.kaerjeng.lu
SUMMARY:1. Mee Feier - Veräiner Uewer- an Nidderkäerjeng
DESCRIPTION:
URL:https://www.kaerjeng.lu/evenement/1-mee-feier-verainer-uewer-an-nidderkaerjeng/
LOCATION:Bascharage – Bommertbësch
CATEGORIES:Agenda
ATTACH;FMTTYPE=image/jpeg:https://www.kaerjeng.lu/wp-content/uploads/2020/10/event.jpg
END:VEVENT
BEGIN:VEVENT
DTSTART;TZID=Europe/Luxembourg:20230501T090000
DTEND;TZID=Europe/Luxembourg:20230501T150000
DTSTAMP:20260424T142603
CREATED:20221220T091842Z
LAST-MODIFIED:20230426T124546Z
UID:10001086-1682931600-1682953200@www.kaerjeng.lu
SUMMARY:1. Mee Feier - DT Féngeg
DESCRIPTION:
URL:https://www.kaerjeng.lu/evenement/1-mee-feier-dt-fengeg-2/
LOCATION:Fingig – Salle des Fêtes
CATEGORIES:Agenda
ATTACH;FMTTYPE=image/jpeg:https://www.kaerjeng.lu/wp-content/uploads/2023/04/01meefeier-2023-Fengeg.jpg
END:VEVENT
BEGIN:VEVENT
DTSTART;TZID=Europe/Luxembourg:20230507T093000
DTEND;TZID=Europe/Luxembourg:20230507T160000
DTSTAMP:20260424T142603
CREATED:20230405T141328Z
LAST-MODIFIED:20230405T141338Z
UID:10001127-1683451800-1683475200@www.kaerjeng.lu
SUMMARY:Dag an der Natur - Ëmweltkommissioun
DESCRIPTION:
URL:https://www.kaerjeng.lu/evenement/dag-an-der-natur-emweltkommissioun-4/
LOCATION:Clemency
CATEGORIES:Agenda
ATTACH;FMTTYPE=image/jpeg:https://www.kaerjeng.lu/wp-content/uploads/2023/04/info-aktuell_A4_03-23_En-Dag-an-der-Natur-BAT_Page_1.jpg
END:VEVENT
BEGIN:VEVENT
DTSTART;VALUE=DATE:20230509
DTEND;VALUE=DATE:20230510
DTSTAMP:20260424T142603
CREATED:20230126T152735Z
LAST-MODIFIED:20230503T141920Z
UID:10001106-1683590400-1683676799@www.kaerjeng.lu
SUMMARY:Club Cup - U.N. Käerjeng'97
DESCRIPTION:
URL:https://www.kaerjeng.lu/evenement/family-day-u-n-kaerjeng97/
LOCATION:Bascharage – Um Dribbel
CATEGORIES:Agenda
ATTACH;FMTTYPE=image/jpeg:https://www.kaerjeng.lu/wp-content/uploads/2023/05/Club-Cup-9.5.23-002.jpg
END:VEVENT
BEGIN:VEVENT
DTSTART;VALUE=DATE:20230511
DTEND;VALUE=DATE:20230514
DTSTAMP:20260424T142603
CREATED:20221220T091933Z
LAST-MODIFIED:20230508T132544Z
UID:10001087-1683763200-1684022399@www.kaerjeng.lu
SUMMARY:Bicherbourse - Elterevereenegung Kënzeg-Féngeg
DESCRIPTION:
URL:https://www.kaerjeng.lu/evenement/bicherbourse-elterevereenegung-kenzeg-fengeg-2/
LOCATION:Clemency – Salle des Fêtes
CATEGORIES:Agenda
ATTACH;FMTTYPE=image/jpeg:https://www.kaerjeng.lu/wp-content/uploads/2023/05/Pages-de-2023-Flyer-FR-L.jpg
END:VEVENT
BEGIN:VEVENT
DTSTART;TZID=Europe/Luxembourg:20230512T190000
DTEND;TZID=Europe/Luxembourg:20230512T210000
DTSTAMP:20260424T142603
CREATED:20221220T092030Z
LAST-MODIFIED:20230503T131513Z
UID:10001088-1683918000-1683925200@www.kaerjeng.lu
SUMMARY:Assemblée générale - DT Nidderkäerjeng
DESCRIPTION:
URL:https://www.kaerjeng.lu/evenement/assemblee-generale-dt-nidderkaerjeng-5/
LOCATION:Bascharage – Op Acker
CATEGORIES:Agenda
ATTACH;FMTTYPE=image/jpeg:https://www.kaerjeng.lu/wp-content/uploads/2021/08/AG.jpg
END:VEVENT
BEGIN:VEVENT
DTSTART;TZID=Europe/Luxembourg:20230514T100000
DTEND;TZID=Europe/Luxembourg:20230514T170000
DTSTAMP:20260424T142603
CREATED:20221220T092123Z
LAST-MODIFIED:20230503T142852Z
UID:10001089-1684058400-1684083600@www.kaerjeng.lu
SUMMARY:Journée des Jeunes - Harmonie Municipale Bascharage
DESCRIPTION:
URL:https://www.kaerjeng.lu/evenement/journee-des-jeunes-harmonie-municipale-bascharage/
LOCATION:Käerjenger Treff\, 54c\, avenue de Luxembourg\, Bascharage\, Luxembourg
CATEGORIES:Agenda
ATTACH;FMTTYPE=image/jpeg:https://www.kaerjeng.lu/wp-content/uploads/2023/05/Jugendmusiksdag-HMB.jpg
END:VEVENT
BEGIN:VEVENT
DTSTART;TZID=Europe/Luxembourg:20230514T100000
DTEND;TZID=Europe/Luxembourg:20230514T220000
DTSTAMP:20260424T142603
CREATED:20230510T153436Z
LAST-MODIFIED:20230510T153436Z
UID:10001132-1684058400-1684101600@www.kaerjeng.lu
SUMMARY:Bëschfest - CSV Käerjeng
DESCRIPTION:
URL:https://www.kaerjeng.lu/evenement/beschfest-csv-kaerjeng/
LOCATION:Bascharage – Bommertbësch
CATEGORIES:Agenda
ATTACH;FMTTYPE=image/jpeg:https://www.kaerjeng.lu/wp-content/uploads/2023/05/CSV-Fest-14.05..jpg
END:VEVENT
BEGIN:VEVENT
DTSTART;TZID=Europe/Luxembourg:20230517T190000
DTEND;TZID=Europe/Luxembourg:20230517T210000
DTSTAMP:20260424T142603
CREATED:20230510T153936Z
LAST-MODIFIED:20230510T153936Z
UID:10001133-1684350000-1684357200@www.kaerjeng.lu
SUMMARY:Assemblée générale - Amicale CIS Käerjeng-Péiteng
DESCRIPTION:
URL:https://www.kaerjeng.lu/evenement/assemblee-generale-amicale-cis-kaerjeng-peiteng/
LOCATION:Bascharage
CATEGORIES:Agenda
ATTACH;FMTTYPE=image/jpeg:https://www.kaerjeng.lu/wp-content/uploads/2021/08/AG.jpg
END:VEVENT
BEGIN:VEVENT
DTSTART;TZID=Europe/Luxembourg:20230517T190000
DTEND;TZID=Europe/Luxembourg:20230517T220000
DTSTAMP:20260424T142603
CREATED:20230405T152503Z
LAST-MODIFIED:20230510T153337Z
UID:10001130-1684350000-1684360800@www.kaerjeng.lu
SUMMARY:Concert Chant moderne - Käerjenger Musekschoul
DESCRIPTION:
URL:https://www.kaerjeng.lu/evenement/concert-chant-moderne-kaerjenger-musekschoul/
LOCATION:Käerjenger Treff\, 54c\, avenue de Luxembourg\, Bascharage\, Luxembourg
CATEGORIES:Agenda
ATTACH;FMTTYPE=image/jpeg:https://www.kaerjeng.lu/wp-content/uploads/2023/05/Chant-moderne-Concert-2023.jpg
END:VEVENT
BEGIN:VEVENT
DTSTART;VALUE=DATE:20230518
DTEND;VALUE=DATE:20230523
DTSTAMP:20260424T142603
CREATED:20221220T092256Z
LAST-MODIFIED:20230324T135942Z
UID:10001090-1684368000-1684799999@www.kaerjeng.lu
SUMMARY:Käerjenger Kiermes
DESCRIPTION:
URL:https://www.kaerjeng.lu/evenement/kaerjenger-kiermes-place-schuman/
LOCATION:Bascharage – Place Schuman
CATEGORIES:Agenda
ATTACH;FMTTYPE=image/jpeg:https://www.kaerjeng.lu/wp-content/uploads/2020/10/event.jpg
END:VEVENT
END:VCALENDAR