BEGIN:VCALENDAR
VERSION:2.0
PRODID:-//Käerjeng - ECPv6.15.17.1//NONSGML v1.0//EN
CALSCALE:GREGORIAN
METHOD:PUBLISH
X-WR-CALNAME:Käerjeng
X-ORIGINAL-URL:https://www.kaerjeng.lu
X-WR-CALDESC:Évènements pour Käerjeng
REFRESH-INTERVAL;VALUE=DURATION:PT1H
X-Robots-Tag:noindex
X-PUBLISHED-TTL:PT1H
BEGIN:VTIMEZONE
TZID:Europe/Luxembourg
BEGIN:DAYLIGHT
TZOFFSETFROM:+0100
TZOFFSETTO:+0200
TZNAME:CEST
DTSTART:20220327T010000
END:DAYLIGHT
BEGIN:STANDARD
TZOFFSETFROM:+0200
TZOFFSETTO:+0100
TZNAME:CET
DTSTART:20221030T010000
END:STANDARD
BEGIN:DAYLIGHT
TZOFFSETFROM:+0100
TZOFFSETTO:+0200
TZNAME:CEST
DTSTART:20230326T010000
END:DAYLIGHT
BEGIN:STANDARD
TZOFFSETFROM:+0200
TZOFFSETTO:+0100
TZNAME:CET
DTSTART:20231029T010000
END:STANDARD
BEGIN:DAYLIGHT
TZOFFSETFROM:+0100
TZOFFSETTO:+0200
TZNAME:CEST
DTSTART:20240331T010000
END:DAYLIGHT
BEGIN:STANDARD
TZOFFSETFROM:+0200
TZOFFSETTO:+0100
TZNAME:CET
DTSTART:20241027T010000
END:STANDARD
END:VTIMEZONE
BEGIN:VEVENT
DTSTART;TZID=Europe/Luxembourg:20230218T090000
DTEND;TZID=Europe/Luxembourg:20230218T120000
DTSTAMP:20260424T115714
CREATED:20230126T150818Z
LAST-MODIFIED:20230131T101622Z
UID:10001098-1676710800-1676721600@www.kaerjeng.lu
SUMMARY:Repair Café - ECO-Center
DESCRIPTION:
URL:https://www.kaerjeng.lu/evenement/repair-cafe/
LOCATION:Bascharage – Eco Center
CATEGORIES:Agenda
ATTACH;FMTTYPE=image/jpeg:https://www.kaerjeng.lu/wp-content/uploads/2023/01/Capture-repair1.jpg
END:VEVENT
BEGIN:VEVENT
DTSTART;TZID=Europe/Luxembourg:20230219T103000
DTEND;TZID=Europe/Luxembourg:20230219T120000
DTSTAMP:20260424T115714
CREATED:20221214T113203Z
LAST-MODIFIED:20221214T113203Z
UID:10000918-1676802600-1676808000@www.kaerjeng.lu
SUMMARY:Assemblée générale - FC Etoile Sportive Clemency
DESCRIPTION:
URL:https://www.kaerjeng.lu/evenement/assemblee-generale-fc-etoile-sportive-clemency-2/
LOCATION:Clemency – Terrain de football
CATEGORIES:Agenda
ATTACH;FMTTYPE=image/jpeg:https://www.kaerjeng.lu/wp-content/uploads/2021/08/AG.jpg
END:VEVENT
BEGIN:VEVENT
DTSTART;VALUE=DATE:20230222
DTEND;VALUE=DATE:20230223
DTSTAMP:20260424T115714
CREATED:20230222T130522Z
LAST-MODIFIED:20230222T130522Z
UID:10000958-1677024000-1677110399@www.kaerjeng.lu
SUMMARY:Assemblée générale – Gaart an Heem Kënzeg
DESCRIPTION:
URL:https://www.kaerjeng.lu/evenement/assemblee-generale-gaart-an-heem-kenzeg-2/
LOCATION:Clemency – Salle des Fêtes
CATEGORIES:Agenda
ATTACH;FMTTYPE=image/jpeg:https://www.kaerjeng.lu/wp-content/uploads/2021/08/AG.jpg
END:VEVENT
BEGIN:VEVENT
DTSTART;TZID=Europe/Luxembourg:20230222T110000
DTEND;TZID=Europe/Luxembourg:20230222T140000
DTSTAMP:20260424T115714
CREATED:20221214T113252Z
LAST-MODIFIED:20230217T112519Z
UID:10000920-1677063600-1677074400@www.kaerjeng.lu
SUMMARY:Gebake Fësch - Harmonie Kéinzig
DESCRIPTION:
URL:https://www.kaerjeng.lu/evenement/gebake-fesch-harmonie-keinzig-3/
LOCATION:Clemency
CATEGORIES:Agenda
ATTACH;FMTTYPE=image/jpeg:https://www.kaerjeng.lu/wp-content/uploads/2023/02/Geabake-Fesch-2023.jpeg
END:VEVENT
BEGIN:VEVENT
DTSTART;VALUE=DATE:20230223
DTEND;VALUE=DATE:20230224
DTSTAMP:20260424T115714
CREATED:20221219T150631Z
LAST-MODIFIED:20221219T150631Z
UID:10000922-1677110400-1677196799@www.kaerjeng.lu
SUMMARY:Assemblée générale - Natur an Ëmwelt ASBL
DESCRIPTION:
URL:https://www.kaerjeng.lu/evenement/assemblee-generale-natur-an-emwelt-asbl/
LOCATION:Clemency – Brasserie Op der Gare
CATEGORIES:Agenda
ATTACH;FMTTYPE=image/jpeg:https://www.kaerjeng.lu/wp-content/uploads/2021/08/AG.jpg
END:VEVENT
BEGIN:VEVENT
DTSTART;TZID=Europe/Luxembourg:20230223T193000
DTEND;TZID=Europe/Luxembourg:20230223T213000
DTSTAMP:20260424T115714
CREATED:20230222T103532Z
LAST-MODIFIED:20230222T103612Z
UID:10000948-1677180600-1677187800@www.kaerjeng.lu
SUMMARY:Assemblée générale - Chorale Lénger Sängerbond
DESCRIPTION:
URL:https://www.kaerjeng.lu/evenement/assemblee-generale-chorale-lenger-sangerbond/
LOCATION:Linger – Hall sportif
CATEGORIES:Agenda
ATTACH;FMTTYPE=image/jpeg:https://www.kaerjeng.lu/wp-content/uploads/2021/08/AG.jpg
END:VEVENT
BEGIN:VEVENT
DTSTART;TZID=Europe/Luxembourg:20230224T190000
DTEND;TZID=Europe/Luxembourg:20230224T210000
DTSTAMP:20260424T115714
CREATED:20230126T151103Z
LAST-MODIFIED:20230126T151121Z
UID:10001099-1677265200-1677272400@www.kaerjeng.lu
SUMMARY:Assemblée générale – Lénger Trapper
DESCRIPTION:
URL:https://www.kaerjeng.lu/evenement/assemblee-generale-lenger-trapper-2/
LOCATION:Linger – Hall sportif
CATEGORIES:Agenda
ATTACH;FMTTYPE=image/jpeg:https://www.kaerjeng.lu/wp-content/uploads/2021/08/AG.jpg
END:VEVENT
BEGIN:VEVENT
DTSTART;TZID=Europe/Luxembourg:20230225T143000
DTEND;TZID=Europe/Luxembourg:20230225T170000
DTSTAMP:20260424T115714
CREATED:20221219T150728Z
LAST-MODIFIED:20221219T150728Z
UID:10000924-1677335400-1677344400@www.kaerjeng.lu
SUMMARY:Hämmelsmarsch - Féngeger Gesank
DESCRIPTION:
URL:https://www.kaerjeng.lu/evenement/hammelsmarsch-fengeger-gesank/
LOCATION:Fingig
CATEGORIES:Agenda
ATTACH;FMTTYPE=image/jpeg:https://www.kaerjeng.lu/wp-content/uploads/2020/10/event.jpg
END:VEVENT
BEGIN:VEVENT
DTSTART;TZID=Europe/Luxembourg:20230225T190000
DTEND;TZID=Europe/Luxembourg:20230225T230000
DTSTAMP:20260424T115714
CREATED:20221219T150848Z
LAST-MODIFIED:20221219T150848Z
UID:10000926-1677351600-1677366000@www.kaerjeng.lu
SUMMARY:Buergbrennen	- Club des Jeunes Kënzeg
DESCRIPTION:
URL:https://www.kaerjeng.lu/evenement/buergbrennen-club-des-jeunes-kenzeg/
LOCATION:Clemency – Waassertuerm
CATEGORIES:Agenda
ATTACH;FMTTYPE=image/jpeg:https://www.kaerjeng.lu/wp-content/uploads/2020/10/event.jpg
END:VEVENT
BEGIN:VEVENT
DTSTART;TZID=Europe/Luxembourg:20230226T100000
DTEND;TZID=Europe/Luxembourg:20230226T130000
DTSTAMP:20260424T115714
CREATED:20221219T151103Z
LAST-MODIFIED:20221219T151103Z
UID:10001068-1677405600-1677416400@www.kaerjeng.lu
SUMMARY:Assemblée générale - Harmonie Hautcharage + Frënn vun der Harmonie Hautcharage
DESCRIPTION:
URL:https://www.kaerjeng.lu/evenement/assemblee-generale-harmonie-hautcharage-frenn-vun-der-harmonie-hautcharage/
LOCATION:Hautcharage – Centre Polyvalent
CATEGORIES:Agenda
ATTACH;FMTTYPE=image/jpeg:https://www.kaerjeng.lu/wp-content/uploads/2021/08/AG.jpg
END:VEVENT
BEGIN:VEVENT
DTSTART;TZID=Europe/Luxembourg:20230226T140000
DTEND;TZID=Europe/Luxembourg:20230226T170000
DTSTAMP:20260424T115714
CREATED:20230126T151318Z
LAST-MODIFIED:20230209T083737Z
UID:10001100-1677420000-1677430800@www.kaerjeng.lu
SUMMARY:Kannerfuesbal - Elterevereenegung Käerjeng
DESCRIPTION:
URL:https://www.kaerjeng.lu/evenement/kannerfuesbal-elterevereenegung-kaerjeng/
LOCATION:Käerjenger Treff\, 54c\, avenue de Luxembourg\, Bascharage\, Luxembourg
CATEGORIES:Agenda
ATTACH;FMTTYPE=image/jpeg:https://www.kaerjeng.lu/wp-content/uploads/2023/02/Kannerfuesbal-2023.jpg
END:VEVENT
BEGIN:VEVENT
DTSTART;TZID=Europe/Luxembourg:20230226T190000
DTEND;TZID=Europe/Luxembourg:20230226T230000
DTSTAMP:20260424T115714
CREATED:20221219T150950Z
LAST-MODIFIED:20221219T150950Z
UID:10001067-1677438000-1677452400@www.kaerjeng.lu
SUMMARY:Buergbrennen	- Féngiger Jugend
DESCRIPTION:
URL:https://www.kaerjeng.lu/evenement/buergbrennen-fengiger-jugend/
LOCATION:Fingig
CATEGORIES:Agenda
ATTACH;FMTTYPE=image/jpeg:https://www.kaerjeng.lu/wp-content/uploads/2020/10/event.jpg
END:VEVENT
BEGIN:VEVENT
DTSTART;VALUE=DATE:20230304
DTEND;VALUE=DATE:20230305
DTSTAMP:20260424T115714
CREATED:20221220T083951Z
LAST-MODIFIED:20221220T083951Z
UID:10001070-1677888000-1677974399@www.kaerjeng.lu
SUMMARY:Assemblée générale - Amicale Anc. Pompiers Clemency-Fingig
DESCRIPTION:
URL:https://www.kaerjeng.lu/evenement/assemblee-generale-amicale-anc-pompiers-clemency-fingig-2/
LOCATION:Fingig – Salle des Fêtes
CATEGORIES:Agenda
ATTACH;FMTTYPE=image/jpeg:https://www.kaerjeng.lu/wp-content/uploads/2021/08/AG.jpg
END:VEVENT
BEGIN:VEVENT
DTSTART;TZID=Europe/Luxembourg:20230304T100000
DTEND;TZID=Europe/Luxembourg:20230304T140000
DTSTAMP:20260424T115714
CREATED:20230227T092643Z
LAST-MODIFIED:20230227T092643Z
UID:10001124-1677924000-1677938400@www.kaerjeng.lu
SUMMARY:Rouseschnëttcours - Gaart an Heem Uewerkäerjeng
DESCRIPTION:
URL:https://www.kaerjeng.lu/evenement/rouseschnettcours-gaart-an-heem-uewerkaerjeng/
CATEGORIES:Agenda
ATTACH;FMTTYPE=image/jpeg:https://www.kaerjeng.lu/wp-content/uploads/2023/02/Flyer-Rouseschnettcours-20230304-1000.jpg
END:VEVENT
BEGIN:VEVENT
DTSTART;TZID=Europe/Luxembourg:20230304T103000
DTEND;TZID=Europe/Luxembourg:20230304T130000
DTSTAMP:20260424T115714
CREATED:20221220T083856Z
LAST-MODIFIED:20221220T083856Z
UID:10001069-1677925800-1677934800@www.kaerjeng.lu
SUMMARY:Assemblée générale - Käerjenger Theater
DESCRIPTION:
URL:https://www.kaerjeng.lu/evenement/assemblee-generale-kaerjenger-theater-3/
LOCATION:Käerjenger Treff\, 54c\, avenue de Luxembourg\, Bascharage\, Luxembourg
CATEGORIES:Agenda
ATTACH;FMTTYPE=image/jpeg:https://www.kaerjeng.lu/wp-content/uploads/2021/08/AG.jpg
END:VEVENT
BEGIN:VEVENT
DTSTART;VALUE=DATE:20230307
DTEND;VALUE=DATE:20230308
DTSTAMP:20260424T115714
CREATED:20221220T084149Z
LAST-MODIFIED:20221220T084149Z
UID:10001072-1678147200-1678233599@www.kaerjeng.lu
SUMMARY:Ramassage de vieux Vêtements - Aide aux enfants handicapés
DESCRIPTION:
URL:https://www.kaerjeng.lu/evenement/ramassage-de-vieux-vetements-aide-aux-enfants-handicapes/
CATEGORIES:Agenda
ATTACH;FMTTYPE=image/jpeg:https://www.kaerjeng.lu/wp-content/uploads/2020/10/event.jpg
END:VEVENT
BEGIN:VEVENT
DTSTART;TZID=Europe/Luxembourg:20230310T183000
DTEND;TZID=Europe/Luxembourg:20230310T210000
DTSTAMP:20260424T115714
CREATED:20230222T104629Z
LAST-MODIFIED:20230222T123750Z
UID:10000950-1678473000-1678482000@www.kaerjeng.lu
SUMMARY:Assemblée générale - Amis des marcheurs Bascharage
DESCRIPTION:
URL:https://www.kaerjeng.lu/evenement/assemblee-generale-amis-des-marcheurs-bascharage/
LOCATION:Käerjenger Treff\, 54c\, avenue de Luxembourg\, Bascharage\, Luxembourg
CATEGORIES:Agenda
ATTACH;FMTTYPE=image/jpeg:https://www.kaerjeng.lu/wp-content/uploads/2021/08/AG.jpg
END:VEVENT
BEGIN:VEVENT
DTSTART;TZID=Europe/Luxembourg:20230311T200000
DTEND;TZID=Europe/Luxembourg:20230311T230000
DTSTAMP:20260424T115714
CREATED:20221220T084404Z
LAST-MODIFIED:20230208T144155Z
UID:10001073-1678564800-1678575600@www.kaerjeng.lu
SUMMARY:Concert "Once upon a time…" - Käerjenger Musekschoul
DESCRIPTION:
URL:https://www.kaerjeng.lu/evenement/concert-once-upon-a-time-kaerjenger-musekschoul/
LOCATION:Luxembourg – Philharmonie
CATEGORIES:Agenda
ATTACH;FMTTYPE=image/jpeg:https://www.kaerjeng.lu/wp-content/uploads/2023/02/Annonce-Morricone.jpg
END:VEVENT
BEGIN:VEVENT
DTSTART;TZID=Europe/Luxembourg:20230312T100000
DTEND;TZID=Europe/Luxembourg:20230312T120000
DTSTAMP:20260424T115714
CREATED:20221220T084103Z
LAST-MODIFIED:20230118T145602Z
UID:10001071-1678615200-1678622400@www.kaerjeng.lu
SUMMARY:Assemblée générale - Harmonie Kéinzig
DESCRIPTION:
URL:https://www.kaerjeng.lu/evenement/assemblee-generale-harmonie-keinzig-2/
LOCATION:Clemency – Salle des Fêtes
CATEGORIES:Agenda
ATTACH;FMTTYPE=image/jpeg:https://www.kaerjeng.lu/wp-content/uploads/2021/08/AG.jpg
END:VEVENT
BEGIN:VEVENT
DTSTART;TZID=Europe/Luxembourg:20230312T160000
DTEND;TZID=Europe/Luxembourg:20230312T180000
DTSTAMP:20260424T115714
CREATED:20230222T123918Z
LAST-MODIFIED:20230222T123918Z
UID:10000952-1678636800-1678644000@www.kaerjeng.lu
SUMMARY:Assemblée générale - Gaart an Heem Uewerkäerjeng
DESCRIPTION:
URL:https://www.kaerjeng.lu/evenement/assemblee-generale-gaart-an-heem-uewerkaerjeng-2/
LOCATION:Hautcharage – Centre Polyvalent
CATEGORIES:Agenda
ATTACH;FMTTYPE=image/jpeg:https://www.kaerjeng.lu/wp-content/uploads/2021/08/AG.jpg
END:VEVENT
BEGIN:VEVENT
DTSTART;TZID=Europe/Luxembourg:20230314T190000
DTEND;TZID=Europe/Luxembourg:20230314T210000
DTSTAMP:20260424T115714
CREATED:20230126T151553Z
LAST-MODIFIED:20230126T151553Z
UID:10001101-1678820400-1678827600@www.kaerjeng.lu
SUMMARY:Assemblée générale - Käerjeng Hëlleft
DESCRIPTION:
URL:https://www.kaerjeng.lu/evenement/assemblee-generale-kaerjeng-helleft-3/
LOCATION:Käerjenger Treff\, 54c\, avenue de Luxembourg\, Bascharage\, Luxembourg
CATEGORIES:Agenda
ATTACH;FMTTYPE=image/jpeg:https://www.kaerjeng.lu/wp-content/uploads/2021/08/AG.jpg
END:VEVENT
BEGIN:VEVENT
DTSTART;VALUE=DATE:20230318
DTEND;VALUE=DATE:20230319
DTSTAMP:20260424T115714
CREATED:20221220T084655Z
LAST-MODIFIED:20230310T150807Z
UID:10001074-1679097600-1679183999@www.kaerjeng.lu
SUMMARY:Sketch FuFu - FC ES Clemency / TC Kéinzig-Féngeg
DESCRIPTION:
URL:https://www.kaerjeng.lu/evenement/sketch-fufu-fc-es-clemency-tc-keinzig-fengeg/
LOCATION:Clemency – Salle des Fêtes
CATEGORIES:Agenda
ATTACH;FMTTYPE=image/jpeg:https://www.kaerjeng.lu/wp-content/uploads/2023/03/Sketch-Fufu.jpg
END:VEVENT
BEGIN:VEVENT
DTSTART;VALUE=DATE:20230318
DTEND;VALUE=DATE:20230319
DTSTAMP:20260424T115714
CREATED:20221220T090634Z
LAST-MODIFIED:20230301T141256Z
UID:10001075-1679097600-1679183999@www.kaerjeng.lu
SUMMARY:Grouss Botz - Ëmweltkommissioun
DESCRIPTION:
URL:https://www.kaerjeng.lu/evenement/grouss-botz-emweltkommissioun-3/
CATEGORIES:Agenda
ATTACH;FMTTYPE=image/jpeg:https://www.kaerjeng.lu/wp-content/uploads/2023/03/Flyer-Freijoersbotz-2023.jpg
END:VEVENT
BEGIN:VEVENT
DTSTART;VALUE=DATE:20230318
DTEND;VALUE=DATE:20230319
DTSTAMP:20260424T115714
CREATED:20230126T151920Z
LAST-MODIFIED:20230126T151920Z
UID:10001102-1679097600-1679183999@www.kaerjeng.lu
SUMMARY:Journée des inscriptions (Gemengewalen)
DESCRIPTION:
URL:https://www.kaerjeng.lu/evenement/journee-des-inscriptions-gemengewalen/
LOCATION:Bascharage – Mairie\, 24\, rue de l'Eau\, Bascharage\, L-4920\, Luxembourg
CATEGORIES:Agenda
ATTACH;FMTTYPE=image/jpeg:https://www.kaerjeng.lu/wp-content/uploads/2020/10/event.jpg
END:VEVENT
BEGIN:VEVENT
DTSTART;TZID=Europe/Luxembourg:20230318T080000
DTEND;TZID=Europe/Luxembourg:20230318T130000
DTSTAMP:20260424T115714
CREATED:20221220T090726Z
LAST-MODIFIED:20221220T090726Z
UID:10001076-1679126400-1679144400@www.kaerjeng.lu
SUMMARY:National Kongress - Natur an Ëmwelt ASBL
DESCRIPTION:
URL:https://www.kaerjeng.lu/evenement/national-kongress-natur-an-emwelt-asbl/
LOCATION:Käerjenger Treff\, 54c\, avenue de Luxembourg\, Bascharage\, Luxembourg
CATEGORIES:Agenda
ATTACH;FMTTYPE=image/jpeg:https://www.kaerjeng.lu/wp-content/uploads/2020/10/event.jpg
END:VEVENT
BEGIN:VEVENT
DTSTART;TZID=Europe/Luxembourg:20230319T150000
DTEND;TZID=Europe/Luxembourg:20230319T190000
DTSTAMP:20260424T115714
CREATED:20221220T090814Z
LAST-MODIFIED:20230310T102208Z
UID:10001077-1679238000-1679252400@www.kaerjeng.lu
SUMMARY:Youth in Concert - Frënn vun der Harmonie Hautcharage
DESCRIPTION:
URL:https://www.kaerjeng.lu/evenement/youth-in-concert-frenn-vun-der-harmonie-hautcharage/
LOCATION:Hautcharage – Centre Polyvalent
CATEGORIES:Agenda
ATTACH;FMTTYPE=image/jpeg:https://www.kaerjeng.lu/wp-content/uploads/2023/02/Youth-in-Concert-2023.jpg
END:VEVENT
BEGIN:VEVENT
DTSTART;TZID=Europe/Luxembourg:20230319T190000
DTEND;TZID=Europe/Luxembourg:20230319T220000
DTSTAMP:20260424T115714
CREATED:20221220T090900Z
LAST-MODIFIED:20230210T143640Z
UID:10001078-1679252400-1679263200@www.kaerjeng.lu
SUMMARY:Virstellung Carlo an Yannchen Hoffmann - Kulturkommissioun
DESCRIPTION:
URL:https://www.kaerjeng.lu/evenement/virstellung-carlo-an-yannchen-hoffmann-kulturkommissioun/
LOCATION:Käerjenger Treff\, 54c\, avenue de Luxembourg\, Bascharage\, Luxembourg
CATEGORIES:Agenda
ATTACH;FMTTYPE=image/jpeg:https://www.kaerjeng.lu/wp-content/uploads/2023/02/Artikel-visuel.jpg
END:VEVENT
BEGIN:VEVENT
DTSTART;VALUE=DATE:20230324
DTEND;VALUE=DATE:20230326
DTSTAMP:20260424T115714
CREATED:20221220T090951Z
LAST-MODIFIED:20230310T150856Z
UID:10001079-1679616000-1679788799@www.kaerjeng.lu
SUMMARY:Sketch FuFu - FC ES Clemency / TC Kéinzig-Féngeg
DESCRIPTION:
URL:https://www.kaerjeng.lu/evenement/sketch-fufu-fc-es-clemency-tc-keinzig-fengeg-2/
LOCATION:Clemency – Salle des Fêtes
CATEGORIES:Agenda
ATTACH;FMTTYPE=image/jpeg:https://www.kaerjeng.lu/wp-content/uploads/2023/03/Sketch-Fufu.jpg
END:VEVENT
BEGIN:VEVENT
DTSTART;TZID=Europe/Luxembourg:20230325T200000
DTEND;TZID=Europe/Luxembourg:20230325T230000
DTSTAMP:20260424T115714
CREATED:20221220T091034Z
LAST-MODIFIED:20230316T150507Z
UID:10001080-1679774400-1679785200@www.kaerjeng.lu
SUMMARY:Gala Concert - Harmonie Municipale Bascharage
DESCRIPTION:
URL:https://www.kaerjeng.lu/evenement/gala-concert-harmonie-municipale-bascharage-2/
LOCATION:Käerjenger Treff\, 54c\, avenue de Luxembourg\, Bascharage\, Luxembourg
CATEGORIES:Agenda
ATTACH;FMTTYPE=image/jpeg:https://www.kaerjeng.lu/wp-content/uploads/2023/03/Gala-Showconcert-HMB-2023.jpg
END:VEVENT
BEGIN:VEVENT
DTSTART;TZID=Europe/Luxembourg:20230326T110000
DTEND;TZID=Europe/Luxembourg:20230326T140000
DTSTAMP:20260424T115714
CREATED:20221220T091138Z
LAST-MODIFIED:20230222T124610Z
UID:10001081-1679828400-1679839200@www.kaerjeng.lu
SUMMARY:Assemblée générale - Playmo-Frënn
DESCRIPTION:
URL:https://www.kaerjeng.lu/evenement/assemblee-generale-playmo-frenn/
LOCATION:Clemency – Brasserie Op der Gare
CATEGORIES:Agenda
ATTACH;FMTTYPE=image/jpeg:https://www.kaerjeng.lu/wp-content/uploads/2021/08/AG.jpg
END:VEVENT
END:VCALENDAR