BEGIN:VCALENDAR
VERSION:2.0
PRODID:-//Käerjeng - ECPv6.15.17.1//NONSGML v1.0//EN
CALSCALE:GREGORIAN
METHOD:PUBLISH
X-ORIGINAL-URL:https://www.kaerjeng.lu
X-WR-CALDESC:Évènements pour Käerjeng
REFRESH-INTERVAL;VALUE=DURATION:PT1H
X-Robots-Tag:noindex
X-PUBLISHED-TTL:PT1H
BEGIN:VTIMEZONE
TZID:Europe/Luxembourg
BEGIN:DAYLIGHT
TZOFFSETFROM:+0100
TZOFFSETTO:+0200
TZNAME:CEST
DTSTART:20250330T010000
END:DAYLIGHT
BEGIN:STANDARD
TZOFFSETFROM:+0200
TZOFFSETTO:+0100
TZNAME:CET
DTSTART:20251026T010000
END:STANDARD
BEGIN:DAYLIGHT
TZOFFSETFROM:+0100
TZOFFSETTO:+0200
TZNAME:CEST
DTSTART:20260329T010000
END:DAYLIGHT
BEGIN:STANDARD
TZOFFSETFROM:+0200
TZOFFSETTO:+0100
TZNAME:CET
DTSTART:20261025T010000
END:STANDARD
BEGIN:DAYLIGHT
TZOFFSETFROM:+0100
TZOFFSETTO:+0200
TZNAME:CEST
DTSTART:20270328T010000
END:DAYLIGHT
BEGIN:STANDARD
TZOFFSETFROM:+0200
TZOFFSETTO:+0100
TZNAME:CET
DTSTART:20271031T010000
END:STANDARD
END:VTIMEZONE
BEGIN:VEVENT
DTSTART;VALUE=DATE:20261017
DTEND;VALUE=DATE:20261018
DTSTAMP:20260424T143051
CREATED:20260129T154527Z
LAST-MODIFIED:20260129T154527Z
UID:10001695-1792195200-1792281599@www.kaerjeng.lu
SUMMARY:Vizfest - Gaart an Heem Uewerkäerjeng
DESCRIPTION:
URL:https://www.kaerjeng.lu/evenement/vizfest-gaart-an-heem-uewerkaerjeng-4/
LOCATION:Hautcharage
CATEGORIES:Agenda
ATTACH;FMTTYPE=image/jpeg:https://www.kaerjeng.lu/wp-content/uploads/2020/10/event.jpg
END:VEVENT
BEGIN:VEVENT
DTSTART;VALUE=DATE:20261018
DTEND;VALUE=DATE:20261019
DTSTAMP:20260424T143051
CREATED:20260129T154616Z
LAST-MODIFIED:20260129T154616Z
UID:10001696-1792281600-1792367999@www.kaerjeng.lu
SUMMARY:Uewerkäerjenger Kiermes - Harmonie Hautcharage
DESCRIPTION:
URL:https://www.kaerjeng.lu/evenement/uewerkaerjenger-kiermes-harmonie-hautcharage/
LOCATION:Hautcharage – Centre Polyvalent
CATEGORIES:Agenda
ATTACH;FMTTYPE=image/jpeg:https://www.kaerjeng.lu/wp-content/uploads/2020/10/event.jpg
END:VEVENT
BEGIN:VEVENT
DTSTART;VALUE=DATE:20261018
DTEND;VALUE=DATE:20261019
DTSTAMP:20260424T143051
CREATED:20260129T154711Z
LAST-MODIFIED:20260129T154723Z
UID:10001697-1792281600-1792367999@www.kaerjeng.lu
SUMMARY:KonschtTreff - Kulturkommissioun
DESCRIPTION:
URL:https://www.kaerjeng.lu/evenement/konschttreff-kulturkommissioun-5/
LOCATION:Käerjenger Treff\, 54c\, avenue de Luxembourg\, Bascharage\, Luxembourg
CATEGORIES:Agenda
ATTACH;FMTTYPE=image/jpeg:https://www.kaerjeng.lu/wp-content/uploads/2020/10/event.jpg
END:VEVENT
BEGIN:VEVENT
DTSTART;VALUE=DATE:20261024
DTEND;VALUE=DATE:20261025
DTSTAMP:20260424T143051
CREATED:20260129T154920Z
LAST-MODIFIED:20260129T154920Z
UID:10001698-1792800000-1792886399@www.kaerjeng.lu
SUMMARY:Mullenowend - DT Féngig
DESCRIPTION:
URL:https://www.kaerjeng.lu/evenement/mullenowend-dt-fengig-3/
LOCATION:Fingig – Salle des Fêtes
CATEGORIES:Agenda
ATTACH;FMTTYPE=image/jpeg:https://www.kaerjeng.lu/wp-content/uploads/2020/10/event.jpg
END:VEVENT
BEGIN:VEVENT
DTSTART;VALUE=DATE:20261025
DTEND;VALUE=DATE:20261026
DTSTAMP:20260424T143051
CREATED:20260129T155009Z
LAST-MODIFIED:20260129T155009Z
UID:10001699-1792886400-1792972799@www.kaerjeng.lu
SUMMARY:Social gaming - Elterevereenegung Kéinzig-Féngig
DESCRIPTION:
URL:https://www.kaerjeng.lu/evenement/social-gaming-elterevereenegung-keinzig-fengig-2/
LOCATION:Clemency – Salle des Fêtes
CATEGORIES:Agenda
ATTACH;FMTTYPE=image/jpeg:https://www.kaerjeng.lu/wp-content/uploads/2020/10/event.jpg
END:VEVENT
BEGIN:VEVENT
DTSTART;VALUE=DATE:20261026
DTEND;VALUE=DATE:20261027
DTSTAMP:20260424T143051
CREATED:20260129T155128Z
LAST-MODIFIED:20260129T155128Z
UID:10001700-1792972800-1793059199@www.kaerjeng.lu
SUMMARY:Assemblée générale - Elterevereenegung Kéinzig-Féngig
DESCRIPTION:
URL:https://www.kaerjeng.lu/evenement/assemblee-generale-elterevereenegung-keinzig-fengig-2/
LOCATION:Clemency – Salle des Fêtes
CATEGORIES:Agenda
ATTACH;FMTTYPE=image/jpeg:https://www.kaerjeng.lu/wp-content/uploads/2021/08/AG.jpg
END:VEVENT
BEGIN:VEVENT
DTSTART;VALUE=DATE:20261031
DTEND;VALUE=DATE:20261102
DTSTAMP:20260424T143051
CREATED:20260129T155220Z
LAST-MODIFIED:20260129T155220Z
UID:10001701-1793404800-1793577599@www.kaerjeng.lu
SUMMARY:Glow in the dark Minigolf - Jugendtreff Käerjeng
DESCRIPTION:
URL:https://www.kaerjeng.lu/evenement/glow-in-the-dark-minigolf-jugendtreff-kaerjeng/
LOCATION:Käerjenger Treff\, 54c\, avenue de Luxembourg\, Bascharage\, Luxembourg
CATEGORIES:Agenda
ATTACH;FMTTYPE=image/jpeg:https://www.kaerjeng.lu/wp-content/uploads/2020/10/event.jpg
END:VEVENT
BEGIN:VEVENT
DTSTART;VALUE=DATE:20261107
DTEND;VALUE=DATE:20261108
DTSTAMP:20260424T143051
CREATED:20260129T155402Z
LAST-MODIFIED:20260129T155402Z
UID:10001702-1794009600-1794095999@www.kaerjeng.lu
SUMMARY:Quizowend - TC Kéinzig-Féngig
DESCRIPTION:
URL:https://www.kaerjeng.lu/evenement/quizowend-tc-keinzig-fengig/
LOCATION:Clemency – Salle des Fêtes
CATEGORIES:Agenda
ATTACH;FMTTYPE=image/jpeg:https://www.kaerjeng.lu/wp-content/uploads/2020/10/event.jpg
END:VEVENT
BEGIN:VEVENT
DTSTART;VALUE=DATE:20261114
DTEND;VALUE=DATE:20261115
DTSTAMP:20260424T143051
CREATED:20260129T155447Z
LAST-MODIFIED:20260129T155447Z
UID:10001703-1794614400-1794700799@www.kaerjeng.lu
SUMMARY:Cäcilieconcert - Harmonie Municipale Bascharage
DESCRIPTION:
URL:https://www.kaerjeng.lu/evenement/cacilieconcert-harmonie-municipale-bascharage-5/
LOCATION:Käerjenger Treff\, 54c\, avenue de Luxembourg\, Bascharage\, Luxembourg
CATEGORIES:Agenda
ATTACH;FMTTYPE=image/jpeg:https://www.kaerjeng.lu/wp-content/uploads/2020/10/event.jpg
END:VEVENT
BEGIN:VEVENT
DTSTART;VALUE=DATE:20261120
DTEND;VALUE=DATE:20261121
DTSTAMP:20260424T143051
CREATED:20260129T155528Z
LAST-MODIFIED:20260129T155528Z
UID:10001704-1795132800-1795219199@www.kaerjeng.lu
SUMMARY:Vernissage Salon d'auteurs - Fotosfrënn Käerjeng
DESCRIPTION:
URL:https://www.kaerjeng.lu/evenement/vernissage-salon-dauteurs-fotosfrenn-kaerjeng-3/
LOCATION:Käerjenger Treff\, 54c\, avenue de Luxembourg\, Bascharage\, Luxembourg
CATEGORIES:Agenda
ATTACH;FMTTYPE=image/jpeg:https://www.kaerjeng.lu/wp-content/uploads/2020/10/event.jpg
END:VEVENT
BEGIN:VEVENT
DTSTART;VALUE=DATE:20261121
DTEND;VALUE=DATE:20261123
DTSTAMP:20260424T143051
CREATED:20260129T155610Z
LAST-MODIFIED:20260129T155610Z
UID:10001705-1795219200-1795391999@www.kaerjeng.lu
SUMMARY:Wantermaart - Käerjenger Guiden a Scouten
DESCRIPTION:
URL:https://www.kaerjeng.lu/evenement/wantermaart-kaerjenger-guiden-a-scouten-2/
LOCATION:Clemency – Salle des Fêtes
CATEGORIES:Agenda
ATTACH;FMTTYPE=image/jpeg:https://www.kaerjeng.lu/wp-content/uploads/2020/10/event.jpg
END:VEVENT
BEGIN:VEVENT
DTSTART;VALUE=DATE:20261126
DTEND;VALUE=DATE:20261127
DTSTAMP:20260424T143051
CREATED:20260129T155655Z
LAST-MODIFIED:20260129T155825Z
UID:10001706-1795651200-1795737599@www.kaerjeng.lu
SUMMARY:Rentnerfeier - 3. Alterskommissioun
DESCRIPTION:
URL:https://www.kaerjeng.lu/evenement/rentnerfeier/
LOCATION:Käerjenger Treff\, 54c\, avenue de Luxembourg\, Bascharage\, Luxembourg
CATEGORIES:Agenda
ATTACH;FMTTYPE=image/jpeg:https://www.kaerjeng.lu/wp-content/uploads/2020/10/event.jpg
END:VEVENT
BEGIN:VEVENT
DTSTART;VALUE=DATE:20261127
DTEND;VALUE=DATE:20261128
DTSTAMP:20260424T143051
CREATED:20260129T155754Z
LAST-MODIFIED:20260129T155754Z
UID:10001707-1795737600-1795823999@www.kaerjeng.lu
SUMMARY:Rentnerfeier - 3. Alterskomissioun
DESCRIPTION:
URL:https://www.kaerjeng.lu/evenement/rentnerfeier-3-alterskomissioun/
LOCATION:Käerjenger Treff\, 54c\, avenue de Luxembourg\, Bascharage\, Luxembourg
CATEGORIES:Agenda
ATTACH;FMTTYPE=image/jpeg:https://www.kaerjeng.lu/wp-content/uploads/2020/10/event.jpg
END:VEVENT
BEGIN:VEVENT
DTSTART;VALUE=DATE:20261128
DTEND;VALUE=DATE:20261129
DTSTAMP:20260424T143051
CREATED:20260129T155933Z
LAST-MODIFIED:20260129T155933Z
UID:10001708-1795824000-1795910399@www.kaerjeng.lu
SUMMARY:Wanterconcert - Harmonie Hautcharage
DESCRIPTION:
URL:https://www.kaerjeng.lu/evenement/wanterconcert-harmonie-hautcharage-6/
LOCATION:Hautcharage – Centre Polyvalent
CATEGORIES:Agenda
ATTACH;FMTTYPE=image/jpeg:https://www.kaerjeng.lu/wp-content/uploads/2020/10/event.jpg
END:VEVENT
BEGIN:VEVENT
DTSTART;VALUE=DATE:20261204
DTEND;VALUE=DATE:20261207
DTSTAMP:20260424T143051
CREATED:20260129T160019Z
LAST-MODIFIED:20260129T160019Z
UID:10001709-1796342400-1796601599@www.kaerjeng.lu
SUMMARY:Käerjenger Chrëschtmaart
DESCRIPTION:
URL:https://www.kaerjeng.lu/evenement/kaerjenger-chreschtmaart-9/
LOCATION:Bascharage – Place Claus Cito
CATEGORIES:Agenda
ATTACH;FMTTYPE=image/jpeg:https://www.kaerjeng.lu/wp-content/uploads/2020/10/event.jpg
END:VEVENT
BEGIN:VEVENT
DTSTART;VALUE=DATE:20261206
DTEND;VALUE=DATE:20261207
DTSTAMP:20260424T143051
CREATED:20260129T160102Z
LAST-MODIFIED:20260129T160102Z
UID:10001710-1796515200-1796601599@www.kaerjeng.lu
SUMMARY:Tournoi Nicole Rischard - DT Nidderkäerjeng
DESCRIPTION:
URL:https://www.kaerjeng.lu/evenement/tournoi-nicole-rischard-dt-nidderkaerjeng/
LOCATION:Bascharage – Op Acker
CATEGORIES:Agenda
ATTACH;FMTTYPE=image/jpeg:https://www.kaerjeng.lu/wp-content/uploads/2020/10/event.jpg
END:VEVENT
BEGIN:VEVENT
DTSTART;VALUE=DATE:20261211
DTEND;VALUE=DATE:20261214
DTSTAMP:20260424T143051
CREATED:20260129T160151Z
LAST-MODIFIED:20260129T160151Z
UID:10001711-1796947200-1797206399@www.kaerjeng.lu
SUMMARY:Chrëschttheater - Käerjenger Theater
DESCRIPTION:
URL:https://www.kaerjeng.lu/evenement/chreschttheater-kaerjenger-theater-2/
LOCATION:Käerjenger Treff\, 54c\, avenue de Luxembourg\, Bascharage\, Luxembourg
CATEGORIES:Agenda
ATTACH;FMTTYPE=image/jpeg:https://www.kaerjeng.lu/wp-content/uploads/2020/10/event.jpg
END:VEVENT
BEGIN:VEVENT
DTSTART;VALUE=DATE:20261219
DTEND;VALUE=DATE:20261220
DTSTAMP:20260424T143051
CREATED:20260129T160232Z
LAST-MODIFIED:20260129T160232Z
UID:10001712-1797638400-1797724799@www.kaerjeng.lu
SUMMARY:Music Cocktail - Harmonie Clemency
DESCRIPTION:
URL:https://www.kaerjeng.lu/evenement/music-cocktail-harmonie-clemency/
LOCATION:Clemency – Salle des Fêtes
CATEGORIES:Agenda
ATTACH;FMTTYPE=image/jpeg:https://www.kaerjeng.lu/wp-content/uploads/2020/10/event.jpg
END:VEVENT
BEGIN:VEVENT
DTSTART;VALUE=DATE:20261220
DTEND;VALUE=DATE:20261221
DTSTAMP:20260424T143051
CREATED:20260129T160325Z
LAST-MODIFIED:20260129T160325Z
UID:10001713-1797724800-1797811199@www.kaerjeng.lu
SUMMARY:Chrëschtmaart - Féngeger Gesank
DESCRIPTION:
URL:https://www.kaerjeng.lu/evenement/chreschtmaart-fengeger-gesank/
LOCATION:Fingig – Salle des Fêtes
CATEGORIES:Agenda
ATTACH;FMTTYPE=image/jpeg:https://www.kaerjeng.lu/wp-content/uploads/2020/10/event.jpg
END:VEVENT
BEGIN:VEVENT
DTSTART;VALUE=DATE:20261224
DTEND;VALUE=DATE:20261225
DTSTAMP:20260424T143051
CREATED:20260129T160428Z
LAST-MODIFIED:20260129T160428Z
UID:10001714-1798070400-1798156799@www.kaerjeng.lu
SUMMARY:Helleg Owend - Kéinzeger Fräschen
DESCRIPTION:
URL:https://www.kaerjeng.lu/evenement/helleg-owend-keinzeger-fraschen/
LOCATION:Clemency
CATEGORIES:Agenda
ATTACH;FMTTYPE=image/jpeg:https://www.kaerjeng.lu/wp-content/uploads/2020/10/event.jpg
END:VEVENT
END:VCALENDAR