BEGIN:VCALENDAR
VERSION:2.0
PRODID:-//Käerjeng - ECPv6.15.17.1//NONSGML v1.0//EN
CALSCALE:GREGORIAN
METHOD:PUBLISH
X-WR-CALNAME:Käerjeng
X-ORIGINAL-URL:https://www.kaerjeng.lu
X-WR-CALDESC:Évènements pour Käerjeng
REFRESH-INTERVAL;VALUE=DURATION:PT1H
X-Robots-Tag:noindex
X-PUBLISHED-TTL:PT1H
BEGIN:VTIMEZONE
TZID:Europe/Luxembourg
BEGIN:DAYLIGHT
TZOFFSETFROM:+0100
TZOFFSETTO:+0200
TZNAME:CEST
DTSTART:20210328T010000
END:DAYLIGHT
BEGIN:STANDARD
TZOFFSETFROM:+0200
TZOFFSETTO:+0100
TZNAME:CET
DTSTART:20211031T010000
END:STANDARD
BEGIN:DAYLIGHT
TZOFFSETFROM:+0100
TZOFFSETTO:+0200
TZNAME:CEST
DTSTART:20220327T010000
END:DAYLIGHT
BEGIN:STANDARD
TZOFFSETFROM:+0200
TZOFFSETTO:+0100
TZNAME:CET
DTSTART:20221030T010000
END:STANDARD
BEGIN:DAYLIGHT
TZOFFSETFROM:+0100
TZOFFSETTO:+0200
TZNAME:CEST
DTSTART:20230326T010000
END:DAYLIGHT
BEGIN:STANDARD
TZOFFSETFROM:+0200
TZOFFSETTO:+0100
TZNAME:CET
DTSTART:20231029T010000
END:STANDARD
BEGIN:DAYLIGHT
TZOFFSETFROM:+0100
TZOFFSETTO:+0200
TZNAME:CEST
DTSTART:20240331T010000
END:DAYLIGHT
BEGIN:STANDARD
TZOFFSETFROM:+0200
TZOFFSETTO:+0100
TZNAME:CET
DTSTART:20241027T010000
END:STANDARD
END:VTIMEZONE
BEGIN:VEVENT
DTSTART;TZID=Europe/Luxembourg:20221119T140000
DTEND;TZID=Europe/Luxembourg:20221120T200000
DTSTAMP:20260422T215919
CREATED:20221018T071048Z
LAST-MODIFIED:20221031T095507Z
UID:10001039-1668866400-1668974400@www.kaerjeng.lu
SUMMARY:Wantermaart - Guiden a Scouten Käerjeng
DESCRIPTION:
URL:https://www.kaerjeng.lu/evenement/adventsbazar-guiden-a-scouten-kaerjeng/
LOCATION:Clemency – Scoutshome\, 1\, rue de la Gare\, Clemency\, 4966\, Luxembourg
CATEGORIES:Agenda
ATTACH;FMTTYPE=image/jpeg:https://www.kaerjeng.lu/wp-content/uploads/2022/10/Wantermaart-GS-2022.jpg
END:VEVENT
BEGIN:VEVENT
DTSTART;TZID=Europe/Luxembourg:20221119T190000
DTEND;TZID=Europe/Luxembourg:20221119T230000
DTSTAMP:20260422T215919
CREATED:20220920T075555Z
LAST-MODIFIED:20221107T101746Z
UID:10001033-1668884400-1668898800@www.kaerjeng.lu
SUMMARY:Kéisowend - Harmonie Kéinzig
DESCRIPTION:
URL:https://www.kaerjeng.lu/evenement/keisowend-harmonie-keinzig/
LOCATION:Clemency – Salle des Fêtes
CATEGORIES:Agenda
ATTACH;FMTTYPE=image/jpeg:https://www.kaerjeng.lu/wp-content/uploads/2022/11/Keisowend-2022.jpg
END:VEVENT
BEGIN:VEVENT
DTSTART;TZID=Europe/Luxembourg:20221119T190000
DTEND;TZID=Europe/Luxembourg:20221119T233000
DTSTAMP:20260422T215919
CREATED:20221028T091415Z
LAST-MODIFIED:20221028T142143Z
UID:10001053-1668884400-1668900600@www.kaerjeng.lu
SUMMARY:KaBoulette Bal - KaBoule Asbl
DESCRIPTION:
URL:https://www.kaerjeng.lu/evenement/kaboulette-bal-kaboule-asbl/
LOCATION:Bascharage – Café des Sports
CATEGORIES:Agenda
ATTACH;FMTTYPE=image/jpeg:https://www.kaerjeng.lu/wp-content/uploads/2022/10/Kaboulette-Bal.jpg
END:VEVENT
BEGIN:VEVENT
DTSTART;TZID=Europe/Luxembourg:20221125T160000
DTEND;TZID=Europe/Luxembourg:20221125T193000
DTSTAMP:20260422T215919
CREATED:20221110T102228Z
LAST-MODIFIED:20221110T102359Z
UID:10001057-1669392000-1669404600@www.kaerjeng.lu
SUMMARY:Chrëschtmaart - Maison Relais Käerjeng
DESCRIPTION:
URL:https://www.kaerjeng.lu/evenement/chreschtmaart-maison-relais-kaerjeng/
LOCATION:Bascharage – Acker
CATEGORIES:Agenda
END:VEVENT
BEGIN:VEVENT
DTSTART;TZID=Europe/Luxembourg:20221125T190000
DTEND;TZID=Europe/Luxembourg:20221125T230000
DTSTAMP:20260422T215919
CREATED:20221018T071159Z
LAST-MODIFIED:20221018T071159Z
UID:10001040-1669402800-1669417200@www.kaerjeng.lu
SUMMARY:Salon d'auteurs & Salon National FLPA - Fotosfrënn Käerjeng
DESCRIPTION:
URL:https://www.kaerjeng.lu/evenement/salon-dauteurs-salon-national-flpa-fotosfrenn-kaerjeng/
LOCATION:Käerjenger Treff\, 54c\, avenue de Luxembourg\, Bascharage\, Luxembourg
CATEGORIES:Agenda
ATTACH;FMTTYPE=image/jpeg:https://www.kaerjeng.lu/wp-content/uploads/2020/10/event.jpg
END:VEVENT
BEGIN:VEVENT
DTSTART;TZID=Europe/Luxembourg:20221126T090000
DTEND;TZID=Europe/Luxembourg:20221126T170000
DTSTAMP:20260422T215919
CREATED:20221018T071236Z
LAST-MODIFIED:20221104T100147Z
UID:10001041-1669453200-1669482000@www.kaerjeng.lu
SUMMARY:Rees op Tréier	- Kulturkommissioun
DESCRIPTION:
URL:https://www.kaerjeng.lu/evenement/rees-op-treier-kulturkommissioun/
CATEGORIES:Agenda
ATTACH;FMTTYPE=image/jpeg:https://www.kaerjeng.lu/wp-content/uploads/2022/11/Visite-Trier.jpg
END:VEVENT
BEGIN:VEVENT
DTSTART;TZID=Europe/Luxembourg:20221126T200000
DTEND;TZID=Europe/Luxembourg:20221126T230000
DTSTAMP:20260422T215919
CREATED:20221018T071350Z
LAST-MODIFIED:20221121T081743Z
UID:10001042-1669492800-1669503600@www.kaerjeng.lu
SUMMARY:Wanterconcert - Harmonie Hautcharage
DESCRIPTION:
URL:https://www.kaerjeng.lu/evenement/wanterconcert-harmonie-hautcharage-2/
LOCATION:Hautcharage – Centre Polyvalent
CATEGORIES:Agenda
ATTACH;FMTTYPE=image/jpeg:https://www.kaerjeng.lu/wp-content/uploads/2022/11/Affiche_Wanterconcert-2022.jpg
END:VEVENT
BEGIN:VEVENT
DTSTART;TZID=Europe/Luxembourg:20221127T170000
DTEND;TZID=Europe/Luxembourg:20221127T190000
DTSTAMP:20260422T215919
CREATED:20221114T130147Z
LAST-MODIFIED:20221117T084133Z
UID:10001059-1669568400-1669575600@www.kaerjeng.lu
SUMMARY:Advents Concert - Harmonie Kéinzeg
DESCRIPTION:
URL:https://www.kaerjeng.lu/evenement/concert-spirituel-harmonie-keinzeg/
LOCATION:Clemency – Eglise
CATEGORIES:Agenda
ATTACH;FMTTYPE=image/jpeg:https://www.kaerjeng.lu/wp-content/uploads/2022/11/Advents-Concert-2022.jpg
END:VEVENT
BEGIN:VEVENT
DTSTART;TZID=Europe/Luxembourg:20221201T110000
DTEND;TZID=Europe/Luxembourg:20221203T140000
DTSTAMP:20260422T215919
CREATED:20221018T071518Z
LAST-MODIFIED:20221107T102438Z
UID:10001043-1669892400-1670076000@www.kaerjeng.lu
SUMMARY:Rentnerfeier - 3. Alterskommissioun
DESCRIPTION:
URL:https://www.kaerjeng.lu/evenement/rentnerfeier-3-alterskommissioun-3/
CATEGORIES:Agenda
ATTACH;FMTTYPE=image/png:https://www.kaerjeng.lu/wp-content/uploads/2022/11/Capturerf2.png
END:VEVENT
BEGIN:VEVENT
DTSTART;TZID=Europe/Luxembourg:20221204T090000
DTEND;TZID=Europe/Luxembourg:20221204T170000
DTSTAMP:20260422T215919
CREATED:20221018T071655Z
LAST-MODIFIED:20221018T071655Z
UID:10001044-1670144400-1670173200@www.kaerjeng.lu
SUMMARY:Tournoi Challenge Nicole Rischard	- DT Nidderkäerjeng
DESCRIPTION:
URL:https://www.kaerjeng.lu/evenement/tournoi-challenge-nicole-rischard-dt-nidderkaerjeng-2/
LOCATION:Bascharage – Acker
CATEGORIES:Agenda
ATTACH;FMTTYPE=image/jpeg:https://www.kaerjeng.lu/wp-content/uploads/2020/10/event.jpg
END:VEVENT
BEGIN:VEVENT
DTSTART;VALUE=DATE:20221209
DTEND;VALUE=DATE:20221212
DTSTAMP:20260422T215919
CREATED:20221018T072052Z
LAST-MODIFIED:20221128T082841Z
UID:10001045-1670544000-1670803199@www.kaerjeng.lu
SUMMARY:Käerjenger Chrëschtmaart - Gemeng Käerjeng
DESCRIPTION:
URL:https://www.kaerjeng.lu/evenement/kaerjenger-chreschtmaart-gemeng-kaerjeng/
LOCATION:Bascharage – Place Claus Cito
CATEGORIES:Agenda
ATTACH;FMTTYPE=image/jpeg:https://www.kaerjeng.lu/wp-content/uploads/2022/11/Cover-CM.jpg
END:VEVENT
BEGIN:VEVENT
DTSTART;TZID=Europe/Luxembourg:20221211T080000
DTEND;TZID=Europe/Luxembourg:20221211T100000
DTSTAMP:20260422T215919
CREATED:20221018T072839Z
LAST-MODIFIED:20221018T072839Z
UID:10001046-1670745600-1670752800@www.kaerjeng.lu
SUMMARY:Assemblée générale - UGDA
DESCRIPTION:
URL:https://www.kaerjeng.lu/evenement/assemblee-generale-ugda/
LOCATION:Käerjenger Treff\, 54c\, avenue de Luxembourg\, Bascharage\, Luxembourg
CATEGORIES:Agenda
ATTACH;FMTTYPE=image/jpeg:https://www.kaerjeng.lu/wp-content/uploads/2021/08/AG.jpg
END:VEVENT
BEGIN:VEVENT
DTSTART;TZID=Europe/Luxembourg:20221213T200000
DTEND;TZID=Europe/Luxembourg:20221213T230000
DTSTAMP:20260422T215919
CREATED:20221018T072945Z
LAST-MODIFIED:20221202T151917Z
UID:10001047-1670961600-1670972400@www.kaerjeng.lu
SUMMARY:Käerjenger WanterTreff - Demi-finale Qatar22
DESCRIPTION:
URL:https://www.kaerjeng.lu/evenement/kaerjeng-live-demi-finale-qatar22/
LOCATION:Käerjenger Treff\, 54c\, avenue de Luxembourg\, Bascharage\, Luxembourg
CATEGORIES:Agenda
END:VEVENT
BEGIN:VEVENT
DTSTART;TZID=Europe/Luxembourg:20221214T200000
DTEND;TZID=Europe/Luxembourg:20221214T230000
DTSTAMP:20260422T215919
CREATED:20221018T073019Z
LAST-MODIFIED:20221202T151858Z
UID:10001048-1671048000-1671058800@www.kaerjeng.lu
SUMMARY:Käerjenger WanterTreff - Demi-finale Qatar22
DESCRIPTION:
URL:https://www.kaerjeng.lu/evenement/kaerjeng-live-demi-finale-qatar22-2/
LOCATION:Käerjenger Treff\, 54c\, avenue de Luxembourg\, Bascharage\, Luxembourg
CATEGORIES:Agenda
END:VEVENT
BEGIN:VEVENT
DTSTART;TZID=Europe/Luxembourg:20221215T200000
DTEND;TZID=Europe/Luxembourg:20221215T230000
DTSTAMP:20260422T215919
CREATED:20221107T132411Z
LAST-MODIFIED:20221202T151837Z
UID:10001054-1671134400-1671145200@www.kaerjeng.lu
SUMMARY:Käerjenger WanterTreff - Rock and Pop Songs unplugged - Käerjenger Musekschoul
DESCRIPTION:
URL:https://www.kaerjeng.lu/evenement/kaerjenger-wantertreff-rock-and-christmas-songs-unplugged/
LOCATION:Käerjenger Treff\, 54c\, avenue de Luxembourg\, Bascharage\, Luxembourg
CATEGORIES:Agenda
END:VEVENT
BEGIN:VEVENT
DTSTART;TZID=Europe/Luxembourg:20221217T150000
DTEND;TZID=Europe/Luxembourg:20221217T180000
DTSTAMP:20260422T215919
CREATED:20221107T134138Z
LAST-MODIFIED:20221202T151745Z
UID:10001055-1671289200-1671300000@www.kaerjeng.lu
SUMMARY:Käerjenger WanterTreff - Kannerfilm
DESCRIPTION:
URL:https://www.kaerjeng.lu/evenement/kaerjenger-wantertreff-kannerfilm/
LOCATION:Käerjenger Treff\, 54c\, avenue de Luxembourg\, Bascharage\, Luxembourg
CATEGORIES:Agenda
END:VEVENT
BEGIN:VEVENT
DTSTART;TZID=Europe/Luxembourg:20221217T200000
DTEND;TZID=Europe/Luxembourg:20221217T220000
DTSTAMP:20260422T215919
CREATED:20221018T073310Z
LAST-MODIFIED:20221117T083830Z
UID:10001050-1671307200-1671314400@www.kaerjeng.lu
SUMMARY:Music Cocktail 2022 - Harmonie Kéinzig
DESCRIPTION:
URL:https://www.kaerjeng.lu/evenement/chreschtconcert-music-cocktail-harmonie-keinzig/
LOCATION:Clemency – Salle des Fêtes
CATEGORIES:Agenda
ATTACH;FMTTYPE=image/jpeg:https://www.kaerjeng.lu/wp-content/uploads/2022/11/Music-Cocktail-2022.jpg
END:VEVENT
BEGIN:VEVENT
DTSTART;TZID=Europe/Luxembourg:20221218T100000
DTEND;TZID=Europe/Luxembourg:20221218T170000
DTSTAMP:20260422T215919
CREATED:20221107T135117Z
LAST-MODIFIED:20221107T135117Z
UID:10001056-1671357600-1671382800@www.kaerjeng.lu
SUMMARY:I Jump Tournoi - BBC Hedgehogs Bascharage
DESCRIPTION:
URL:https://www.kaerjeng.lu/evenement/i-jump-tournoi-bbc-hedgehogs-bascharage/
LOCATION:Bascharage – Acker
CATEGORIES:Agenda
ATTACH;FMTTYPE=image/jpeg:https://www.kaerjeng.lu/wp-content/uploads/2020/10/event.jpg
END:VEVENT
BEGIN:VEVENT
DTSTART;TZID=Europe/Luxembourg:20221218T160000
DTEND;TZID=Europe/Luxembourg:20221218T200000
DTSTAMP:20260422T215919
CREATED:20221018T073059Z
LAST-MODIFIED:20221202T151810Z
UID:10001049-1671379200-1671393600@www.kaerjeng.lu
SUMMARY:Käerjenger WanterTreff - Finale Qatar22
DESCRIPTION:
URL:https://www.kaerjeng.lu/evenement/kaerjeng-live-finale-qatar22/
LOCATION:Käerjenger Treff\, 54c\, avenue de Luxembourg\, Bascharage\, Luxembourg
CATEGORIES:Agenda
END:VEVENT
BEGIN:VEVENT
DTSTART;VALUE=DATE:20221224
DTEND;VALUE=DATE:20221225
DTSTAMP:20260422T215919
CREATED:20221018T073525Z
LAST-MODIFIED:20221018T073525Z
UID:10001051-1671840000-1671926399@www.kaerjeng.lu
SUMMARY:Hellegowend - Club des jeunes Kënzeg
DESCRIPTION:
URL:https://www.kaerjeng.lu/evenement/hellegowend-club-des-jeunes-kenzeg/
LOCATION:Clemency
CATEGORIES:Agenda
ATTACH;FMTTYPE=image/jpeg:https://www.kaerjeng.lu/wp-content/uploads/2020/10/event.jpg
END:VEVENT
BEGIN:VEVENT
DTSTART;TZID=Europe/Luxembourg:20230113T200000
DTEND;TZID=Europe/Luxembourg:20230114T230000
DTSTAMP:20260422T215919
CREATED:20221111T091623Z
LAST-MODIFIED:20221111T091623Z
UID:10001058-1673640000-1673737200@www.kaerjeng.lu
SUMMARY:Dréchen Zäiten - Käerjenger Theater
DESCRIPTION:
URL:https://www.kaerjeng.lu/evenement/drechen-zaiten-kaerjenger-theater/
LOCATION:Käerjenger Treff\, 54c\, avenue de Luxembourg\, Bascharage\, Luxembourg
CATEGORIES:Agenda
ATTACH;FMTTYPE=image/jpeg:https://www.kaerjeng.lu/wp-content/uploads/2022/11/Drechen-Zeiten-KT-22.jpg
END:VEVENT
BEGIN:VEVENT
DTSTART;TZID=Europe/Luxembourg:20230114T210000
DTEND;TZID=Europe/Luxembourg:20230115T030000
DTSTAMP:20260422T215919
CREATED:20221214T111858Z
LAST-MODIFIED:20221219T150401Z
UID:10001060-1673730000-1673751600@www.kaerjeng.lu
SUMMARY:Après Ski Basket Gaudi - BBC Hedgehogs
DESCRIPTION:
URL:https://www.kaerjeng.lu/evenement/apres-ski-party-bbc-hedgehogs/
LOCATION:Clemency – Salle des Fêtes
CATEGORIES:Agenda
ATTACH;FMTTYPE=image/jpeg:https://www.kaerjeng.lu/wp-content/uploads/2022/12/Apres-Ski-BBC.jpg
END:VEVENT
BEGIN:VEVENT
DTSTART;TZID=Europe/Luxembourg:20230118T200000
DTEND;TZID=Europe/Luxembourg:20230118T220000
DTSTAMP:20260422T215919
CREATED:20221214T112025Z
LAST-MODIFIED:20221214T112025Z
UID:10001061-1674072000-1674079200@www.kaerjeng.lu
SUMMARY:Assemblée générale - Harmonie Municipale Bascharage
DESCRIPTION:
URL:https://www.kaerjeng.lu/evenement/assemblee-generale-harmonie-municipale-bascharage-3/
CATEGORIES:Agenda
ATTACH;FMTTYPE=image/jpeg:https://www.kaerjeng.lu/wp-content/uploads/2021/08/AG.jpg
END:VEVENT
BEGIN:VEVENT
DTSTART;TZID=Europe/Luxembourg:20230119T193000
DTEND;TZID=Europe/Luxembourg:20230119T213000
DTSTAMP:20260422T215919
CREATED:20221214T112133Z
LAST-MODIFIED:20221214T112133Z
UID:10001062-1674156600-1674163800@www.kaerjeng.lu
SUMMARY:Assemblée générale - TC Kéinzeg-Féngeg
DESCRIPTION:
URL:https://www.kaerjeng.lu/evenement/assemblee-generale-tc-keinzeg-fengeg-2/
LOCATION:Clemency – ClubHouse Tennis
CATEGORIES:Agenda
ATTACH;FMTTYPE=image/jpeg:https://www.kaerjeng.lu/wp-content/uploads/2021/08/AG.jpg
END:VEVENT
BEGIN:VEVENT
DTSTART;TZID=Europe/Luxembourg:20230121T160000
DTEND;TZID=Europe/Luxembourg:20230121T180000
DTSTAMP:20260422T215919
CREATED:20221214T112234Z
LAST-MODIFIED:20221214T112251Z
UID:10001063-1674316800-1674324000@www.kaerjeng.lu
SUMMARY:Assemblée générale - Murphy's Racing Team
DESCRIPTION:
URL:https://www.kaerjeng.lu/evenement/assemblee-generale-murphys-racing-team-2/
LOCATION:Käerjenger Treff\, 54c\, avenue de Luxembourg\, Bascharage\, Luxembourg
CATEGORIES:Agenda
ATTACH;FMTTYPE=image/jpeg:https://www.kaerjeng.lu/wp-content/uploads/2021/08/AG.jpg
END:VEVENT
BEGIN:VEVENT
DTSTART;TZID=Europe/Luxembourg:20230122T120000
DTEND;TZID=Europe/Luxembourg:20230122T180000
DTSTAMP:20260422T215919
CREATED:20221214T112330Z
LAST-MODIFIED:20230112T075116Z
UID:10001064-1674388800-1674410400@www.kaerjeng.lu
SUMMARY:Hierken- an Träipenmëtten - DT Féngeg
DESCRIPTION:
URL:https://www.kaerjeng.lu/evenement/hierken-an-traipenmetten-dt-fengeg/
LOCATION:Fingig – Salle des Fêtes
CATEGORIES:Agenda
END:VEVENT
BEGIN:VEVENT
DTSTART;VALUE=DATE:20230127
DTEND;VALUE=DATE:20230129
DTSTAMP:20260422T215919
CREATED:20221214T112500Z
LAST-MODIFIED:20221219T075501Z
UID:10001065-1674777600-1674950399@www.kaerjeng.lu
SUMMARY:Theaterowend	- Harmonie Kéinzig
DESCRIPTION:
URL:https://www.kaerjeng.lu/evenement/theaterowend-harmonie-keinzig-7/
LOCATION:Clemency – Salle des Fêtes
CATEGORIES:Agenda
ATTACH;FMTTYPE=image/jpeg:https://www.kaerjeng.lu/wp-content/uploads/2022/12/Theaterowend-Harmonie-keinzig.jpg
END:VEVENT
BEGIN:VEVENT
DTSTART;TZID=Europe/Luxembourg:20230127T193000
DTEND;TZID=Europe/Luxembourg:20230127T220000
DTSTAMP:20260422T215919
CREATED:20221214T112606Z
LAST-MODIFIED:20230109T072507Z
UID:10001066-1674847800-1674856800@www.kaerjeng.lu
SUMMARY:Assemblée générale - Ensemble vocal Vivace
DESCRIPTION:
URL:https://www.kaerjeng.lu/evenement/assemblee-generale-ensemble-vocal-vivace-3/
LOCATION:Käerjenger Treff\, 54c\, avenue de Luxembourg\, Bascharage\, Luxembourg
CATEGORIES:Agenda
ATTACH;FMTTYPE=image/jpeg:https://www.kaerjeng.lu/wp-content/uploads/2021/08/AG.jpg
END:VEVENT
BEGIN:VEVENT
DTSTART;TZID=Europe/Luxembourg:20230128T090000
DTEND;TZID=Europe/Luxembourg:20230128T170000
DTSTAMP:20260422T215919
CREATED:20230118T145451Z
LAST-MODIFIED:20230118T145451Z
UID:10001097-1674896400-1674925200@www.kaerjeng.lu
SUMMARY:"Vide Grenier" Käerjenger Kleederkummer
DESCRIPTION:
URL:https://www.kaerjeng.lu/evenement/vide-grenier-kaerjenger-kleederkummer/
CATEGORIES:Agenda
ATTACH;FMTTYPE=image/jpeg:https://www.kaerjeng.lu/wp-content/uploads/2023/01/info-aktuell_A4_01-23_Kleederkummer-BAT_Page_1.jpg
END:VEVENT
BEGIN:VEVENT
DTSTART;TZID=Europe/Luxembourg:20230128T190000
DTEND;TZID=Europe/Luxembourg:20230128T210000
DTSTAMP:20260422T215919
CREATED:20221214T112715Z
LAST-MODIFIED:20221214T112715Z
UID:10000908-1674932400-1674939600@www.kaerjeng.lu
SUMMARY:Assemblée générale - Fëngeger Gesank
DESCRIPTION:
URL:https://www.kaerjeng.lu/evenement/assemblee-generale-fengeger-gesank/
LOCATION:Fingig – Salle des Fêtes
CATEGORIES:Agenda
ATTACH;FMTTYPE=image/jpeg:https://www.kaerjeng.lu/wp-content/uploads/2021/08/AG.jpg
END:VEVENT
END:VCALENDAR