BEGIN:VCALENDAR
VERSION:2.0
PRODID:-//Käerjeng - ECPv6.15.17.1//NONSGML v1.0//EN
CALSCALE:GREGORIAN
METHOD:PUBLISH
X-WR-CALNAME:Käerjeng
X-ORIGINAL-URL:https://www.kaerjeng.lu
X-WR-CALDESC:Évènements pour Käerjeng
REFRESH-INTERVAL;VALUE=DURATION:PT1H
X-Robots-Tag:noindex
X-PUBLISHED-TTL:PT1H
BEGIN:VTIMEZONE
TZID:Europe/Luxembourg
BEGIN:DAYLIGHT
TZOFFSETFROM:+0100
TZOFFSETTO:+0200
TZNAME:CEST
DTSTART:20220327T010000
END:DAYLIGHT
BEGIN:STANDARD
TZOFFSETFROM:+0200
TZOFFSETTO:+0100
TZNAME:CET
DTSTART:20221030T010000
END:STANDARD
BEGIN:DAYLIGHT
TZOFFSETFROM:+0100
TZOFFSETTO:+0200
TZNAME:CEST
DTSTART:20230326T010000
END:DAYLIGHT
BEGIN:STANDARD
TZOFFSETFROM:+0200
TZOFFSETTO:+0100
TZNAME:CET
DTSTART:20231029T010000
END:STANDARD
BEGIN:DAYLIGHT
TZOFFSETFROM:+0100
TZOFFSETTO:+0200
TZNAME:CEST
DTSTART:20240331T010000
END:DAYLIGHT
BEGIN:STANDARD
TZOFFSETFROM:+0200
TZOFFSETTO:+0100
TZNAME:CET
DTSTART:20241027T010000
END:STANDARD
END:VTIMEZONE
BEGIN:VEVENT
DTSTART;TZID=Europe/Luxembourg:20230527T113000
DTEND;TZID=Europe/Luxembourg:20230529T230000
DTSTAMP:20260424T183806
CREATED:20230515T100802Z
LAST-MODIFIED:20230525T073607Z
UID:10001136-1685187000-1685401200@www.kaerjeng.lu
SUMMARY:Bëschfest - Käerjenger Bouwen
DESCRIPTION:
URL:https://www.kaerjeng.lu/evenement/beschfest-kaerjenger-bouwen/
LOCATION:Bascharage – Bommertbësch
CATEGORIES:Agenda
ATTACH;FMTTYPE=image/jpeg:https://www.kaerjeng.lu/wp-content/uploads/2023/05/affiche_A3_05-23_Bëschfester.jpg
END:VEVENT
BEGIN:VEVENT
DTSTART;TZID=Europe/Luxembourg:20230602T110000
DTEND;TZID=Europe/Luxembourg:20230604T230000
DTSTAMP:20260424T183806
CREATED:20230515T131324Z
LAST-MODIFIED:20230526T092612Z
UID:10001138-1685703600-1685919600@www.kaerjeng.lu
SUMMARY:Bëschfest - DT Nidderkäerjeng
DESCRIPTION:
URL:https://www.kaerjeng.lu/evenement/beschfest-dt-nidderkaerjeng-2/
LOCATION:Bascharage – Bommertbësch
CATEGORIES:Agenda
ATTACH;FMTTYPE=image/jpeg:https://www.kaerjeng.lu/wp-content/uploads/2023/05/affiche_A3_05-23_Bëschfester_DT-Nidderkäerjeng.jpg
END:VEVENT
BEGIN:VEVENT
DTSTART;TZID=Europe/Luxembourg:20230602T170000
DTEND;TZID=Europe/Luxembourg:20230602T190000
DTSTAMP:20260424T183806
CREATED:20230515T101048Z
LAST-MODIFIED:20230515T101048Z
UID:10001137-1685725200-1685732400@www.kaerjeng.lu
SUMMARY:Assemblée générale - Amis de la Fleur
DESCRIPTION:
URL:https://www.kaerjeng.lu/evenement/assemblee-generale-amis-de-la-fleur/
LOCATION:Käerjenger Treff\, 54c\, avenue de Luxembourg\, Bascharage\, Luxembourg
CATEGORIES:Agenda
ATTACH;FMTTYPE=image/jpeg:https://www.kaerjeng.lu/wp-content/uploads/2021/08/AG.jpg
END:VEVENT
BEGIN:VEVENT
DTSTART;TZID=Europe/Luxembourg:20230604T110000
DTEND;TZID=Europe/Luxembourg:20230604T170000
DTSTAMP:20260424T183806
CREATED:20221220T094052Z
LAST-MODIFIED:20230525T074300Z
UID:10001094-1685876400-1685898000@www.kaerjeng.lu
SUMMARY:Sprëtzefest - Amicale Anc. Pompiers Clemency-Fingig
DESCRIPTION:
URL:https://www.kaerjeng.lu/evenement/spretzefest-amicale-anc-pompiers-clemency-fingig-2/
LOCATION:Fingig – Salle des Fêtes
CATEGORIES:Agenda
ATTACH;FMTTYPE=image/jpeg:https://www.kaerjeng.lu/wp-content/uploads/2023/05/Spretzfest-2023.jpg
END:VEVENT
BEGIN:VEVENT
DTSTART;TZID=Europe/Luxembourg:20230604T150000
DTEND;TZID=Europe/Luxembourg:20230604T170000
DTSTAMP:20260424T183806
CREATED:20230515T131504Z
LAST-MODIFIED:20230515T131520Z
UID:10001139-1685890800-1685898000@www.kaerjeng.lu
SUMMARY:Assemblée générale - Gaart an Heem Kënzeg
DESCRIPTION:
URL:https://www.kaerjeng.lu/evenement/assemblee-generale-gaart-an-heem-kenzeg-3/
LOCATION:Clemency – Salle des Fêtes
CATEGORIES:Agenda
ATTACH;FMTTYPE=image/jpeg:https://www.kaerjeng.lu/wp-content/uploads/2021/08/AG.jpg
END:VEVENT
BEGIN:VEVENT
DTSTART;TZID=Europe/Luxembourg:20230607T190000
DTEND;TZID=Europe/Luxembourg:20230607T210000
DTSTAMP:20260424T183806
CREATED:20230601T085217Z
LAST-MODIFIED:20230601T085217Z
UID:10001154-1686164400-1686171600@www.kaerjeng.lu
SUMMARY:100 Joer Gëlle Fra - Op de Spuere vum Claus Cito
DESCRIPTION:
URL:https://www.kaerjeng.lu/evenement/100-joer-gelle-fra-op-de-spuere-vum-claus-cito/
LOCATION:Sall „um Späicher” am Centre WAX\, 102\, rue d’Athus zu Péiteng
CATEGORIES:Agenda
ATTACH;FMTTYPE=image/jpeg:https://www.kaerjeng.lu/wp-content/uploads/2023/06/Capture-claus-cito.jpg
END:VEVENT
BEGIN:VEVENT
DTSTART;VALUE=DATE:20230610
DTEND;VALUE=DATE:20230611
DTSTAMP:20260424T183806
CREATED:20230222T130639Z
LAST-MODIFIED:20230601T065449Z
UID:10000960-1686355200-1686441599@www.kaerjeng.lu
SUMMARY:Bridge of Songs - Ensemble vocal Vivace
DESCRIPTION:
URL:https://www.kaerjeng.lu/evenement/bridge-of-songs-ensemble-vocal-vivace/
LOCATION:Käerjenger Treff\, 54c\, avenue de Luxembourg\, Bascharage\, Luxembourg
CATEGORIES:Agenda
ATTACH;FMTTYPE=image/jpeg:https://www.kaerjeng.lu/wp-content/uploads/2023/06/Vivace-2023.jpg
END:VEVENT
BEGIN:VEVENT
DTSTART;TZID=Europe/Luxembourg:20230610T143000
DTEND;TZID=Europe/Luxembourg:20230610T170000
DTSTAMP:20260424T183806
CREATED:20230601T085408Z
LAST-MODIFIED:20230601T085408Z
UID:10001155-1686407400-1686416400@www.kaerjeng.lu
SUMMARY:100 Joer Gëlle Fra - Op de Spuere vum Claus Cito
DESCRIPTION:
URL:https://www.kaerjeng.lu/evenement/100-joer-gelle-fra-op-de-spuere-vum-claus-cito-2/
LOCATION:Péiteng beim Home St. Hubert (52\, rue de l’Eglise).
CATEGORIES:Agenda
ATTACH;FMTTYPE=image/jpeg:https://www.kaerjeng.lu/wp-content/uploads/2023/06/Capture-claus-cito.jpg
END:VEVENT
BEGIN:VEVENT
DTSTART;VALUE=DATE:20230611
DTEND;VALUE=DATE:20230612
DTSTAMP:20260424T183806
CREATED:20230222T130744Z
LAST-MODIFIED:20230222T131357Z
UID:10000962-1686441600-1686527999@www.kaerjeng.lu
SUMMARY:Elections communales - Gemengewalen
DESCRIPTION:
URL:https://www.kaerjeng.lu/evenement/elections-communales/
CATEGORIES:Agenda
ATTACH;FMTTYPE=image/jpeg:https://www.kaerjeng.lu/wp-content/uploads/2020/10/event.jpg
END:VEVENT
BEGIN:VEVENT
DTSTART;TZID=Europe/Luxembourg:20230611T170000
DTEND;TZID=Europe/Luxembourg:20230611T233000
DTSTAMP:20260424T183806
CREATED:20230601T065634Z
LAST-MODIFIED:20230607T092241Z
UID:10001153-1686502800-1686526200@www.kaerjeng.lu
SUMMARY:Ovatioun vun de Gemenge Gewielten - Ovation des élus communaux
DESCRIPTION:
URL:https://www.kaerjeng.lu/evenement/ovatioun-vun-de-gemenge-gewielten-ovation-des-elus-communaux/
LOCATION:Käerjenger Treff\, 54c\, avenue de Luxembourg\, Bascharage\, Luxembourg
CATEGORIES:Agenda
ATTACH;FMTTYPE=image/jpeg:https://www.kaerjeng.lu/wp-content/uploads/2023/06/info-aktuell_A4_05-23_Ovatioun-BAT.jpg
END:VEVENT
BEGIN:VEVENT
DTSTART;VALUE=DATE:20230616
DTEND;VALUE=DATE:20230619
DTSTAMP:20260424T183806
CREATED:20230222T131517Z
LAST-MODIFIED:20230601T065841Z
UID:10000964-1686873600-1687132799@www.kaerjeng.lu
SUMMARY:Fête de la musique - Harmonie Municipale Bascharage
DESCRIPTION:
URL:https://www.kaerjeng.lu/evenement/fete-de-la-musique-harmonie-municipale-bascharage/
CATEGORIES:Agenda
ATTACH;FMTTYPE=image/jpeg:https://www.kaerjeng.lu/wp-content/uploads/2023/06/Fete-de-la-musique-2023.jpg
END:VEVENT
BEGIN:VEVENT
DTSTART;TZID=Europe/Luxembourg:20230616T193000
DTEND;TZID=Europe/Luxembourg:20230616T220000
DTSTAMP:20260424T183806
CREATED:20230602T092310Z
LAST-MODIFIED:20230602T092310Z
UID:10001156-1686943800-1686952800@www.kaerjeng.lu
SUMMARY:Assemblée générale - DT Lénger
DESCRIPTION:
URL:https://www.kaerjeng.lu/evenement/assemblee-generale-dt-lenger/
LOCATION:Linger – Hall sportif
CATEGORIES:Agenda
ATTACH;FMTTYPE=image/jpeg:https://www.kaerjeng.lu/wp-content/uploads/2021/08/AG.jpg
END:VEVENT
BEGIN:VEVENT
DTSTART;TZID=Europe/Luxembourg:20230618T090000
DTEND;TZID=Europe/Luxembourg:20230618T170000
DTSTAMP:20260424T183806
CREATED:20230222T132134Z
LAST-MODIFIED:20230602T091803Z
UID:10000966-1687078800-1687107600@www.kaerjeng.lu
SUMMARY:Marche gourmande - DT Féngeg
DESCRIPTION:
URL:https://www.kaerjeng.lu/evenement/marche-gourmande-dt-fengeg-2/
LOCATION:Fingig – Salle des Fêtes
CATEGORIES:Agenda
ATTACH;FMTTYPE=image/jpeg:https://www.kaerjeng.lu/wp-content/uploads/2023/06/Marche-gourmande.jpg
END:VEVENT
BEGIN:VEVENT
DTSTART;TZID=Europe/Luxembourg:20230618T150000
DTEND;TZID=Europe/Luxembourg:20230618T190000
DTSTAMP:20260424T183806
CREATED:20230222T132522Z
LAST-MODIFIED:20230222T132522Z
UID:10001107-1687100400-1687114800@www.kaerjeng.lu
SUMMARY:Concert Il Teatro Latino - Käerjenger Musekschoul
DESCRIPTION:
URL:https://www.kaerjeng.lu/evenement/concert-il-teatro-latino-kaerjenger-musekschoul/
LOCATION:Käerjenger Treff\, 54c\, avenue de Luxembourg\, Bascharage\, Luxembourg
CATEGORIES:Agenda
ATTACH;FMTTYPE=image/jpeg:https://www.kaerjeng.lu/wp-content/uploads/2020/10/event.jpg
END:VEVENT
BEGIN:VEVENT
DTSTART;TZID=Europe/Luxembourg:20230622T180000
DTEND;TZID=Europe/Luxembourg:20230623T010000
DTSTAMP:20260424T183806
CREATED:20230222T132627Z
LAST-MODIFIED:20230602T092018Z
UID:10001108-1687456800-1687482000@www.kaerjeng.lu
SUMMARY:Virowend Nationalfeierdag - Gemeng Käerjeng
DESCRIPTION:
URL:https://www.kaerjeng.lu/evenement/virowend-nationalfeierdag-gemeng-kaerjeng/
LOCATION:Bascharage – Place Claus Cito
CATEGORIES:Agenda
ATTACH;FMTTYPE=image/jpeg:https://www.kaerjeng.lu/wp-content/uploads/2023/06/Pages-de-info-aktuell_A4_05-23_fete-nationale-BAT.jpg
END:VEVENT
BEGIN:VEVENT
DTSTART;TZID=Europe/Luxembourg:20230630T180000
DTEND;TZID=Europe/Luxembourg:20230630T220000
DTSTAMP:20260424T183806
CREATED:20230222T132946Z
LAST-MODIFIED:20230222T132946Z
UID:10001109-1688148000-1688162400@www.kaerjeng.lu
SUMMARY:Ensembles Mandolines et Guitares	- Käerjenger Musekschoul
DESCRIPTION:
URL:https://www.kaerjeng.lu/evenement/ensembles-mandolines-et-guitares-kaerjenger-musekschoul/
LOCATION:Käerjenger Treff\, 54c\, avenue de Luxembourg\, Bascharage\, Luxembourg
CATEGORIES:Agenda
ATTACH;FMTTYPE=image/jpeg:https://www.kaerjeng.lu/wp-content/uploads/2020/10/event.jpg
END:VEVENT
BEGIN:VEVENT
DTSTART;TZID=Europe/Luxembourg:20230701T090000
DTEND;TZID=Europe/Luxembourg:20230701T170000
DTSTAMP:20260424T183806
CREATED:20230515T132057Z
LAST-MODIFIED:20230615T132945Z
UID:10001141-1688202000-1688230800@www.kaerjeng.lu
SUMMARY:Porte ouverte - Käerjenger Musekschoul
DESCRIPTION:
URL:https://www.kaerjeng.lu/evenement/porte-ouverte-kaerjenger-musekschoul-4/
LOCATION:Bascharage – Musekschoul
CATEGORIES:Agenda
ATTACH;FMTTYPE=image/jpeg:https://www.kaerjeng.lu/wp-content/uploads/2023/06/Porte-ouverte-KjMS.jpg
END:VEVENT
BEGIN:VEVENT
DTSTART;TZID=Europe/Luxembourg:20230701T110000
DTEND;TZID=Europe/Luxembourg:20230702T230000
DTSTAMP:20260424T183806
CREATED:20230515T131810Z
LAST-MODIFIED:20230526T093047Z
UID:10001140-1688209200-1688338800@www.kaerjeng.lu
SUMMARY:Bëschfest - Käerjenger Guiden a Scouten
DESCRIPTION:
URL:https://www.kaerjeng.lu/evenement/beschfest-kaerjenger-guiden-a-scouten/
LOCATION:Bascharage – Bommertbësch
CATEGORIES:Agenda
ATTACH;FMTTYPE=image/jpeg:https://www.kaerjeng.lu/wp-content/uploads/2023/05/affiche_A3_05-23_Bëschfester_Kaerjenger-Bouwen-scaled.jpg
END:VEVENT
BEGIN:VEVENT
DTSTART;TZID=Europe/Luxembourg:20230707T190000
DTEND;TZID=Europe/Luxembourg:20230707T210000
DTSTAMP:20260424T183806
CREATED:20230515T132252Z
LAST-MODIFIED:20230515T132252Z
UID:10001142-1688756400-1688763600@www.kaerjeng.lu
SUMMARY:Assemblée générale - BBC Hedgehogs Bascharage
DESCRIPTION:
URL:https://www.kaerjeng.lu/evenement/assemblee-generale-bbc-hedgehogs-bascharage-2/
LOCATION:Bascharage – Op Acker
CATEGORIES:Agenda
ATTACH;FMTTYPE=image/jpeg:https://www.kaerjeng.lu/wp-content/uploads/2021/08/AG.jpg
END:VEVENT
BEGIN:VEVENT
DTSTART;TZID=Europe/Luxembourg:20230707T200000
DTEND;TZID=Europe/Luxembourg:20230707T230000
DTSTAMP:20260424T183806
CREATED:20230222T133057Z
LAST-MODIFIED:20230615T132915Z
UID:10001110-1688760000-1688770800@www.kaerjeng.lu
SUMMARY:Soirée musicale James Bond - Harmonie Municipale Bascharage
DESCRIPTION:
URL:https://www.kaerjeng.lu/evenement/soiree-musicale-james-bond-harmonie-municipale-bascharage/
LOCATION:Käerjenger Treff\, 54c\, avenue de Luxembourg\, Bascharage\, Luxembourg
CATEGORIES:Agenda
ATTACH;FMTTYPE=image/jpeg:https://www.kaerjeng.lu/wp-content/uploads/2023/06/Bond-Concert.jpg
END:VEVENT
BEGIN:VEVENT
DTSTART;TZID=Europe/Luxembourg:20230708T100000
DTEND;TZID=Europe/Luxembourg:20230708T120000
DTSTAMP:20260424T183806
CREATED:20230222T133241Z
LAST-MODIFIED:20230222T133241Z
UID:10001111-1688810400-1688817600@www.kaerjeng.lu
SUMMARY:Assemblée générale - UN Käerjeng'97
DESCRIPTION:
URL:https://www.kaerjeng.lu/evenement/assemblee-generale-un-kaerjeng97/
LOCATION:Bascharage – Um Dribbel
CATEGORIES:Agenda
ATTACH;FMTTYPE=image/jpeg:https://www.kaerjeng.lu/wp-content/uploads/2021/08/AG.jpg
END:VEVENT
BEGIN:VEVENT
DTSTART;TZID=Europe/Luxembourg:20230708T110000
DTEND;TZID=Europe/Luxembourg:20230709T230000
DTSTAMP:20260424T183806
CREATED:20230515T132407Z
LAST-MODIFIED:20230526T092846Z
UID:10001143-1688814000-1688943600@www.kaerjeng.lu
SUMMARY:Bëschfest - U.N. Käerjeng'97
DESCRIPTION:
URL:https://www.kaerjeng.lu/evenement/beschfest-u-n-kaerjeng97-2/
LOCATION:Bascharage – Bommertbësch
CATEGORIES:Agenda
ATTACH;FMTTYPE=image/jpeg:https://www.kaerjeng.lu/wp-content/uploads/2023/05/affiche_A3_05-23_Bëschfester_Kaerjenger-Bouwen-scaled.jpg
END:VEVENT
BEGIN:VEVENT
DTSTART;TZID=Europe/Luxembourg:20230708T200000
DTEND;TZID=Europe/Luxembourg:20230708T230000
DTSTAMP:20260424T183806
CREATED:20230222T133332Z
LAST-MODIFIED:20230222T133332Z
UID:10001112-1688846400-1688857200@www.kaerjeng.lu
SUMMARY:Feel the Beat - Harmonie Municipale Bascharage
DESCRIPTION:
URL:https://www.kaerjeng.lu/evenement/feel-the-beat-harmonie-municipale-bascharage/
LOCATION:Käerjenger Treff\, 54c\, avenue de Luxembourg\, Bascharage\, Luxembourg
CATEGORIES:Agenda
ATTACH;FMTTYPE=image/jpeg:https://www.kaerjeng.lu/wp-content/uploads/2020/10/event.jpg
END:VEVENT
BEGIN:VEVENT
DTSTART;VALUE=DATE:20230709
DTEND;VALUE=DATE:20230710
DTSTAMP:20260424T183806
CREATED:20230222T133502Z
LAST-MODIFIED:20230222T133502Z
UID:10001114-1688860800-1688947199@www.kaerjeng.lu
SUMMARY:Grillfest - Féngeger Gesank
DESCRIPTION:
URL:https://www.kaerjeng.lu/evenement/grillfest-fengeger-gesank/
LOCATION:Fingig – Salle des Fêtes
CATEGORIES:Agenda
ATTACH;FMTTYPE=image/jpeg:https://www.kaerjeng.lu/wp-content/uploads/2020/10/event.jpg
END:VEVENT
BEGIN:VEVENT
DTSTART;TZID=Europe/Luxembourg:20230709T160000
DTEND;TZID=Europe/Luxembourg:20230709T210000
DTSTAMP:20260424T183806
CREATED:20230222T133424Z
LAST-MODIFIED:20230705T132655Z
UID:10001113-1688918400-1688936400@www.kaerjeng.lu
SUMMARY:Séance académique 150 ans - Harmonie Municipale Bascharage
DESCRIPTION:
URL:https://www.kaerjeng.lu/evenement/seance-academique-150-ans-harmonie-municipale-bascharage/
LOCATION:Käerjenger Treff\, 54c\, avenue de Luxembourg\, Bascharage\, Luxembourg
CATEGORIES:Agenda
ATTACH;FMTTYPE=image/jpeg:https://www.kaerjeng.lu/wp-content/uploads/2020/10/event.jpg
END:VEVENT
BEGIN:VEVENT
DTSTART;TZID=Europe/Luxembourg:20230715T193000
DTEND;TZID=Europe/Luxembourg:20230715T230000
DTSTAMP:20260424T183806
CREATED:20230222T133642Z
LAST-MODIFIED:20230714T135017Z
UID:10001115-1689449400-1689462000@www.kaerjeng.lu
SUMMARY:Paellasowend - TC Kéinzeg-Féngeg
DESCRIPTION:
URL:https://www.kaerjeng.lu/evenement/paellasowend-tc-keinzeg-fengeg-2/
LOCATION:Clemency – Place de la Gare
CATEGORIES:Agenda
ATTACH;FMTTYPE=image/jpeg:https://www.kaerjeng.lu/wp-content/uploads/2023/07/Paellaowend-23.jpg
END:VEVENT
BEGIN:VEVENT
DTSTART;VALUE=DATE:20230717
DTEND;VALUE=DATE:20230729
DTSTAMP:20260424T183806
CREATED:20230222T133735Z
LAST-MODIFIED:20230222T133735Z
UID:10001116-1689552000-1690588799@www.kaerjeng.lu
SUMMARY:Semaines loisirs - Maison Relais Käerjeng
DESCRIPTION:
URL:https://www.kaerjeng.lu/evenement/semaines-loisirs-maison-relais-kaerjeng/
LOCATION:Käerjenger Treff\, 54c\, avenue de Luxembourg\, Bascharage\, Luxembourg
CATEGORIES:Agenda
ATTACH;FMTTYPE=image/jpeg:https://www.kaerjeng.lu/wp-content/uploads/2020/10/event.jpg
END:VEVENT
BEGIN:VEVENT
DTSTART;TZID=Europe/Luxembourg:20230721T110000
DTEND;TZID=Europe/Luxembourg:20230723T230000
DTSTAMP:20260424T183806
CREATED:20230515T133801Z
LAST-MODIFIED:20230717T133116Z
UID:10001144-1689937200-1690153200@www.kaerjeng.lu
SUMMARY:Bëschfest - Käerjenger Theater
DESCRIPTION:
URL:https://www.kaerjeng.lu/evenement/beschfest-kaerjenger-theater-2/
LOCATION:Bascharage – Bommertbësch
CATEGORIES:Agenda
ATTACH;FMTTYPE=image/jpeg:https://www.kaerjeng.lu/wp-content/uploads/2023/07/Beschfest-KT.jpg
END:VEVENT
BEGIN:VEVENT
DTSTART;TZID=Europe/Luxembourg:20230726T191500
DTEND;TZID=Europe/Luxembourg:20230726T210000
DTSTAMP:20260424T183806
CREATED:20230714T135447Z
LAST-MODIFIED:20230714T135447Z
UID:10001157-1690398900-1690405200@www.kaerjeng.lu
SUMMARY:Assemblée générale - Handball Käerjeng
DESCRIPTION:
URL:https://www.kaerjeng.lu/evenement/assemblee-generale-handball-kaerjeng-3/
LOCATION:Bascharage – Um Dribbel
CATEGORIES:Agenda
ATTACH;FMTTYPE=image/jpeg:https://www.kaerjeng.lu/wp-content/uploads/2021/08/AG.jpg
END:VEVENT
BEGIN:VEVENT
DTSTART;TZID=Europe/Luxembourg:20230731T133000
DTEND;TZID=Europe/Luxembourg:20230812T183000
DTSTAMP:20260424T183806
CREATED:20230224T130615Z
LAST-MODIFIED:20230804T074740Z
UID:10001123-1690810200-1691865000@www.kaerjeng.lu
SUMMARY:Käerjenger Fun Park
DESCRIPTION:
URL:https://www.kaerjeng.lu/evenement/kaerjenger-fun-park/
LOCATION:Bascharage – Op Acker
CATEGORIES:Agenda
ATTACH;FMTTYPE=image/jpeg:https://www.kaerjeng.lu/wp-content/uploads/2023/07/Social-Media_1080x1080-px_06-23_Käerjenger-Fun-Park-002.jpg
END:VEVENT
END:VCALENDAR