BEGIN:VCALENDAR
VERSION:2.0
PRODID:-//Käerjeng - ECPv6.15.17.1//NONSGML v1.0//EN
CALSCALE:GREGORIAN
METHOD:PUBLISH
X-WR-CALNAME:Käerjeng
X-ORIGINAL-URL:https://www.kaerjeng.lu
X-WR-CALDESC:Évènements pour Käerjeng
REFRESH-INTERVAL;VALUE=DURATION:PT1H
X-Robots-Tag:noindex
X-PUBLISHED-TTL:PT1H
BEGIN:VTIMEZONE
TZID:Europe/Luxembourg
BEGIN:DAYLIGHT
TZOFFSETFROM:+0100
TZOFFSETTO:+0200
TZNAME:CEST
DTSTART:20210328T010000
END:DAYLIGHT
BEGIN:STANDARD
TZOFFSETFROM:+0200
TZOFFSETTO:+0100
TZNAME:CET
DTSTART:20211031T010000
END:STANDARD
BEGIN:DAYLIGHT
TZOFFSETFROM:+0100
TZOFFSETTO:+0200
TZNAME:CEST
DTSTART:20220327T010000
END:DAYLIGHT
BEGIN:STANDARD
TZOFFSETFROM:+0200
TZOFFSETTO:+0100
TZNAME:CET
DTSTART:20221030T010000
END:STANDARD
BEGIN:DAYLIGHT
TZOFFSETFROM:+0100
TZOFFSETTO:+0200
TZNAME:CEST
DTSTART:20230326T010000
END:DAYLIGHT
BEGIN:STANDARD
TZOFFSETFROM:+0200
TZOFFSETTO:+0100
TZNAME:CET
DTSTART:20231029T010000
END:STANDARD
END:VTIMEZONE
BEGIN:VEVENT
DTSTART;TZID=Europe/Luxembourg:20221119T080000
DTEND;TZID=Europe/Luxembourg:20221119T120000
DTSTAMP:20260424T171506
CREATED:20221018T070709Z
LAST-MODIFIED:20221018T070744Z
UID:10001038-1668844800-1668859200@www.kaerjeng.lu
SUMMARY:Repair Café - Gemeng Käerjeng
DESCRIPTION:
URL:https://www.kaerjeng.lu/evenement/repair-cafe-gemeng-kaerjeng/
LOCATION:Bascharage – Eco Center
CATEGORIES:Agenda
ATTACH;FMTTYPE=image/jpeg:https://www.kaerjeng.lu/wp-content/uploads/2022/10/Pages-de-info-aktuell_A4_09-22_repair-cafe-BAT-3.jpg
END:VEVENT
BEGIN:VEVENT
DTSTART;TZID=Europe/Luxembourg:20221119T140000
DTEND;TZID=Europe/Luxembourg:20221120T200000
DTSTAMP:20260424T171506
CREATED:20221018T071048Z
LAST-MODIFIED:20221031T095507Z
UID:10001039-1668866400-1668974400@www.kaerjeng.lu
SUMMARY:Wantermaart - Guiden a Scouten Käerjeng
DESCRIPTION:
URL:https://www.kaerjeng.lu/evenement/adventsbazar-guiden-a-scouten-kaerjeng/
LOCATION:Clemency – Scoutshome\, 1\, rue de la Gare\, Clemency\, 4966\, Luxembourg
CATEGORIES:Agenda
ATTACH;FMTTYPE=image/jpeg:https://www.kaerjeng.lu/wp-content/uploads/2022/10/Wantermaart-GS-2022.jpg
END:VEVENT
BEGIN:VEVENT
DTSTART;TZID=Europe/Luxembourg:20221119T190000
DTEND;TZID=Europe/Luxembourg:20221119T230000
DTSTAMP:20260424T171506
CREATED:20220920T075555Z
LAST-MODIFIED:20221107T101746Z
UID:10001033-1668884400-1668898800@www.kaerjeng.lu
SUMMARY:Kéisowend - Harmonie Kéinzig
DESCRIPTION:
URL:https://www.kaerjeng.lu/evenement/keisowend-harmonie-keinzig/
LOCATION:Clemency – Salle des Fêtes
CATEGORIES:Agenda
ATTACH;FMTTYPE=image/jpeg:https://www.kaerjeng.lu/wp-content/uploads/2022/11/Keisowend-2022.jpg
END:VEVENT
BEGIN:VEVENT
DTSTART;TZID=Europe/Luxembourg:20221119T190000
DTEND;TZID=Europe/Luxembourg:20221119T233000
DTSTAMP:20260424T171506
CREATED:20221028T091415Z
LAST-MODIFIED:20221028T142143Z
UID:10001053-1668884400-1668900600@www.kaerjeng.lu
SUMMARY:KaBoulette Bal - KaBoule Asbl
DESCRIPTION:
URL:https://www.kaerjeng.lu/evenement/kaboulette-bal-kaboule-asbl/
LOCATION:Bascharage – Café des Sports
CATEGORIES:Agenda
ATTACH;FMTTYPE=image/jpeg:https://www.kaerjeng.lu/wp-content/uploads/2022/10/Kaboulette-Bal.jpg
END:VEVENT
END:VCALENDAR